BEGIN:VCALENDAR
VERSION:2.0
PRODID:-//First United Methodist Church of Evanston, IL - ECPv6.15.20//NONSGML v1.0//EN
CALSCALE:GREGORIAN
METHOD:PUBLISH
X-ORIGINAL-URL:https://faithatfirst.org
X-WR-CALDESC:Events for First United Methodist Church of Evanston, IL
REFRESH-INTERVAL;VALUE=DURATION:PT1H
X-Robots-Tag:noindex
X-PUBLISHED-TTL:PT1H
BEGIN:VTIMEZONE
TZID:America/Chicago
BEGIN:DAYLIGHT
TZOFFSETFROM:-0600
TZOFFSETTO:-0500
TZNAME:CDT
DTSTART:20250309T080000
END:DAYLIGHT
BEGIN:STANDARD
TZOFFSETFROM:-0500
TZOFFSETTO:-0600
TZNAME:CST
DTSTART:20251102T070000
END:STANDARD
BEGIN:DAYLIGHT
TZOFFSETFROM:-0600
TZOFFSETTO:-0500
TZNAME:CDT
DTSTART:20260308T080000
END:DAYLIGHT
BEGIN:STANDARD
TZOFFSETFROM:-0500
TZOFFSETTO:-0600
TZNAME:CST
DTSTART:20261101T070000
END:STANDARD
BEGIN:DAYLIGHT
TZOFFSETFROM:-0600
TZOFFSETTO:-0500
TZNAME:CDT
DTSTART:20270314T080000
END:DAYLIGHT
BEGIN:STANDARD
TZOFFSETFROM:-0500
TZOFFSETTO:-0600
TZNAME:CST
DTSTART:20271107T070000
END:STANDARD
END:VTIMEZONE
BEGIN:VEVENT
DTSTART;TZID=America/Chicago:20260426T103000
DTEND;TZID=America/Chicago:20260426T113000
DTSTAMP:20260424T222046
CREATED:20260319T155328Z
LAST-MODIFIED:20260319T155328Z
UID:10011712-1777199400-1777203000@faithatfirst.org
SUMMARY:The Story of Our Lives Worship Series
DESCRIPTION:This Easter season\, we follow the risen Jesus through stories—stories of confusion and recognition\, fear and courage\, friendship and hope. Before the disciples become the leaders of the church\, they are simply people trying to find words for an experience that has changed everything. As we listen again to these resurrection stories\, we’ll discover how our own lives are woven into God’s ongoing story—shaping us to live with honesty\, connection\, and hope in a world still longing for good news. Join us each week for worship and opportunities to practice telling and living this story together.
URL:https://faithatfirst.org/event/the-story-of-our-lives-worship-series/2026-04-26/
LOCATION:Sanctuary
END:VEVENT
BEGIN:VEVENT
DTSTART;TZID=America/Chicago:20260426T103000
DTEND;TZID=America/Chicago:20260426T120000
DTSTAMP:20260424T222046
CREATED:20250213T171632Z
LAST-MODIFIED:20250213T171702Z
UID:10008806-1777199400-1777204800@faithatfirst.org
SUMMARY:Worship in the Sanctuary
DESCRIPTION:Please find up to date information about this Sunday here.
URL:https://faithatfirst.org/event/worship-in-the-sanctuary-3/2026-04-26/
LOCATION:Sanctuary
END:VEVENT
BEGIN:VEVENT
DTSTART;TZID=America/Chicago:20260530T170000
DTEND;TZID=America/Chicago:20260530T230000
DTSTAMP:20260424T222046
CREATED:20260308T142025Z
LAST-MODIFIED:20260308T142025Z
UID:10011646-1780160400-1780182000@faithatfirst.org
SUMMARY:Cornell University Glee Club
DESCRIPTION:
URL:https://faithatfirst.org/event/cornell-university-glee-club/
LOCATION:Sanctuary
END:VEVENT
BEGIN:VEVENT
DTSTART;TZID=America/Chicago:20260601T160000
DTEND;TZID=America/Chicago:20260601T180000
DTSTAMP:20260424T222046
CREATED:20260421T183046Z
LAST-MODIFIED:20260421T183046Z
UID:10012223-1780329600-1780336800@faithatfirst.org
SUMMARY:Piano Recital
DESCRIPTION:
URL:https://faithatfirst.org/event/piano-recital/
LOCATION:Sanctuary
END:VEVENT
END:VCALENDAR