BEGIN:VCALENDAR
VERSION:2.0
PRODID:-//First United Methodist Church of Evanston, IL - ECPv6.15.20//NONSGML v1.0//EN
CALSCALE:GREGORIAN
METHOD:PUBLISH
X-WR-CALNAME:First United Methodist Church of Evanston, IL
X-ORIGINAL-URL:https://faithatfirst.org
X-WR-CALDESC:Events for First United Methodist Church of Evanston, IL
REFRESH-INTERVAL;VALUE=DURATION:PT1H
X-Robots-Tag:noindex
X-PUBLISHED-TTL:PT1H
BEGIN:VTIMEZONE
TZID:UTC
BEGIN:STANDARD
TZOFFSETFROM:+0000
TZOFFSETTO:+0000
TZNAME:UTC
DTSTART:20210101T000000
END:STANDARD
END:VTIMEZONE
BEGIN:VEVENT
DTSTART;TZID=UTC:20250525T091500
DTEND;TZID=UTC:20250525T101500
DTSTAMP:20260422T030130
CREATED:20250529T180909Z
LAST-MODIFIED:20250529T180910Z
UID:10007472-1748164500-1748168100@faithatfirst.org
SUMMARY:Adult Education- Faith & Parenting
DESCRIPTION:Faith & Parenting offers a weekly space for parents of children at all stages to share and reflect on how their personal and familial faith journeys are nurtured and challenged through the vocation of parenting. Brief guided reflections based on scriptures shared in Children’s Sunday school will accompany each session.
URL:https://faithatfirst.org/event/faith-parenting-2-2/
LOCATION:Room 24
END:VEVENT
BEGIN:VEVENT
DTSTART;TZID=UTC:20250525T091500
DTEND;TZID=UTC:20250525T101500
DTSTAMP:20260422T030130
CREATED:20241009T143146Z
LAST-MODIFIED:20250502T000146Z
UID:10007470-1748164500-1748168100@faithatfirst.org
SUMMARY:Adult Education- Faith & Parenting
DESCRIPTION:Faith & Parenting offers a weekly space for parents of children at all stages to share and reflect on how their personal and familial faith journeys are nurtured and challenged through the vocation of parenting. Brief guided reflections based on scriptures shared in Children’s Sunday school will accompany each session.
URL:https://faithatfirst.org/event/faith-parenting-2/2025-05-25/
LOCATION:Room 24
END:VEVENT
BEGIN:VEVENT
DTSTART;TZID=UTC:20221211T091500
DTEND;TZID=UTC:20221211T101500
DTSTAMP:20260422T030130
CREATED:20221124T005731Z
LAST-MODIFIED:20221124T005731Z
UID:10003345-1670750100-1670753700@faithatfirst.org
SUMMARY:One Church One Book led by Lisa Gresch
DESCRIPTION:Designed for parents\, guardians\, caregivers and mentors of children (grades K-5). Lisa will introduce parents to strategies for having deeper conversations with their children about family values\, faith\, and social justice as they read different stories. On December 4\, we will discuss how to use these strategies with our One Book\, The Day You Begin by Jacqueline Woodson. On December 11\, we will discuss strategies to use with the Bible’s Christmas story. Join us as we dive deeper into literature and scripture! Each in-person class session runs from 9:15-10:15 a.m. Contact Colin McDonald at colin@faithatfirst.com with questions.
URL:https://faithatfirst.org/event/one-church-one-book-led-by-lisa-gresch-2/
LOCATION:Room 24
END:VEVENT
BEGIN:VEVENT
DTSTART;TZID=UTC:20221204T091500
DTEND;TZID=UTC:20221204T101500
DTSTAMP:20260422T030130
CREATED:20221124T005639Z
LAST-MODIFIED:20221124T005639Z
UID:10003344-1670145300-1670148900@faithatfirst.org
SUMMARY:One Church One Book led by Lisa Gresch
DESCRIPTION:Designed for parents\, guardians\, caregivers and mentors of children (grades K-5). Lisa will introduce parents to strategies for having deeper conversations with their children about family values\, faith\, and social justice as they read different stories. On December 4\, we will discuss how to use these strategies with our One Book\, The Day You Begin by Jacqueline Woodson. On December 11\, we will discuss strategies to use with the Bible’s Christmas story. Join us as we dive deeper into literature and scripture! Each in-person class session runs from 9:15-10:15 a.m. Contact Colin McDonald at colin@faithatfirst.com with questions.
URL:https://faithatfirst.org/event/one-church-one-book-led-by-lisa-gresch/
LOCATION:Room 24
END:VEVENT
END:VCALENDAR