BEGIN:VCALENDAR
VERSION:2.0
PRODID:-//First United Methodist Church of Evanston, IL - ECPv6.15.20//NONSGML v1.0//EN
CALSCALE:GREGORIAN
METHOD:PUBLISH
X-ORIGINAL-URL:https://faithatfirst.org
X-WR-CALDESC:Events for First United Methodist Church of Evanston, IL
REFRESH-INTERVAL;VALUE=DURATION:PT1H
X-Robots-Tag:noindex
X-PUBLISHED-TTL:PT1H
BEGIN:VTIMEZONE
TZID:America/Chicago
BEGIN:DAYLIGHT
TZOFFSETFROM:-0600
TZOFFSETTO:-0500
TZNAME:CDT
DTSTART:20230312T080000
END:DAYLIGHT
BEGIN:STANDARD
TZOFFSETFROM:-0500
TZOFFSETTO:-0600
TZNAME:CST
DTSTART:20231105T070000
END:STANDARD
BEGIN:DAYLIGHT
TZOFFSETFROM:-0600
TZOFFSETTO:-0500
TZNAME:CDT
DTSTART:20240310T080000
END:DAYLIGHT
BEGIN:STANDARD
TZOFFSETFROM:-0500
TZOFFSETTO:-0600
TZNAME:CST
DTSTART:20241103T070000
END:STANDARD
BEGIN:DAYLIGHT
TZOFFSETFROM:-0600
TZOFFSETTO:-0500
TZNAME:CDT
DTSTART:20250309T080000
END:DAYLIGHT
BEGIN:STANDARD
TZOFFSETFROM:-0500
TZOFFSETTO:-0600
TZNAME:CST
DTSTART:20251102T070000
END:STANDARD
BEGIN:DAYLIGHT
TZOFFSETFROM:-0600
TZOFFSETTO:-0500
TZNAME:CDT
DTSTART:20260308T080000
END:DAYLIGHT
BEGIN:STANDARD
TZOFFSETFROM:-0500
TZOFFSETTO:-0600
TZNAME:CST
DTSTART:20261101T070000
END:STANDARD
BEGIN:DAYLIGHT
TZOFFSETFROM:-0600
TZOFFSETTO:-0500
TZNAME:CDT
DTSTART:20270314T080000
END:DAYLIGHT
BEGIN:STANDARD
TZOFFSETFROM:-0500
TZOFFSETTO:-0600
TZNAME:CST
DTSTART:20271107T070000
END:STANDARD
END:VTIMEZONE
BEGIN:VTIMEZONE
TZID:UTC
BEGIN:STANDARD
TZOFFSETFROM:+0000
TZOFFSETTO:+0000
TZNAME:UTC
DTSTART:20220101T000000
END:STANDARD
END:VTIMEZONE
BEGIN:VEVENT
DTSTART;TZID=America/Chicago:20260422T190000
DTEND;TZID=America/Chicago:20260422T203000
DTSTAMP:20260423T025636
CREATED:20250922T185655Z
LAST-MODIFIED:20250922T185655Z
UID:10010932-1776884400-1776889800@faithatfirst.org
SUMMARY:Membership Committee Meeting
DESCRIPTION:The Membership Committee meets monthly to discuss ideas and work on strategies to encourage member and visitor engagement in First Church worship\, programs\, and other opportunities. Please address any questions about this committee and its work to Lynelle Diener\, Chair.
URL:https://faithatfirst.org/event/membership-committee-meeting-7/2026-04-22/
LOCATION:Conference Room
END:VEVENT
BEGIN:VEVENT
DTSTART;TZID=America/Chicago:20260422T110000
DTEND;TZID=America/Chicago:20260422T123000
DTSTAMP:20260423T025636
CREATED:20240904T190639Z
LAST-MODIFIED:20240904T190639Z
UID:10007013-1776855600-1776861000@faithatfirst.org
SUMMARY:Staff Meeting
DESCRIPTION:
URL:https://faithatfirst.org/event/staff-meeting-62/2026-04-22/
LOCATION:Conference Room
ORGANIZER;CN="Pastor Britt Cox":MAILTO:britt@faithatfirst.com
END:VEVENT
BEGIN:VEVENT
DTSTART;TZID=America/Chicago:20260419T113000
DTEND;TZID=America/Chicago:20260419T123000
DTSTAMP:20260423T025636
CREATED:20241209T180901Z
LAST-MODIFIED:20241209T180901Z
UID:10008187-1776598200-1776601800@faithatfirst.org
SUMMARY:Church Offering Counting
DESCRIPTION:
URL:https://faithatfirst.org/event/church-offering-counting/2026-04-19/
LOCATION:Conference Room
END:VEVENT
BEGIN:VEVENT
DTSTART;TZID=America/Chicago:20260419T091500
DTEND;TZID=America/Chicago:20260419T101500
DTSTAMP:20260423T025636
CREATED:20250905T023256Z
LAST-MODIFIED:20250905T151229Z
UID:10010285-1776590100-1776593700@faithatfirst.org
SUMMARY:History\, Roots\, & Rearview Mirror
DESCRIPTION:History\, Roots and a Rearview Mirror will use insight and discussion to understand our roots and history to have a rearview mirror of our story. The class will begin with a two-week unit on First Church history; followed by a four-week unit on church history under Constantine; a two-week unit on history of human sexuality in the UMC; a two-week unit on the history of race and racism in the UMC; and finish the year on Advent with the Wesleys. \nRealm Registration Event. 
URL:https://faithatfirst.org/event/history-roots-rearview-mirror/2026-04-19/
LOCATION:Conference Room
END:VEVENT
BEGIN:VEVENT
DTSTART;TZID=America/Chicago:20260409T183000
DTEND;TZID=America/Chicago:20260409T200000
DTSTAMP:20260423T025636
CREATED:20250814T165049Z
LAST-MODIFIED:20250814T165049Z
UID:10009799-1775759400-1775764800@faithatfirst.org
SUMMARY:Board of Trustees meeting
DESCRIPTION:Reserving the Conference Room on 9/4\, 11/6\, 4/9\, & 6/4. \nThe other meetings will be via Zoom.
URL:https://faithatfirst.org/event/board-of-trustees-meeting-2/2026-04-09/
LOCATION:Conference Room
END:VEVENT
BEGIN:VEVENT
DTSTART;TZID=America/Chicago:20260308T120000
DTEND;TZID=America/Chicago:20260308T130000
DTSTAMP:20260423T025636
CREATED:20260210T195020Z
LAST-MODIFIED:20260210T195020Z
UID:10011565-1772971200-1772974800@faithatfirst.org
SUMMARY:Youth Council
DESCRIPTION:
URL:https://faithatfirst.org/event/youth-council-2/2026-03-08/
LOCATION:Conference Room
END:VEVENT
BEGIN:VEVENT
DTSTART;TZID=America/Chicago:20260208T120000
DTEND;TZID=America/Chicago:20260208T130000
DTSTAMP:20260423T025636
CREATED:20260210T184732Z
LAST-MODIFIED:20260210T184732Z
UID:10011553-1770552000-1770555600@faithatfirst.org
SUMMARY:Team Meeting
DESCRIPTION:
URL:https://faithatfirst.org/event/team-meeting/
LOCATION:Conference Room
END:VEVENT
BEGIN:VEVENT
DTSTART;TZID=America/Chicago:20251118T193000
DTEND;TZID=America/Chicago:20251118T203000
DTSTAMP:20260423T025636
CREATED:20250919T163432Z
LAST-MODIFIED:20250919T163432Z
UID:10010870-1763494200-1763497800@faithatfirst.org
SUMMARY:Communications Committee Meeting
DESCRIPTION:
URL:https://faithatfirst.org/event/communications-committee-meeting-11/2025-11-18/
LOCATION:Conference Room
END:VEVENT
BEGIN:VEVENT
DTSTART;TZID=America/Chicago:20251109T120000
DTEND;TZID=America/Chicago:20251109T130000
DTSTAMP:20260423T025636
CREATED:20250923T194643Z
LAST-MODIFIED:20250923T194643Z
UID:10010940-1762689600-1762693200@faithatfirst.org
SUMMARY:Youth Council
DESCRIPTION:
URL:https://faithatfirst.org/event/youth-council/
LOCATION:Conference Room
END:VEVENT
BEGIN:VEVENT
DTSTART;TZID=America/Chicago:20250914T120000
DTEND;TZID=America/Chicago:20250914T130000
DTSTAMP:20260423T025636
CREATED:20250801T162450Z
LAST-MODIFIED:20250801T162450Z
UID:10009781-1757851200-1757854800@faithatfirst.org
SUMMARY:Youth Council Meeting
DESCRIPTION:
URL:https://faithatfirst.org/event/youth-council-meeting/
LOCATION:Conference Room
END:VEVENT
BEGIN:VEVENT
DTSTART;TZID=America/Chicago:20250910T190000
DTEND;TZID=America/Chicago:20250910T203000
DTSTAMP:20260423T025636
CREATED:20250909T183211Z
LAST-MODIFIED:20250909T183211Z
UID:10010565-1757530800-1757536200@faithatfirst.org
SUMMARY:Membership Comm Meeting
DESCRIPTION:
URL:https://faithatfirst.org/event/membership-comm-meeting/
LOCATION:Conference Room
END:VEVENT
BEGIN:VEVENT
DTSTART;TZID=America/Chicago:20250904T150000
DTEND;TZID=America/Chicago:20250904T160000
DTSTAMP:20260423T025636
CREATED:20250909T183333Z
LAST-MODIFIED:20250909T183333Z
UID:10010566-1756998000-1757001600@faithatfirst.org
SUMMARY:Membership Comm Leader meeting
DESCRIPTION:
URL:https://faithatfirst.org/event/membership-comm-leader-meeting/
LOCATION:Conference Room
END:VEVENT
BEGIN:VEVENT
DTSTART;TZID=America/Chicago:20250821T140000
DTEND;TZID=America/Chicago:20250821T153000
DTSTAMP:20260423T025636
CREATED:20250801T162641Z
LAST-MODIFIED:20250801T162641Z
UID:10009782-1755784800-1755790200@faithatfirst.org
SUMMARY:Youth Collaboration Meeting
DESCRIPTION:
URL:https://faithatfirst.org/event/youth-collaboration-meeting/
LOCATION:Conference Room
END:VEVENT
BEGIN:VEVENT
DTSTART;TZID=America/Chicago:20250803T101500
DTEND;TZID=America/Chicago:20250803T113000
DTSTAMP:20260423T025636
CREATED:20250801T162316Z
LAST-MODIFIED:20250801T162316Z
UID:10009780-1754216100-1754220600@faithatfirst.org
SUMMARY:Earth Care Committee Meeting
DESCRIPTION:
URL:https://faithatfirst.org/event/earth-care-committee-meeting-3/
LOCATION:Conference Room
END:VEVENT
BEGIN:VEVENT
DTSTART;TZID=America/Chicago:20250718T100000
DTEND;TZID=America/Chicago:20250718T120000
DTSTAMP:20260423T025636
CREATED:20250715T200310Z
LAST-MODIFIED:20250715T200310Z
UID:10009620-1752832800-1752840000@faithatfirst.org
SUMMARY:Race and Ethnicity Committee Meeting
DESCRIPTION:
URL:https://faithatfirst.org/event/race-and-ethnicity-committee-meeting/
LOCATION:Conference Room
END:VEVENT
BEGIN:VEVENT
DTSTART;TZID=America/Chicago:20250713T100000
DTEND;TZID=America/Chicago:20250713T120000
DTSTAMP:20260423T025636
CREATED:20250711T184115Z
LAST-MODIFIED:20250711T184115Z
UID:10009558-1752400800-1752408000@faithatfirst.org
SUMMARY:Earth Care Committee
DESCRIPTION:
URL:https://faithatfirst.org/event/earth-care-committee/
LOCATION:Conference Room
END:VEVENT
BEGIN:VEVENT
DTSTART;TZID=America/Chicago:20250622T133000
DTEND;TZID=America/Chicago:20250622T143000
DTSTAMP:20260423T025636
CREATED:20250529T173642Z
LAST-MODIFIED:20250529T173642Z
UID:10009415-1750599000-1750602600@faithatfirst.org
SUMMARY:Music Ministry
DESCRIPTION:
URL:https://faithatfirst.org/event/music-ministry/
LOCATION:Conference Room
END:VEVENT
BEGIN:VEVENT
DTSTART;TZID=America/Chicago:20250205T120000
DTEND;TZID=America/Chicago:20250205T133000
DTSTAMP:20260423T025636
CREATED:20250123T184423Z
LAST-MODIFIED:20250123T184423Z
UID:10008538-1738756800-1738762200@faithatfirst.org
SUMMARY:Staff Focus Group
DESCRIPTION:
URL:https://faithatfirst.org/event/staff-focus-group/
LOCATION:Conference Room
END:VEVENT
BEGIN:VEVENT
DTSTART;TZID=America/Chicago:20250127T190000
DTEND;TZID=America/Chicago:20250127T203000
DTSTAMP:20260423T025636
CREATED:20250124T163629Z
LAST-MODIFIED:20250124T163629Z
UID:10008539-1738004400-1738009800@faithatfirst.org
SUMMARY:Bundled Blessings Diaper Bank Committee Meeting
DESCRIPTION:Bundled Blessings Diaper Bank Committee Meeting will take place on Mon. Jan. 27 from 7-8:30 pm at church.
URL:https://faithatfirst.org/event/bundled-blessings-diaper-bank-committee-meeting/
LOCATION:Conference Room
END:VEVENT
BEGIN:VEVENT
DTSTART;TZID=America/Chicago:20241021T190000
DTEND;TZID=America/Chicago:20241021T203000
DTSTAMP:20260423T025636
CREATED:20240828T205528Z
LAST-MODIFIED:20240828T205528Z
UID:10006813-1729537200-1729542600@faithatfirst.org
SUMMARY:Bundled Blessings Committee Meeting
DESCRIPTION:
URL:https://faithatfirst.org/event/bundled-blessings-committee-meeting-8/
LOCATION:Conference Room
ORGANIZER;CN="Nancy Brown":MAILTO:nandbrown@comcast.net
END:VEVENT
BEGIN:VEVENT
DTSTART;TZID=America/Chicago:20240923T190000
DTEND;TZID=America/Chicago:20240923T203000
DTSTAMP:20260423T025636
CREATED:20240828T205622Z
LAST-MODIFIED:20240828T205622Z
UID:10006814-1727118000-1727123400@faithatfirst.org
SUMMARY:Bundled Blessings Committee Meeting
DESCRIPTION:
URL:https://faithatfirst.org/event/bundled-blessings-committee-meeting-9/
LOCATION:Conference Room
ORGANIZER;CN="Nancy Brown":MAILTO:nandbrown@comcast.net
END:VEVENT
BEGIN:VEVENT
DTSTART;TZID=UTC:20240612T190000
DTEND;TZID=UTC:20240612T201500
DTSTAMP:20260423T025636
CREATED:20230901T202623Z
LAST-MODIFIED:20230901T202623Z
UID:10005021-1718218800-1718223300@faithatfirst.org
SUMMARY:Membership Committee Meeting
DESCRIPTION:Monthly meeting of the Membership Committee Please address questions to Mark Henry\, Chair\, at mark.g.henry@gmail.com .
URL:https://faithatfirst.org/event/membership-committee-meeting-4/2024-06-12/
LOCATION:Conference Room
END:VEVENT
BEGIN:VEVENT
DTSTART;TZID=UTC:20240604T190000
DTEND;TZID=UTC:20240604T200000
DTSTAMP:20260423T025636
CREATED:20230818T200903Z
LAST-MODIFIED:20230818T200903Z
UID:10004357-1717527600-1717531200@faithatfirst.org
SUMMARY:Mission & Outreach Committee Meeting
DESCRIPTION:Mission & Outreach Committee Meeting. Monthly meetings are open to members of the committee. Hosted by Alli Henry\, alli.m.henry@gmail.com.
URL:https://faithatfirst.org/event/mission-outreach-committee-meeting-4/2024-06-04/
LOCATION:Conference Room
END:VEVENT
BEGIN:VEVENT
DTSTART;TZID=UTC:20240521T190000
DTEND;TZID=UTC:20240521T203000
DTSTAMP:20260423T025636
CREATED:20230818T202215Z
LAST-MODIFIED:20230818T202215Z
UID:10004390-1716318000-1716323400@faithatfirst.org
SUMMARY:Adult Christian Education Council
DESCRIPTION:A meeting of the Adult Christian Education Council. The contacts are\nAllison Greer allison.greer123@gmail.com\nHenry Carrigan carjrn@aol.com
URL:https://faithatfirst.org/event/adult-christian-education-council/2024-05-21/
LOCATION:Conference Room
END:VEVENT
BEGIN:VEVENT
DTSTART;TZID=America/Chicago:20240421T133000
DTEND;TZID=America/Chicago:20240421T143000
DTSTAMP:20260423T025636
CREATED:20240307T172132Z
LAST-MODIFIED:20240307T172132Z
UID:10005800-1713706200-1713709800@faithatfirst.org
SUMMARY:AGO Meeting
DESCRIPTION:
URL:https://faithatfirst.org/event/ago-meeting/
LOCATION:Conference Room
END:VEVENT
BEGIN:VEVENT
DTSTART;TZID=America/Chicago:20240407T091500
DTEND;TZID=America/Chicago:20240407T101500
DTSTAMP:20260423T025636
CREATED:20240319T190706Z
LAST-MODIFIED:20240319T190706Z
UID:10005812-1712481300-1712484900@faithatfirst.org
SUMMARY:Grief Support Group
DESCRIPTION:We are pleased to announce that Jim McHolland\, Ph.D. and Licensed Clinical Psychologist\, and Beth Swanick\, Ed.D. and Licensed Professional Counselor\, will again facilitate a three-week class for members and friends of First Church who are experiencing grief. Jim and Beth are both members of FUMC Evanston\, and have offered this class several times over recent years. This grief may be due to the loss of a loved one\, or loss associated with any major life change such as job loss\, serious health diagnosis\, anticipatory grief\, recent financial insecurity\, change in relationship status\, or similar difficulty. This class will meet in person at 9:15 on Sundays\, March 17\, 24\, and April 7. Please email Beth Swanick (bethswanick@gmail.com) with questions or to RSVP.
URL:https://faithatfirst.org/event/grief-support-group/2024-04-07/
LOCATION:Conference Room
END:VEVENT
BEGIN:VEVENT
DTSTART;TZID=America/Chicago:20240310T113500
DTEND;TZID=America/Chicago:20240310T123000
DTSTAMP:20260423T025636
CREATED:20240229T180515Z
LAST-MODIFIED:20240229T181359Z
UID:10005788-1710070500-1710073800@faithatfirst.org
SUMMARY:First Church Ministry Tour
DESCRIPTION:Whether you are a new visitor or someone who has been worshipping here for over a year\, we invite you to further explore First Church.  This ministry tour is a great way to learn more about this faith community.  For those who are curious about membership\, this tour is also the first step in the membership process.   \nFirst Church Ministry Tour  \nSunday\, Nov. 10\, immediately following worship \nMeet outside the church office for this 45-minute tour. \n\n\n\n\nPlease RSVP here.  (If you are interested but can’t make it\, please use the RSVP form to indicate your availability for an alternate time.)  \n\n\n\n\nThis tour is an opportunity for First Church visitors to explore who we are as a congregation and what we do in addition to 10:30 worship on Sundays. On the tour participants will:  \n\nLearn about our primary ministries:  Mission and Outreach programs such as Soup Kitchen\, Sack Lunch Ministry\, and our Overnight Shelter; Children’s and Youth Ministries\, Adult classes\, Bible studies\, and groups; Music Ministry; Fellowship groups and opportunities; Congregational Care. \nConsider some key facts around First Church history\, our identity as a Reconciling Congregation and member of Interfaith Action of Evanston; and our membership. \nVisit rooms on multiple floors where\, as Pastor Grace says\, “the magic happens!” — and learn where the bathrooms are! (Note that walking is involved\, and access to other floors via the elevator is an option to stairs.) \n\nBefore and after the tour\, information about membership and the upcoming Inquirers Class will be available.  Questions are always welcome.  \nMary Taylor-Johnson\, Director of Communications and Membership\, mary@faithatfirst.com
URL:https://faithatfirst.org/event/first-church-ministry-tour-3/
LOCATION:Conference Room
ATTACH;FMTTYPE=image/png:https://faithatfirst.org/wp-content/uploads/2024/02/Untitled-design-50.png
ORGANIZER;CN="Mary Taylor-Johnson":MAILTO:mary@faithatfirst.com
END:VEVENT
BEGIN:VEVENT
DTSTART;TZID=UTC:20231029T114500
DTEND;TZID=UTC:20231029T130000
DTSTAMP:20260423T025636
CREATED:20231026T004721Z
LAST-MODIFIED:20231026T004721Z
UID:10005543-1698579900-1698584400@faithatfirst.org
SUMMARY:Nominations & Leadership Dev. Committee Meeting
DESCRIPTION:The Nominations & Leadership Development Committee is led by Pastor Grace Imathiu (chair) and Mike Bergmann (vice chair).
URL:https://faithatfirst.org/event/nominations-leadership-dev-committee-meeting/
LOCATION:Conference Room
END:VEVENT
BEGIN:VEVENT
DTSTART;TZID=UTC:20230907T190000
DTEND;TZID=UTC:20230907T200000
DTSTAMP:20260423T025636
CREATED:20230818T200653Z
LAST-MODIFIED:20230818T200711Z
UID:10004348-1694113200-1694116800@faithatfirst.org
SUMMARY:Mission & Outreach Committee Meeting
DESCRIPTION:Mission & Outreach Committee Meeting. Monthly meetings are open to members of the committee. Hosted by Alli Henry\, alli.m.henry@gmail.com.
URL:https://faithatfirst.org/event/mission-outreach-committee-meeting-3/
LOCATION:Conference Room
END:VEVENT
BEGIN:VEVENT
DTSTART;TZID=UTC:20230830T160000
DTEND;TZID=UTC:20230830T170000
DTSTAMP:20260423T025636
CREATED:20230825T202901Z
LAST-MODIFIED:20230825T202901Z
UID:10004394-1693411200-1693414800@faithatfirst.org
SUMMARY:Realm Task Force
DESCRIPTION:
URL:https://faithatfirst.org/event/realm-task-force/
LOCATION:Conference Room
END:VEVENT
END:VCALENDAR