BEGIN:VCALENDAR
VERSION:2.0
PRODID:-//First United Methodist Church of Evanston, IL - ECPv6.15.20//NONSGML v1.0//EN
CALSCALE:GREGORIAN
METHOD:PUBLISH
X-WR-CALNAME:First United Methodist Church of Evanston, IL
X-ORIGINAL-URL:https://faithatfirst.org
X-WR-CALDESC:Events for First United Methodist Church of Evanston, IL
REFRESH-INTERVAL;VALUE=DURATION:PT1H
X-Robots-Tag:noindex
X-PUBLISHED-TTL:PT1H
BEGIN:VTIMEZONE
TZID:America/Chicago
BEGIN:DAYLIGHT
TZOFFSETFROM:-0600
TZOFFSETTO:-0500
TZNAME:CDT
DTSTART:20230312T080000
END:DAYLIGHT
BEGIN:STANDARD
TZOFFSETFROM:-0500
TZOFFSETTO:-0600
TZNAME:CST
DTSTART:20231105T070000
END:STANDARD
BEGIN:DAYLIGHT
TZOFFSETFROM:-0600
TZOFFSETTO:-0500
TZNAME:CDT
DTSTART:20240310T080000
END:DAYLIGHT
BEGIN:STANDARD
TZOFFSETFROM:-0500
TZOFFSETTO:-0600
TZNAME:CST
DTSTART:20241103T070000
END:STANDARD
BEGIN:DAYLIGHT
TZOFFSETFROM:-0600
TZOFFSETTO:-0500
TZNAME:CDT
DTSTART:20250309T080000
END:DAYLIGHT
BEGIN:STANDARD
TZOFFSETFROM:-0500
TZOFFSETTO:-0600
TZNAME:CST
DTSTART:20251102T070000
END:STANDARD
BEGIN:DAYLIGHT
TZOFFSETFROM:-0600
TZOFFSETTO:-0500
TZNAME:CDT
DTSTART:20260308T080000
END:DAYLIGHT
BEGIN:STANDARD
TZOFFSETFROM:-0500
TZOFFSETTO:-0600
TZNAME:CST
DTSTART:20261101T070000
END:STANDARD
END:VTIMEZONE
BEGIN:VTIMEZONE
TZID:UTC
BEGIN:STANDARD
TZOFFSETFROM:+0000
TZOFFSETTO:+0000
TZNAME:UTC
DTSTART:20220101T000000
END:STANDARD
END:VTIMEZONE
BEGIN:VEVENT
DTSTART;TZID=America/Chicago:20250507T080000
DTEND;TZID=America/Chicago:20250507T170000
DTSTAMP:20260422T071146
CREATED:20250216T203241Z
LAST-MODIFIED:20250216T203241Z
UID:10008849-1746604800-1746637200@faithatfirst.org
SUMMARY:Festival Choir Rehearsal
DESCRIPTION:Adults and high school youth from the congregation and the community rehearse in preparation of Handel’s “Messiah” (Parts II & III) for the Festival Choir Concert on May 16\, 2025. No audition is required.
URL:https://faithatfirst.org/event/festival-choir-rehearsal-21/2025-05-07/
LOCATION:Choir Room
ORGANIZER;CN="Brian Schoettler":MAILTO:brian@faithatfirst.com
END:VEVENT
BEGIN:VEVENT
DTSTART;TZID=America/Chicago:20241120T193000
DTEND;TZID=America/Chicago:20241120T201500
DTSTAMP:20260422T071146
CREATED:20240828T202058Z
LAST-MODIFIED:20240828T202058Z
UID:10006434-1732131000-1732133700@faithatfirst.org
SUMMARY:Festival Choir Rehearsal
DESCRIPTION:Adults and high school youth from the congregation and the community rehearse in preparation of Handel’s “Messiah” (Part I) for the Festival Choir Concert on Nov. 22\, 2024. No audition is required.
URL:https://faithatfirst.org/event/festival-choir-rehearsal-20/2024-11-20/
LOCATION:Choir Room
ORGANIZER;CN="Brian Schoettler":MAILTO:brian@faithatfirst.com
END:VEVENT
BEGIN:VEVENT
DTSTART;TZID=UTC:20240508T193000
DTEND;TZID=UTC:20240508T210000
DTSTAMP:20260422T071146
CREATED:20230616T001600Z
LAST-MODIFIED:20230616T001600Z
UID:10003915-1715196600-1715202000@faithatfirst.org
SUMMARY:Chancel Choir Rehearsal
DESCRIPTION:Adults and high school youth rehearse music for worship. No audition is required. Email Dr. Brian Schoettler for more information.
URL:https://faithatfirst.org/event/chancel-choir-rehearsal-90/2024-05-08/
LOCATION:Choir Room
END:VEVENT
BEGIN:VEVENT
DTSTART;TZID=America/Chicago:20240508T193000
DTEND;TZID=America/Chicago:20240508T201000
DTSTAMP:20260422T071146
CREATED:20240307T172332Z
LAST-MODIFIED:20240322T220443Z
UID:10005832-1715196600-1715199000@faithatfirst.org
SUMMARY:Festival Choir Rehearsal
DESCRIPTION:Adults and high school youth from the congregation and the community rehearse in preparation for the Festival Choir Concert on May 17\, 2024. No audition is required and music is provided at rehearsal.\nFor more information\, email brian@faithatfirst.com
URL:https://faithatfirst.org/event/festival-choir-rehearsal-17/2024-05-08/
LOCATION:Choir Room
END:VEVENT
BEGIN:VEVENT
DTSTART;TZID=UTC:20230524T193000
DTEND;TZID=UTC:20230524T210000
DTSTAMP:20260422T071146
CREATED:20230110T233306Z
LAST-MODIFIED:20230110T233306Z
UID:10003425-1684956600-1684962000@faithatfirst.org
SUMMARY:Chancel Choir Rehearsal
DESCRIPTION:SATB Choir for adults and youth in grades 9-12. New members welcome throughout the year – email brian@faithatfirst.com for more details.
URL:https://faithatfirst.org/event/chancel-choir-rehearsal-110/
LOCATION:Choir Room
END:VEVENT
BEGIN:VEVENT
DTSTART;TZID=UTC:20230517T193000
DTEND;TZID=UTC:20230517T210000
DTSTAMP:20260422T071146
CREATED:20230110T233213Z
LAST-MODIFIED:20230110T233213Z
UID:10003424-1684351800-1684357200@faithatfirst.org
SUMMARY:Chancel Choir Rehearsal
DESCRIPTION:SATB Choir for adults and youth in grades 9-12. New members welcome throughout the year – email brian@faithatfirst.com for more details.
URL:https://faithatfirst.org/event/chancel-choir-rehearsal-109/
LOCATION:Choir Room
END:VEVENT
BEGIN:VEVENT
DTSTART;TZID=UTC:20230517T193000
DTEND;TZID=UTC:20230517T201000
DTSTAMP:20260422T071146
CREATED:20230111T003404Z
LAST-MODIFIED:20230111T003404Z
UID:10002953-1684351800-1684354200@faithatfirst.org
SUMMARY:Festival Choir Rehearsal
DESCRIPTION:Festival Choir is open to adults and youth in grades 9-12. While music reading skills are needed\, no audition is required. The choir rehearses repertoire for the concert on May 19.
URL:https://faithatfirst.org/event/festival-choir-rehearsal-13/
LOCATION:Choir Room
END:VEVENT
BEGIN:VEVENT
DTSTART;TZID=UTC:20230510T193000
DTEND;TZID=UTC:20230510T210000
DTSTAMP:20260422T071146
CREATED:20230110T233128Z
LAST-MODIFIED:20230110T233128Z
UID:10003423-1683747000-1683752400@faithatfirst.org
SUMMARY:Chancel Choir Rehearsal
DESCRIPTION:SATB Choir for adults and youth in grades 9-12. New members welcome throughout the year – email brian@faithatfirst.com for more details.
URL:https://faithatfirst.org/event/chancel-choir-rehearsal-108/
LOCATION:Choir Room
END:VEVENT
BEGIN:VEVENT
DTSTART;TZID=UTC:20230510T193000
DTEND;TZID=UTC:20230510T201000
DTSTAMP:20260422T071146
CREATED:20230111T003308Z
LAST-MODIFIED:20230111T003308Z
UID:10002951-1683747000-1683749400@faithatfirst.org
SUMMARY:Festival Choir Rehearsal
DESCRIPTION:Festival Choir is open to adults and youth in grades 9-12. While music reading skills are needed\, no audition is required. The choir rehearses repertoire for the concert on May 19.
URL:https://faithatfirst.org/event/festival-choir-rehearsal-12/
LOCATION:Choir Room
END:VEVENT
BEGIN:VEVENT
DTSTART;TZID=UTC:20230510T183000
DTEND;TZID=UTC:20230510T191500
DTSTAMP:20260422T071146
CREATED:20230111T002133Z
LAST-MODIFIED:20230111T002133Z
UID:10003458-1683743400-1683746100@faithatfirst.org
SUMMARY:Handbell Choir Rehearsal
DESCRIPTION:The Handbell Choir plays in worship once each month. Basic music reading skills required (instrumentalists are especially welcome). Open to adults and youth in grades 6-12. New members welcome throughout the year – email brian@faithatfirst.com for more details.
URL:https://faithatfirst.org/event/handbell-choir-rehearsal-61/
LOCATION:Choir Room
END:VEVENT
BEGIN:VEVENT
DTSTART;TZID=UTC:20230503T193000
DTEND;TZID=UTC:20230503T210000
DTSTAMP:20260422T071146
CREATED:20230110T233022Z
LAST-MODIFIED:20230110T233022Z
UID:10003422-1683142200-1683147600@faithatfirst.org
SUMMARY:Chancel Choir Rehearsal
DESCRIPTION:SATB Choir for adults and youth in grades 9-12. New members welcome throughout the year – email brian@faithatfirst.com for more details.
URL:https://faithatfirst.org/event/chancel-choir-rehearsal-107/
LOCATION:Choir Room
END:VEVENT
BEGIN:VEVENT
DTSTART;TZID=UTC:20230503T193000
DTEND;TZID=UTC:20230503T201000
DTSTAMP:20260422T071146
CREATED:20230111T003223Z
LAST-MODIFIED:20230111T003223Z
UID:10002949-1683142200-1683144600@faithatfirst.org
SUMMARY:Festival Choir Rehearsal
DESCRIPTION:Festival Choir is open to adults and youth in grades 9-12. While music reading skills are needed\, no audition is required. The choir rehearses repertoire for the concert on May 19.
URL:https://faithatfirst.org/event/festival-choir-rehearsal-11/
LOCATION:Choir Room
END:VEVENT
BEGIN:VEVENT
DTSTART;TZID=UTC:20230503T183000
DTEND;TZID=UTC:20230503T191500
DTSTAMP:20260422T071146
CREATED:20230111T002034Z
LAST-MODIFIED:20230111T002034Z
UID:10003457-1683138600-1683141300@faithatfirst.org
SUMMARY:Handbell Choir Rehearsal
DESCRIPTION:The Handbell Choir plays in worship once each month. Basic music reading skills required (instrumentalists are especially welcome). Open to adults and youth in grades 6-12. New members welcome throughout the year – email brian@faithatfirst.com for more details.
URL:https://faithatfirst.org/event/handbell-choir-rehearsal-60/
LOCATION:Choir Room
END:VEVENT
BEGIN:VEVENT
DTSTART;TZID=UTC:20230426T193000
DTEND;TZID=UTC:20230426T210000
DTSTAMP:20260422T071146
CREATED:20230110T232937Z
LAST-MODIFIED:20230110T232937Z
UID:10003421-1682537400-1682542800@faithatfirst.org
SUMMARY:Chancel Choir Rehearsal
DESCRIPTION:SATB Choir for adults and youth in grades 9-12. New members welcome throughout the year – email brian@faithatfirst.com for more details.
URL:https://faithatfirst.org/event/chancel-choir-rehearsal-106/
LOCATION:Choir Room
END:VEVENT
BEGIN:VEVENT
DTSTART;TZID=UTC:20230426T193000
DTEND;TZID=UTC:20230426T201000
DTSTAMP:20260422T071146
CREATED:20230111T003126Z
LAST-MODIFIED:20230111T003126Z
UID:10002947-1682537400-1682539800@faithatfirst.org
SUMMARY:Festival Choir Rehearsal
DESCRIPTION:Festival Choir is open to adults and youth in grades 9-12. While music reading skills are needed\, no audition is required. The choir rehearses repertoire for the concert on May 19.
URL:https://faithatfirst.org/event/festival-choir-rehearsal-10/
LOCATION:Choir Room
END:VEVENT
BEGIN:VEVENT
DTSTART;TZID=UTC:20230426T183000
DTEND;TZID=UTC:20230426T191500
DTSTAMP:20260422T071146
CREATED:20230111T001934Z
LAST-MODIFIED:20230111T001934Z
UID:10003456-1682533800-1682536500@faithatfirst.org
SUMMARY:Handbell Choir Rehearsal
DESCRIPTION:The Handbell Choir plays in worship once each month. Basic music reading skills required (instrumentalists are especially welcome). Open to adults and youth in grades 6-12. New members welcome throughout the year – email brian@faithatfirst.com for more details.
URL:https://faithatfirst.org/event/handbell-choir-rehearsal-59/
LOCATION:Choir Room
END:VEVENT
BEGIN:VEVENT
DTSTART;TZID=UTC:20230419T193000
DTEND;TZID=UTC:20230419T210000
DTSTAMP:20260422T071146
CREATED:20230110T232847Z
LAST-MODIFIED:20230110T232847Z
UID:10003420-1681932600-1681938000@faithatfirst.org
SUMMARY:Chancel Choir Rehearsal
DESCRIPTION:SATB Choir for adults and youth in grades 9-12. New members welcome throughout the year – email brian@faithatfirst.com for more details.
URL:https://faithatfirst.org/event/chancel-choir-rehearsal-105/
LOCATION:Choir Room
END:VEVENT
BEGIN:VEVENT
DTSTART;TZID=UTC:20230419T193000
DTEND;TZID=UTC:20230419T201000
DTSTAMP:20260422T071146
CREATED:20230111T003006Z
LAST-MODIFIED:20230111T003006Z
UID:10002945-1681932600-1681935000@faithatfirst.org
SUMMARY:Festival Choir Rehearsal
DESCRIPTION:Festival Choir is open to adults and youth in grades 9-12. While music reading skills are needed\, no audition is required. The choir rehearses repertoire for the concert on May 19.
URL:https://faithatfirst.org/event/festival-choir-rehearsal-9/
LOCATION:Choir Room
END:VEVENT
BEGIN:VEVENT
DTSTART;TZID=UTC:20230419T183000
DTEND;TZID=UTC:20230419T191500
DTSTAMP:20260422T071146
CREATED:20230111T001849Z
LAST-MODIFIED:20230111T001849Z
UID:10003455-1681929000-1681931700@faithatfirst.org
SUMMARY:Handbell Choir Rehearsal
DESCRIPTION:The Handbell Choir plays in worship once each month. Basic music reading skills required (instrumentalists are especially welcome). Open to adults and youth in grades 6-12. New members welcome throughout the year – email brian@faithatfirst.com for more details.
URL:https://faithatfirst.org/event/handbell-choir-rehearsal-58/
LOCATION:Choir Room
END:VEVENT
BEGIN:VEVENT
DTSTART;TZID=UTC:20230412T193000
DTEND;TZID=UTC:20230412T210000
DTSTAMP:20260422T071146
CREATED:20230110T232758Z
LAST-MODIFIED:20230110T232758Z
UID:10003419-1681327800-1681333200@faithatfirst.org
SUMMARY:Chancel Choir Rehearsal
DESCRIPTION:SATB Choir for adults and youth in grades 9-12. New members welcome throughout the year – email brian@faithatfirst.com for more details.
URL:https://faithatfirst.org/event/chancel-choir-rehearsal-104/
LOCATION:Choir Room
END:VEVENT
BEGIN:VEVENT
DTSTART;TZID=UTC:20230412T193000
DTEND;TZID=UTC:20230412T201000
DTSTAMP:20260422T071146
CREATED:20230111T002918Z
LAST-MODIFIED:20230111T002918Z
UID:10002943-1681327800-1681330200@faithatfirst.org
SUMMARY:Festival Choir Rehearsal
DESCRIPTION:Festival Choir is open to adults and youth in grades 9-12. While music reading skills are needed\, no audition is required. The choir rehearses repertoire for the concert on May 19.
URL:https://faithatfirst.org/event/festival-choir-rehearsal-8/
LOCATION:Choir Room
END:VEVENT
BEGIN:VEVENT
DTSTART;TZID=UTC:20230412T183000
DTEND;TZID=UTC:20230412T191500
DTSTAMP:20260422T071146
CREATED:20230111T001704Z
LAST-MODIFIED:20230111T001704Z
UID:10003454-1681324200-1681326900@faithatfirst.org
SUMMARY:Handbell Choir Rehearsal
DESCRIPTION:The Handbell Choir plays in worship once each month. Basic music reading skills required (instrumentalists are especially welcome). Open to adults and youth in grades 6-12. New members welcome throughout the year – email brian@faithatfirst.com for more details.
URL:https://faithatfirst.org/event/handbell-choir-rehearsal-40/
LOCATION:Choir Room
END:VEVENT
BEGIN:VEVENT
DTSTART;TZID=UTC:20230405T183000
DTEND;TZID=UTC:20230405T191500
DTSTAMP:20260422T071146
CREATED:20230111T001618Z
LAST-MODIFIED:20230111T001618Z
UID:10003453-1680719400-1680722100@faithatfirst.org
SUMMARY:Handbell Choir Rehearsal
DESCRIPTION:The Handbell Choir plays in worship once each month. Basic music reading skills required (instrumentalists are especially welcome). Open to adults and youth in grades 6-12. New members welcome throughout the year – email brian@faithatfirst.com for more details.
URL:https://faithatfirst.org/event/handbell-choir-rehearsal-39/
LOCATION:Choir Room
END:VEVENT
BEGIN:VEVENT
DTSTART;TZID=UTC:20230329T193000
DTEND;TZID=UTC:20230329T210000
DTSTAMP:20260422T071146
CREATED:20230110T232459Z
LAST-MODIFIED:20230110T232459Z
UID:10003417-1680118200-1680123600@faithatfirst.org
SUMMARY:Chancel Choir Rehearsal
DESCRIPTION:SATB Choir for adults and youth in grades 9-12. New members welcome throughout the year – email brian@faithatfirst.com for more details.
URL:https://faithatfirst.org/event/chancel-choir-rehearsal-101/
LOCATION:Choir Room
END:VEVENT
BEGIN:VEVENT
DTSTART;TZID=UTC:20230329T183000
DTEND;TZID=UTC:20230329T191500
DTSTAMP:20260422T071146
CREATED:20230111T001403Z
LAST-MODIFIED:20230111T001403Z
UID:10003452-1680114600-1680117300@faithatfirst.org
SUMMARY:Handbell Choir Rehearsal
DESCRIPTION:The Handbell Choir plays in worship once each month. Basic music reading skills required (instrumentalists are especially welcome). Open to adults and youth in grades 6-12. New members welcome throughout the year – email brian@faithatfirst.com for more details.
URL:https://faithatfirst.org/event/handbell-choir-rehearsal-38/
LOCATION:Choir Room
END:VEVENT
BEGIN:VEVENT
DTSTART;TZID=UTC:20230322T193000
DTEND;TZID=UTC:20230322T210000
DTSTAMP:20260422T071146
CREATED:20230110T232330Z
LAST-MODIFIED:20230110T232330Z
UID:10003416-1679513400-1679518800@faithatfirst.org
SUMMARY:Chancel Choir Rehearsal
DESCRIPTION:SATB Choir for adults and youth in grades 9-12. New members welcome throughout the year – email brian@faithatfirst.com for more details.
URL:https://faithatfirst.org/event/chancel-choir-rehearsal-100/
LOCATION:Choir Room
END:VEVENT
BEGIN:VEVENT
DTSTART;TZID=UTC:20230315T193000
DTEND;TZID=UTC:20230315T210000
DTSTAMP:20260422T071146
CREATED:20230110T231350Z
LAST-MODIFIED:20230110T231350Z
UID:10003415-1678908600-1678914000@faithatfirst.org
SUMMARY:Chancel Choir Rehearsal
DESCRIPTION:SATB Choir for adults and youth in grades 9-12. New members welcome throughout the year – email brian@faithatfirst.com for more details.
URL:https://faithatfirst.org/event/chancel-choir-rehearsal-99/
LOCATION:Choir Room
END:VEVENT
BEGIN:VEVENT
DTSTART;TZID=UTC:20230308T193000
DTEND;TZID=UTC:20230308T210000
DTSTAMP:20260422T071146
CREATED:20230110T231302Z
LAST-MODIFIED:20230110T231302Z
UID:10003414-1678303800-1678309200@faithatfirst.org
SUMMARY:Chancel Choir Rehearsal
DESCRIPTION:SATB Choir for adults and youth in grades 9-12. New members welcome throughout the year – email brian@faithatfirst.com for more details.
URL:https://faithatfirst.org/event/chancel-choir-rehearsal-98/
LOCATION:Choir Room
END:VEVENT
BEGIN:VEVENT
DTSTART;TZID=UTC:20230301T193000
DTEND;TZID=UTC:20230301T210000
DTSTAMP:20260422T071146
CREATED:20230110T231222Z
LAST-MODIFIED:20230110T231222Z
UID:10003413-1677699000-1677704400@faithatfirst.org
SUMMARY:Chancel Choir Rehearsal
DESCRIPTION:SATB Choir for adults and youth in grades 9-12. New members welcome throughout the year – email brian@faithatfirst.com for more details.
URL:https://faithatfirst.org/event/chancel-choir-rehearsal-97/
LOCATION:Choir Room
END:VEVENT
BEGIN:VEVENT
DTSTART;TZID=UTC:20230301T183000
DTEND;TZID=UTC:20230301T191500
DTSTAMP:20260422T071146
CREATED:20230111T001015Z
LAST-MODIFIED:20230111T001015Z
UID:10003451-1677695400-1677698100@faithatfirst.org
SUMMARY:Handbell Choir Rehearsal
DESCRIPTION:The Handbell Choir plays in worship once each month. Basic music reading skills required (instrumentalists are especially welcome). Open to adults and youth in grades 6-12. New members welcome throughout the year – email brian@faithatfirst.com for more details.
URL:https://faithatfirst.org/event/handbell-choir-rehearsal-34/
LOCATION:Choir Room
END:VEVENT
END:VCALENDAR