BEGIN:VCALENDAR
VERSION:2.0
PRODID:-//First United Methodist Church of Evanston, IL - ECPv6.15.20//NONSGML v1.0//EN
CALSCALE:GREGORIAN
METHOD:PUBLISH
X-ORIGINAL-URL:https://faithatfirst.org
X-WR-CALDESC:Events for First United Methodist Church of Evanston, IL
REFRESH-INTERVAL;VALUE=DURATION:PT1H
X-Robots-Tag:noindex
X-PUBLISHED-TTL:PT1H
BEGIN:VTIMEZONE
TZID:UTC
BEGIN:STANDARD
TZOFFSETFROM:+0000
TZOFFSETTO:+0000
TZNAME:UTC
DTSTART:20220101T000000
END:STANDARD
END:VTIMEZONE
BEGIN:VEVENT
DTSTART;TZID=UTC:20231001T080000
DTEND;TZID=UTC:20231001T170000
DTSTAMP:20260425T163809
CREATED:20230907T003555Z
LAST-MODIFIED:20230907T003555Z
UID:10005094-1696147200-1696179600@faithatfirst.org
SUMMARY:Messy Church!
DESCRIPTION:Messy Church is Christ-centered. Messy Church is creative. Messy Church is for all ages. Messy Church is where YOU belong! \nLife is rarely neat and tidy. But God isn’t afraid to enter the mess. \nMessy Church is an opportunity for children\, families\, and adults to engage in hands-on creative activities\, celebratory worship\, and time together in community. Join us for a different kind of Sunday School for children and adults beginning Sunday\, October 1 from 9:00-10:15 a.m. in Great Hall\, and continuing on the first Sunday of each month throughout the program year. Please register for all upcoming sessions you plan to attend to aid in estimating food and materials.
URL:https://faithatfirst.org/event/messy-church-3/2023-10-01/1/
LOCATION:Great Hall
END:VEVENT
BEGIN:VEVENT
DTSTART;TZID=UTC:20231001T090000
DTEND;TZID=UTC:20231001T101500
DTSTAMP:20260425T163809
CREATED:20230907T003555Z
LAST-MODIFIED:20230907T003555Z
UID:10005095-1696150800-1696155300@faithatfirst.org
SUMMARY:Messy Church!
DESCRIPTION:Messy Church is Christ-centered. Messy Church is creative. Messy Church is for all ages. Messy Church is where YOU belong! \nLife is rarely neat and tidy. But God isn’t afraid to enter the mess. \nMessy Church is an opportunity for children\, families\, and adults to engage in hands-on creative activities\, celebratory worship\, and time together in community. Join us for a different kind of Sunday School for children and adults beginning Sunday\, October 1 from 9:00-10:15 a.m. in Great Hall\, and continuing on the first Sunday of each month throughout the program year. Please register for all upcoming sessions you plan to attend to aid in estimating food and materials.
URL:https://faithatfirst.org/event/messy-church-3/2023-10-01/2/
LOCATION:Great Hall
END:VEVENT
BEGIN:VEVENT
DTSTART;TZID=UTC:20231001T091500
DTEND;TZID=UTC:20231001T101500
DTSTAMP:20260425T163809
CREATED:20230907T000848Z
LAST-MODIFIED:20231122T001742Z
UID:10005676-1696151700-1696155300@faithatfirst.org
SUMMARY:Abide
DESCRIPTION:Abide provides ongoing space for spiritual connection to God\, mutual support in community\, and faith formation in the ways that lead to life. This gathering is open to all who seek to abide with Jesus through the Spirit in the company of friends. Abide meets Sunday mornings in person and via Zoom. To learn more about the class\, you can email Mari Leonard at mari.leonard@comcast.net.
URL:https://faithatfirst.org/event/abide-2/2023-10-01/
LOCATION:Room J
END:VEVENT
BEGIN:VEVENT
DTSTART;TZID=UTC:20231001T091500
DTEND;TZID=UTC:20231001T101500
DTSTAMP:20260425T163809
CREATED:20230907T001552Z
LAST-MODIFIED:20230928T232523Z
UID:10005042-1696151700-1696155300@faithatfirst.org
SUMMARY:Homelessness in Evanston
DESCRIPTION:Homelessness in Evanston – Oct. 1\, 8\, 15 & 22 at 9:15am\nFirst United Methodist Church is a community of faith seeking the transformation of the world through Jesus’ courageous love.  — First Church Vision Statement\nJoin us as we challenge ourselves to put our faith into action through this series of interactive discussions of homelessness in Evanston.  Come learn more about housing and food insecurity\, services currently offered\, and our individual and collective response as a faith community. \n\nHow do people find themselves without housing?\nHow should you respond to panhandlers?\nWho is doing what in Evanston for people who are homeless or hungry?\nHow did we/the nation get into this situation of masses of people experiencing homelessness?\nHow can we put our faith into action around this pressing issue?\n\nOct 1st:  Homelessness in Evanston: An overview of the causes of homelessness\, who is impacted\, and the available services and volunteer opportunities in our community. \nOct. 8th:  Interfaith Action’s Response to Homelessness:  Executive Director Sue Murphy will join us to share about current services offered by the interfaith community. \nOct. 15th:  Connections for the Homeless’s Response to Homelessness: Manager of Advocacy for Affordable Housing Sue Loellbach will join us to share the status of affordable housing. \nOct. 22nd: FUMC’s Faith in Action: How can we respond to the Homelessness crisis in Evanston individually and as a faith community? \nDiscussion LeadersAnn Weatherhead\, FMC Interfaith Action Delegate\, Affordable Housing AdvocateMelissa Appelt\, Interfaith Action Board Chair \n\nRegistration is helpful and drop-ins are always welcome.  https://onrealm.org/faithatfirst/PublicRegistrations/Event?linkString=Yzc1NTczODYtODg1OS00YjYwLWI2NmItYjA3NDAxMjMyN2Yw
URL:https://faithatfirst.org/event/homelessness-in-evanston/2023-10-01/
LOCATION:Room 33
ORGANIZER;CN="Allison Greer":MAILTO:allison_greer@sbcglobal.net
END:VEVENT
BEGIN:VEVENT
DTSTART;TZID=UTC:20231001T093000
DTEND;TZID=UTC:20231001T101500
DTSTAMP:20260425T163809
CREATED:20230616T001758Z
LAST-MODIFIED:20230616T001758Z
UID:10003920-1696152600-1696155300@faithatfirst.org
SUMMARY:Chancel Choir Rehearsal
DESCRIPTION:Adults and high school youth rehearse music for worship in the Chancel at the front of the Sanctuary. No audition required. Email Dr. Brian Schoettler for more information.
URL:https://faithatfirst.org/event/chancel-choir-rehearsal-103/2023-10-01/
LOCATION:Sanctuary
END:VEVENT
BEGIN:VEVENT
DTSTART;TZID=UTC:20231001T103000
DTEND;TZID=UTC:20231001T113000
DTSTAMP:20260425T163809
CREATED:20230901T005921Z
LAST-MODIFIED:20230901T005921Z
UID:10004417-1696156200-1696159800@faithatfirst.org
SUMMARY:10:30 Worship in the Sanctuary
DESCRIPTION:All are welcome to 10:30 worship in our Sactuary. \nDetails each Sunday can be found at https://faithatfirst.org/gather/worship-services/worship-this-sunday/ 
URL:https://faithatfirst.org/event/1030-worship-in-the-sanctuary/2023-10-01/
LOCATION:Sanctuary
END:VEVENT
BEGIN:VEVENT
DTSTART;TZID=UTC:20231001T113000
DTEND;TZID=UTC:20231001T133000
DTSTAMP:20260425T163809
CREATED:20230901T011644Z
LAST-MODIFIED:20230901T011644Z
UID:10004575-1696159800-1696167000@faithatfirst.org
SUMMARY:Methodist Youth Fellowship
DESCRIPTION:It’s time to start up Youth Ministry again! All youth are invited to come at Methodist Youth Fellowship every 1st and 3rd Sunday right after service from 11:30-1:30 pm starting on September 17th. We will have lunch\, play games\, and have time to gather to talk about where we are at in life. This will be our main time to gather as youth to get to know one another. I urge all youth to come hang out and be part of this community! Contact Sydney for more information.
URL:https://faithatfirst.org/event/methodist-youth-fellowship/2023-10-01/
LOCATION:Room M
END:VEVENT
BEGIN:VEVENT
DTSTART;TZID=UTC:20231001T113000
DTEND;TZID=UTC:20231001T133000
DTSTAMP:20260425T163809
CREATED:20230901T011742Z
LAST-MODIFIED:20230901T011742Z
UID:10004832-1696159800-1696167000@faithatfirst.org
SUMMARY:Methodist Youth Fellowship
DESCRIPTION:It’s time to start up Youth Ministry again! All youth are invited to come at Methodist Youth Fellowship every 1st and 3rd Sunday right after service from 11:30-1:30pm starting on September 17th. We will have lunch\, play games\, and have time to gather to talk about where we are at in life. This will be our main time to gather as youth to get to know one another. I urge all youth to come hang out and be part of this community! Contact Sydney for more information.
URL:https://faithatfirst.org/event/methodist-youth-fellowship-2/2023-10-01/
LOCATION:Room M
END:VEVENT
BEGIN:VEVENT
DTSTART;TZID=UTC:20231001T140000
DTEND;TZID=UTC:20231001T150000
DTSTAMP:20260425T163809
CREATED:20230825T203151Z
LAST-MODIFIED:20230909T005220Z
UID:10004395-1696168800-1696172400@faithatfirst.org
SUMMARY:Covenant Hike Group
DESCRIPTION:“I love to think of nature as an unlimited broadcasting station\, through which God speaks to us every hour\, if we will only tune in.” – George Washington Carver \nThe Covenant Hike Group invites all who have a wonder of the natural world to share nature immersion with each other through 3 seasons while experiencing the presence of God. The format is simple. We begin with a brief reading (scripture or poem)\, hike along while sharing joys and concerns\, and appreciate 5 minutes of silence at mid-point. Each hike concludes with an optional\, brief time of sharing about our experiences on the hike\, closing prayer\, and a cool or hot drink! All ages are welcomed! \nBeginning Sunday October 1st\, we will meet at a designated location at 2 p.m.\, hiking various paths in our area for about an hour at a comfortable pace for everyone. The group will meet each first Sunday through May and participants may join in as schedules allow.\nAll who participate are welcomed to share in ownership. The wonder of the natural world and God’s presence in it is limitless. \nFacilitators: Jim Johnson and Lee Rader. If interested\, please contact Jim at jjohnso@luc.edu to be placed on the distribution list.
URL:https://faithatfirst.org/event/covenant-hike-group/
END:VEVENT
BEGIN:VEVENT
DTSTART;TZID=UTC:20231001T173000
DTEND;TZID=UTC:20231001T193000
DTSTAMP:20260425T163809
CREATED:20230901T010253Z
LAST-MODIFIED:20230901T010446Z
UID:10004513-1696181400-1696188600@faithatfirst.org
SUMMARY:Young Adult Potluck
DESCRIPTION:Calling all Young Adults! We are resuming our potlucks every 1st and 3rd Sunday of the month at 5:30 pm starting on September 17th. Feel free to bring your favorite side item or dessert! Contact Sydney for the location!
URL:https://faithatfirst.org/event/young-adult-potluck-2/2023-10-01/
END:VEVENT
BEGIN:VEVENT
DTSTART;TZID=UTC:20231001T173000
DTEND;TZID=UTC:20231001T193000
DTSTAMP:20260425T163809
CREATED:20230901T011307Z
LAST-MODIFIED:20230929T063156Z
UID:10004514-1696181400-1696188600@faithatfirst.org
SUMMARY:Young Adults Potluck
DESCRIPTION:Calling all Young Adults! We are resuming our potlucks every 1st and 3rd Sunday of the month at 5:30 pm starting on September 17th. Feel free to bring your favorite side item or dessert! Contact Sydney at sydney@faithatfirst.com for the location!
URL:https://faithatfirst.org/event/young-adult-potluck-3/2023-10-01/
END:VEVENT
BEGIN:VEVENT
DTSTART;TZID=UTC:20231003T190000
DTEND;TZID=UTC:20231003T200000
DTSTAMP:20260425T163809
CREATED:20230818T200903Z
LAST-MODIFIED:20230818T200903Z
UID:10004349-1696359600-1696363200@faithatfirst.org
SUMMARY:Mission & Outreach Committee Meeting
DESCRIPTION:Mission & Outreach Committee Meeting. Monthly meetings are open to members of the committee. Hosted by Alli Henry\, alli.m.henry@gmail.com.
URL:https://faithatfirst.org/event/mission-outreach-committee-meeting-4/2023-10-03/
LOCATION:Conference Room
END:VEVENT
BEGIN:VEVENT
DTSTART;TZID=UTC:20231003T193000
DTEND;TZID=UTC:20231003T210000
DTSTAMP:20260425T163809
CREATED:20230908T214404Z
LAST-MODIFIED:20230908T214404Z
UID:10005113-1696361400-1696366800@faithatfirst.org
SUMMARY:First Books
DESCRIPTION:Join other readers in discussing Lynda Rutledge’s delightful tale “West with Giraffes”. Inspired by the incredible true story of two giraffes who won the hearts of Depression-era America when they crossed the Atlantic through a hurricane and then survived a twelve-day road trip across the U.S. to the San Diego Zoo. Contact Janet Lutz\, janetatl@aol.com with any questions.
URL:https://faithatfirst.org/event/first-books/
LOCATION:Glenna Hall
END:VEVENT
BEGIN:VEVENT
DTSTART;TZID=UTC:20231004T100000
DTEND;TZID=UTC:20231004T113000
DTSTAMP:20260425T163809
CREATED:20230929T062920Z
LAST-MODIFIED:20230929T062922Z
UID:10005250-1696413600-1696419000@faithatfirst.org
SUMMARY:Wednesday Bible Study
DESCRIPTION:The Wednesday Bible Study is a longstanding group that welcomes new members.  This group meets online every Wednesday 10-11:30am with the exception of a short break in the summer. The current study\, which runs through October 18 is The Gospel of Mark by Amy Jill Levine.   A new study (to be determined) will begin on October 25.    \nNew participants are always welcome. Please contact Janet Lutz at janetatl@aol.com if you are interested. 
URL:https://faithatfirst.org/event/wednesday-bible-study-20-2/2023-10-04/
LOCATION:online
ORGANIZER;CN="Janet Lutz":MAILTO:janetatl@aol.com
END:VEVENT
BEGIN:VEVENT
DTSTART;TZID=UTC:20231004T171500
DTEND;TZID=UTC:20231004T180000
DTSTAMP:20260425T163809
CREATED:20230616T001941Z
LAST-MODIFIED:20230616T001941Z
UID:10003958-1696439700-1696442400@faithatfirst.org
SUMMARY:Children's Choir Rehearsal
DESCRIPTION:Children in grades 1-6 rehearse weekly and sing in worship monthly. No audition is required and new singers are welcome throughout the year. For more information\, email Dr. Brian Schoettler.
URL:https://faithatfirst.org/event/childrens-choir-rehearsal-26/2023-10-04/
END:VEVENT
BEGIN:VEVENT
DTSTART;TZID=UTC:20231004T193000
DTEND;TZID=UTC:20231004T210000
DTSTAMP:20260425T163809
CREATED:20230616T001600Z
LAST-MODIFIED:20230616T001600Z
UID:10003884-1696447800-1696453200@faithatfirst.org
SUMMARY:Chancel Choir Rehearsal
DESCRIPTION:Adults and high school youth rehearse music for worship. No audition is required. Email Dr. Brian Schoettler for more information.
URL:https://faithatfirst.org/event/chancel-choir-rehearsal-90/2023-10-04/
LOCATION:Choir Room
END:VEVENT
BEGIN:VEVENT
DTSTART;TZID=UTC:20231005T130000
DTEND;TZID=UTC:20231005T140000
DTSTAMP:20260425T163809
CREATED:20230928T004334Z
LAST-MODIFIED:20231011T225210Z
UID:10005376-1696510800-1696514400@faithatfirst.org
SUMMARY:Progressive Christianity Reading Group
DESCRIPTION:On Thursdays October 5th\, 12th\, 18th\, and 25th\, the Progressive Christians Reading Group will delve into “The Elephant is Running: Process and Open and Relational Theologies and Religious Pluralism” by Bruce Epperly. Epperly believes that God invites us to affirm religious pluralism while remaining faithful to the way of Jesus and the prophetic spirit of Christianity. “The Elephant is Running” integrates theological reflection\, encounters with the wisdom world’s spiritual traditions\, the author’s personal experience as a spiritual adventurer\, and inspirational and innovative spiritual practices. The author will join us on October 5th! \nThis group meets on Zoom every Thursday at 1pm. \nInterested?  Contact Bonnie Beckonchrist at bbeckonchrist@gmail.com
URL:https://faithatfirst.org/event/progressive-christianity-reading-group-44/
LOCATION:Zoom
ORGANIZER;CN="Bonnie Beckonchrist":MAILTO:bbeckonchrist@gmail.com
END:VEVENT
BEGIN:VEVENT
DTSTART;TZID=UTC:20231005T173000
DTEND;TZID=UTC:20231005T190000
DTSTAMP:20260425T163809
CREATED:20230714T003533Z
LAST-MODIFIED:20230714T003711Z
UID:10004066-1696527000-1696532400@faithatfirst.org
SUMMARY:Soup Kitchen
DESCRIPTION:As part of Interfaith Action of Evanston\, First Church hosts a weekly soup kitchen each Thursday evening.  A host team of First Church volunteers is needed each week\, and 5-6 times a year we also need cooking teams.   Interested in helping?  Please contact Dave Koester (davekoester57@gmail.com) about current scheduling needs.
URL:https://faithatfirst.org/event/soup-kitchen/2023-10-05/
LOCATION:Dining Room
ORGANIZER;CN="Dave Koester":MAILTO:davekoester57@gmail.com
END:VEVENT
BEGIN:VEVENT
DTSTART;TZID=UTC:20231005T190000
DTEND;TZID=UTC:20231005T203000
DTSTAMP:20260425T163809
CREATED:20230929T050554Z
LAST-MODIFIED:20231130T023256Z
UID:10005052-1696532400-1696537800@faithatfirst.org
SUMMARY:God's Story\, Our Stories (Bible Study Group)
DESCRIPTION:God’s Story\, Our Stories – Lectionary Bible Study Group\nYOU Are Invited! \nThe Lectionary Bible Study Group meets via zoom every Thursday night mid-September through mid-June from 7 – 8:30 p.m. We are a band of curious explorers\, reflecting upon the lectionary passages for the coming Sunday. We ask many questions. We have “ah ha” moments in our discussions. We attempt to unearth how these ancient stories inform our current day stories. We deeply seek to live out our best understanding of the heart of these stories week by week in the midst of our common humanity. Several group members rotate the facilitation. \nCome and join us! You may be placed on the group distribution list by contacting Bill Brown at bbrown@wwbrown-inc.com .
URL:https://faithatfirst.org/event/gods-story-our-story-bible-study-group-2-2/2023-10-05/
ORGANIZER;CN="Bill Brown":MAILTO:bbbrown@wwbrown-inc.com
END:VEVENT
BEGIN:VEVENT
DTSTART;TZID=UTC:20231006T180000
DTEND;TZID=UTC:20231006T210000
DTSTAMP:20260425T163809
CREATED:20230921T223032Z
LAST-MODIFIED:20230921T223032Z
UID:10005368-1696615200-1696626000@faithatfirst.org
SUMMARY:Brass Rehearsal
DESCRIPTION:
URL:https://faithatfirst.org/event/brass-rehearsal-2/
LOCATION:Sanctuary
END:VEVENT
BEGIN:VEVENT
DTSTART;TZID=UTC:20231007T123000
DTEND;TZID=UTC:20231007T170000
DTSTAMP:20260425T163809
CREATED:20230927T201611Z
LAST-MODIFIED:20230927T201611Z
UID:10005375-1696681800-1696698000@faithatfirst.org
SUMMARY:Apple Picking and Fall Fun
DESCRIPTION:You’re invited to join the Limitless group for our 3rd annual Apple  picking Saturday\, October 7th. Please meet us at the Apple Holler orchard entrance around 12:30pm or contact Stephanie Peters to caravan/carpool from the Peters house at 11:30am. Please RSVP to Stephanie Peters at stephdeloney@gmail.com All are welcome. \nWe are going to the Apple Holler Apple Orchard which has a tractor drawn train tour to apple picking\, a play area\, corn maze\, farm animals and so much more. We may stop for dinner on the way back home for those that would like to enjoy dinner. \nHomepage
URL:https://faithatfirst.org/event/apple-picking-and-fall-fun/
END:VEVENT
BEGIN:VEVENT
DTSTART;TZID=UTC:20231008T091500
DTEND;TZID=UTC:20231008T101500
DTSTAMP:20260425T163810
CREATED:20230907T000848Z
LAST-MODIFIED:20231122T001742Z
UID:10005677-1696756500-1696760100@faithatfirst.org
SUMMARY:Abide
DESCRIPTION:Abide provides ongoing space for spiritual connection to God\, mutual support in community\, and faith formation in the ways that lead to life. This gathering is open to all who seek to abide with Jesus through the Spirit in the company of friends. Abide meets Sunday mornings in person and via Zoom. To learn more about the class\, you can email Mari Leonard at mari.leonard@comcast.net.
URL:https://faithatfirst.org/event/abide-2/2023-10-08/
LOCATION:Room J
END:VEVENT
BEGIN:VEVENT
DTSTART;TZID=UTC:20231008T091500
DTEND;TZID=UTC:20231008T101500
DTSTAMP:20260425T163810
CREATED:20230907T001552Z
LAST-MODIFIED:20230928T232523Z
UID:10005043-1696756500-1696760100@faithatfirst.org
SUMMARY:Homelessness in Evanston
DESCRIPTION:Homelessness in Evanston – Oct. 1\, 8\, 15 & 22 at 9:15am\nFirst United Methodist Church is a community of faith seeking the transformation of the world through Jesus’ courageous love.  — First Church Vision Statement\nJoin us as we challenge ourselves to put our faith into action through this series of interactive discussions of homelessness in Evanston.  Come learn more about housing and food insecurity\, services currently offered\, and our individual and collective response as a faith community. \n\nHow do people find themselves without housing?\nHow should you respond to panhandlers?\nWho is doing what in Evanston for people who are homeless or hungry?\nHow did we/the nation get into this situation of masses of people experiencing homelessness?\nHow can we put our faith into action around this pressing issue?\n\nOct 1st:  Homelessness in Evanston: An overview of the causes of homelessness\, who is impacted\, and the available services and volunteer opportunities in our community. \nOct. 8th:  Interfaith Action’s Response to Homelessness:  Executive Director Sue Murphy will join us to share about current services offered by the interfaith community. \nOct. 15th:  Connections for the Homeless’s Response to Homelessness: Manager of Advocacy for Affordable Housing Sue Loellbach will join us to share the status of affordable housing. \nOct. 22nd: FUMC’s Faith in Action: How can we respond to the Homelessness crisis in Evanston individually and as a faith community? \nDiscussion LeadersAnn Weatherhead\, FMC Interfaith Action Delegate\, Affordable Housing AdvocateMelissa Appelt\, Interfaith Action Board Chair \n\nRegistration is helpful and drop-ins are always welcome.  https://onrealm.org/faithatfirst/PublicRegistrations/Event?linkString=Yzc1NTczODYtODg1OS00YjYwLWI2NmItYjA3NDAxMjMyN2Yw
URL:https://faithatfirst.org/event/homelessness-in-evanston/2023-10-08/
LOCATION:Room 33
ORGANIZER;CN="Allison Greer":MAILTO:allison_greer@sbcglobal.net
END:VEVENT
BEGIN:VEVENT
DTSTART;TZID=UTC:20231008T091500
DTEND;TZID=UTC:20231008T101500
DTSTAMP:20260425T163810
CREATED:20230907T003158Z
LAST-MODIFIED:20231222T024345Z
UID:10005303-1696756500-1696760100@faithatfirst.org
SUMMARY:Faith & Parenting
DESCRIPTION:Faith & Parenting offers a weekly space for parents of children at all stages to share and reflect on how their personal and familial faith journeys are nurtured and challenged through the vocation of parenting. Brief guided reflections based on scriptures shared in Children’s Sunday school will accompany each session.
URL:https://faithatfirst.org/event/faith-parenting/2023-10-08/
LOCATION:Room 24
END:VEVENT
BEGIN:VEVENT
DTSTART;TZID=UTC:20231008T091500
DTEND;TZID=UTC:20231008T101500
DTSTAMP:20260425T163810
CREATED:20230908T220529Z
LAST-MODIFIED:20230908T220529Z
UID:10005125-1696756500-1696760100@faithatfirst.org
SUMMARY:Sunday School
DESCRIPTION:Sunday School takes place weekly before worship from 9:15-10:15 a.m. with an emphasis on sharing and responding to stories in the Bible through multisensory activities\, spiritual practices\, guided reflection\, and play. Sunday School is offered for children ages Pre-K-6th grade with “Messy Church” offered on the first Sunday of every month for the entire family.
URL:https://faithatfirst.org/event/sunday-school-6/2023-10-08/
END:VEVENT
BEGIN:VEVENT
DTSTART;TZID=UTC:20231008T093000
DTEND;TZID=UTC:20231008T101500
DTSTAMP:20260425T163810
CREATED:20230616T001758Z
LAST-MODIFIED:20230616T001758Z
UID:10003921-1696757400-1696760100@faithatfirst.org
SUMMARY:Chancel Choir Rehearsal
DESCRIPTION:Adults and high school youth rehearse music for worship in the Chancel at the front of the Sanctuary. No audition required. Email Dr. Brian Schoettler for more information.
URL:https://faithatfirst.org/event/chancel-choir-rehearsal-103/2023-10-08/
LOCATION:Sanctuary
END:VEVENT
BEGIN:VEVENT
DTSTART;TZID=UTC:20231008T100000
DTEND;TZID=UTC:20231008T101500
DTSTAMP:20260425T163810
CREATED:20231003T213252Z
LAST-MODIFIED:20231003T213252Z
UID:10005442-1696759200-1696760100@faithatfirst.org
SUMMARY:Children's Choir Rehearsal
DESCRIPTION:
URL:https://faithatfirst.org/event/childrens-choir-rehearsal-33/
LOCATION:Sanctuary
END:VEVENT
BEGIN:VEVENT
DTSTART;TZID=UTC:20231008T103000
DTEND;TZID=UTC:20231008T113000
DTSTAMP:20260425T163810
CREATED:20230901T005921Z
LAST-MODIFIED:20230901T005921Z
UID:10004418-1696761000-1696764600@faithatfirst.org
SUMMARY:10:30 Worship in the Sanctuary
DESCRIPTION:All are welcome to 10:30 worship in our Sactuary. \nDetails each Sunday can be found at https://faithatfirst.org/gather/worship-services/worship-this-sunday/ 
URL:https://faithatfirst.org/event/1030-worship-in-the-sanctuary/2023-10-08/
LOCATION:Sanctuary
END:VEVENT
BEGIN:VEVENT
DTSTART;TZID=UTC:20231008T104500
DTEND;TZID=UTC:20231008T113000
DTSTAMP:20260425T163810
CREATED:20230908T220915Z
LAST-MODIFIED:20230908T220915Z
UID:10005155-1696761900-1696764600@faithatfirst.org
SUMMARY:Children's Chapel
DESCRIPTION:Children’s Chapel seeks to excite and build confidence in children’s experience of worship and sense of belonging at First Church. Children ages three through 3rd grade are invited to experience the wonder of worship and joy of service in a lively\, child-friendly setting. Throughout the program year\, children take part in the seasons of the Christian year\, exploring rituals\, sacraments\, and songs of our worship tradition as well as hands-on aspects of our church mission that children might shape and help share the story of our faith.
URL:https://faithatfirst.org/event/childrens-chapel-37/2023-10-08/
END:VEVENT
BEGIN:VEVENT
DTSTART;TZID=UTC:20231008T104500
DTEND;TZID=UTC:20231008T113000
DTSTAMP:20260425T163810
CREATED:20230908T221353Z
LAST-MODIFIED:20230908T221353Z
UID:10005183-1696761900-1696764600@faithatfirst.org
SUMMARY:Connect456
DESCRIPTION:Connect456 is designed to help children in grades 4-6 connect to the church community as older elementary and middle school students preparing to make their own way at First Church. Each week features a unique means of connecting\, including serving in leadership with younger children\, learning about our church history and United Methodist identity\, observing worship and more!
URL:https://faithatfirst.org/event/connect456-9/2023-10-08/
END:VEVENT
END:VCALENDAR