BEGIN:VCALENDAR
VERSION:2.0
PRODID:-//First United Methodist Church of Evanston, IL - ECPv6.15.20//NONSGML v1.0//EN
CALSCALE:GREGORIAN
METHOD:PUBLISH
X-WR-CALNAME:First United Methodist Church of Evanston, IL
X-ORIGINAL-URL:https://faithatfirst.org
X-WR-CALDESC:Events for First United Methodist Church of Evanston, IL
REFRESH-INTERVAL;VALUE=DURATION:PT1H
X-Robots-Tag:noindex
X-PUBLISHED-TTL:PT1H
BEGIN:VTIMEZONE
TZID:America/Chicago
BEGIN:DAYLIGHT
TZOFFSETFROM:-0600
TZOFFSETTO:-0500
TZNAME:CDT
DTSTART:20240310T080000
END:DAYLIGHT
BEGIN:STANDARD
TZOFFSETFROM:-0500
TZOFFSETTO:-0600
TZNAME:CST
DTSTART:20241103T070000
END:STANDARD
BEGIN:DAYLIGHT
TZOFFSETFROM:-0600
TZOFFSETTO:-0500
TZNAME:CDT
DTSTART:20250309T080000
END:DAYLIGHT
BEGIN:STANDARD
TZOFFSETFROM:-0500
TZOFFSETTO:-0600
TZNAME:CST
DTSTART:20251102T070000
END:STANDARD
BEGIN:DAYLIGHT
TZOFFSETFROM:-0600
TZOFFSETTO:-0500
TZNAME:CDT
DTSTART:20260308T080000
END:DAYLIGHT
BEGIN:STANDARD
TZOFFSETFROM:-0500
TZOFFSETTO:-0600
TZNAME:CST
DTSTART:20261101T070000
END:STANDARD
END:VTIMEZONE
BEGIN:VTIMEZONE
TZID:UTC
BEGIN:STANDARD
TZOFFSETFROM:+0000
TZOFFSETTO:+0000
TZNAME:UTC
DTSTART:20240101T000000
END:STANDARD
END:VTIMEZONE
BEGIN:VEVENT
DTSTART;TZID=America/Chicago:20250220T190000
DTEND;TZID=America/Chicago:20250220T200000
DTSTAMP:20260421T194238
CREATED:20241212T194141Z
LAST-MODIFIED:20250922T190812Z
UID:10008596-1740078000-1740081600@faithatfirst.org
SUMMARY:Third Thursday Women’s Plus Basketball at First Church
DESCRIPTION:Third Thursday Women’s Plus Basketball at First Church\n\nCalling all women and non-binary folks who want to play ball or just have a ball.\n\nWhat: Basketball for adults. Your children can watch (the way we watch their games). No skills are required. Fierce competition and great gentleness are welcome. The ultimate goals are fun and connection. Your friends who have not yet experienced First Church awesomeness are also welcome.\n\nWhen: Third Thursday of Every Month from 7:00 to 8:00 p.m.\n\nWhere: First Church Gym\nWho to Contact: Kathryn Grant-Bolton at kgrant@depaul.edu or 847-529-6256
URL:https://faithatfirst.org/event/third-thursday-womens-plus-basketball-at-first-church/2025-02-20/
LOCATION:Great Hall
END:VEVENT
BEGIN:VEVENT
DTSTART;VALUE=DATE:20250221
DTEND;VALUE=DATE:20250224
DTSTAMP:20260421T194238
CREATED:20250121T182019Z
LAST-MODIFIED:20250121T182019Z
UID:10008532-1740096000-1740355199@faithatfirst.org
SUMMARY:Youth Retreat
DESCRIPTION:Our youth are heading back to Wesley Woods for an exciting weekend retreat! This is a weekend full of self-reflection\, bonding\, and plenty of memories. This is open to all youth (7th-12th grade)\, so reach out to Sydney for more information!
URL:https://faithatfirst.org/event/youth-retreat/
LOCATION:Wesley Woods
END:VEVENT
BEGIN:VEVENT
DTSTART;TZID=America/Chicago:20250222T180000
DTEND;TZID=America/Chicago:20250222T220000
DTSTAMP:20260421T194238
CREATED:20250121T182129Z
LAST-MODIFIED:20250121T182129Z
UID:10008533-1740247200-1740261600@faithatfirst.org
SUMMARY:Couples Salon Sips\, Dips and Dessert
DESCRIPTION:Celebrate Mardi Gras with Couples Salon on February 22 from 6:00 pm – 10:00 pm at the Clemens’ home in Evanston. Come any time between 6:00 pm to 10:00 pm to enjoy sips\, dips and desserts at this fun gathering co-hosted by Tom & Marion Clemens and Daniel & Catharina Maerklin. \nRSVP to Marion at redmarion77@comcast.net to let her know you are coming and whether you are bringing a Sip\, Dip or Dessert to share.
URL:https://faithatfirst.org/event/couples-salon-sips-dips-and-dessert/
END:VEVENT
BEGIN:VEVENT
DTSTART;TZID=America/Chicago:20250223T090000
DTEND;TZID=America/Chicago:20250223T120000
DTSTAMP:20260421T194238
CREATED:20250218T173257Z
LAST-MODIFIED:20250218T173738Z
UID:10008862-1740301200-1740312000@faithatfirst.org
SUMMARY:Distribution of One Church/One Book copies
DESCRIPTION:One Church/One Book Distribution\, Sunday mornings\, 2/23 and 3/2 from 9:00 a.m. to 12:00 p.m. Two distribution tables will be staffed by ACE members who will distribute the books and collect the $10 fee. All church members and guests. Dennis Barbour\, ACE Chair–dennisbarbour@sbcglobal.net\, 815-806-9434.
URL:https://faithatfirst.org/event/distribution-of-one-church-one-book-copies/2025-02-23/
LOCATION:Fountain Foyer
END:VEVENT
BEGIN:VEVENT
DTSTART;TZID=America/Chicago:20250223T100000
DTEND;TZID=America/Chicago:20250223T101500
DTSTAMP:20260421T194238
CREATED:20250216T204512Z
LAST-MODIFIED:20250216T204512Z
UID:10008855-1740304800-1740305700@faithatfirst.org
SUMMARY:Children's Choir Rehearsal
DESCRIPTION:Children’s Choir prepares to sing in worship. Please meet on the front steps in the Sanctuary for our brief rehearsal. Participation in Wednesday rehearsals is required to participate.
URL:https://faithatfirst.org/event/childrens-choir-rehearsal-65/2025-02-23/
LOCATION:Sanctuary
ORGANIZER;CN="Brian Schoettler":MAILTO:brian@faithatfirst.com
END:VEVENT
BEGIN:VEVENT
DTSTART;TZID=America/Chicago:20250223T120000
DTEND;TZID=America/Chicago:20250223T133000
DTSTAMP:20260421T194238
CREATED:20250130T171449Z
LAST-MODIFIED:20250130T172350Z
UID:10008560-1740312000-1740317400@faithatfirst.org
SUMMARY:Children in Action: Fill in the (SNAP)Gap!
DESCRIPTION:Children in Action is teaming up with Mission & Outreach to help prepare items for Interfaith Action’s SNAPGap collection. Toothbrushes and toothpaste will be distributed at Interfaith Action Evanston’s March 11 Producemobile\, located at the Robert Crown Community Center. Each month the Producemobile and SNAPGap serve 225-300 households with as many as 1\,260 people. \nChildren in grades 1-6 are invited and encouraged to step into service of our greater community on Sunday\, February 23 from 12:00-1:30 p.m.\, with lunch provided! See details and register here.
URL:https://faithatfirst.org/event/children-in-action-fill-in-the-snapgap/
LOCATION:Dining Room
END:VEVENT
BEGIN:VEVENT
DTSTART;TZID=UTC:20250223T173000
DTEND;TZID=UTC:20250223T193000
DTSTAMP:20260421T194238
CREATED:20240717T192145Z
LAST-MODIFIED:20250520T184549Z
UID:10005947-1740331800-1740339000@faithatfirst.org
SUMMARY:Young Adult Potluck
DESCRIPTION:Calling all Young Adults!  Join us for our Potlucks every other week at 5:30pm. Feel free to bring your favorite side item or dessert! Contact Sydney Harkrider at sydney@faithatfirst.com for the location!
URL:https://faithatfirst.org/event/young-adult-potluck-2-2-2/2025-02-23/
ORGANIZER;CN="Sydney Harkrider":MAILTO:sydney@faithatfirst.com
END:VEVENT
BEGIN:VEVENT
DTSTART;TZID=UTC:20250226T100000
DTEND;TZID=UTC:20250226T110000
DTSTAMP:20260421T194238
CREATED:20230608T002343Z
LAST-MODIFIED:20250922T182943Z
UID:10003832-1740564000-1740567600@faithatfirst.org
SUMMARY:Coffee\, Conversation\, and Friends
DESCRIPTION:This group of women “of a certain age” meet on the second and fourth Wednesday of the month from 10:00 to 11:00 am. We meet at Le Peep in Evanston for informal conversations on a wide variety of topics: books\, the news\, restaurants\, grandchildren\, and places to visit. No matter what’s on the table\, we are all ears. Come join the conversation and make some new friends.
URL:https://faithatfirst.org/event/coffee-conversation-and-friends-7/2025-02-26/
END:VEVENT
BEGIN:VEVENT
DTSTART;TZID=America/Chicago:20250226T120000
DTEND;TZID=America/Chicago:20250226T133000
DTSTAMP:20260421T194238
CREATED:20240904T191115Z
LAST-MODIFIED:20240904T191115Z
UID:10007153-1740571200-1740576600@faithatfirst.org
SUMMARY:Collaborate\, Connect\, Care Staff Meeting
DESCRIPTION:
URL:https://faithatfirst.org/event/collaborate-connect-care-staff-meeting/2025-02-26/
LOCATION:Dining Room
ORGANIZER;CN="Pastor Britt Cox":MAILTO:britt@faithatfirst.com
END:VEVENT
BEGIN:VEVENT
DTSTART;TZID=America/Chicago:20250301T100000
DTEND;TZID=America/Chicago:20250301T130000
DTSTAMP:20260421T194239
CREATED:20250123T183044Z
LAST-MODIFIED:20250123T183740Z
UID:10008537-1740823200-1740834000@faithatfirst.org
SUMMARY:Inquirers Morning of Service and Lunch
DESCRIPTION:Our 2025 Winter Inquirers Class along with others in their households are invited to a Morning of Service on Saturday\, March 1\, 10-1:00pm. In the morning we will pack hundreds of diapers for Bundled Blessings diaper bank’s monthly distribution to families in and around Evanston through a dozen local social service agencies. At noon we’ll enjoy a casual lunch together in the dining room. Depending on our numbers and needs we may also make sack lunches that day for the Good News Shelter in Rogers Park. Good News provides transitional housing for women and children.
URL:https://faithatfirst.org/event/inquirers-morning-of-service-and-lunch/
LOCATION:Dining Room
END:VEVENT
BEGIN:VEVENT
DTSTART;TZID=America/Chicago:20250301T103000
DTEND;TZID=America/Chicago:20250301T143000
DTSTAMP:20260421T194239
CREATED:20250225T161812Z
LAST-MODIFIED:20250225T161812Z
UID:10008865-1740825000-1740839400@faithatfirst.org
SUMMARY:Bundled Blessings Diaper Packing groups
DESCRIPTION:
URL:https://faithatfirst.org/event/bundled-blessings-diaper-packing-groups/
LOCATION:Room M
END:VEVENT
BEGIN:VEVENT
DTSTART;TZID=America/Chicago:20250301T120000
DTEND;TZID=America/Chicago:20250301T150000
DTSTAMP:20260421T194239
CREATED:20250227T212414Z
LAST-MODIFIED:20250227T212414Z
UID:10008883-1740830400-1740841200@faithatfirst.org
SUMMARY:Music Ministry Recording
DESCRIPTION:
URL:https://faithatfirst.org/event/music-ministry-recording/
LOCATION:Sanctuary
ORGANIZER;CN="Brian Schoettler":MAILTO:brian@faithatfirst.com
END:VEVENT
BEGIN:VEVENT
DTSTART;TZID=America/Chicago:20250301T140000
DTEND;TZID=America/Chicago:20250301T160000
DTSTAMP:20260421T194239
CREATED:20250209T180234Z
LAST-MODIFIED:20250209T180234Z
UID:10008612-1740837600-1740844800@faithatfirst.org
SUMMARY:Memorial Service
DESCRIPTION:
URL:https://faithatfirst.org/event/memorial-service-3/
LOCATION:Glenna Hall and Tittle Chapel
END:VEVENT
BEGIN:VEVENT
DTSTART;TZID=America/Chicago:20250302T091500
DTEND;TZID=America/Chicago:20250302T101500
DTSTAMP:20260421T194239
CREATED:20250212T195604Z
LAST-MODIFIED:20250212T195604Z
UID:10008633-1740906900-1740910500@faithatfirst.org
SUMMARY:Join the Sandbox Revolution!
DESCRIPTION:After gathering in the Dining Room for First Church’s first Sunday of the month time of “celebration\,” keep the intergenerational party going with Children’s Ministry and Social Justice Intersections! In dialogue with older youth and adults\, children of First Church will share what contributing to various mission and outreach activities means to them before leading us down the hall to Messy Church where all ages are invited to help make sack lunches with children as our guide.
URL:https://faithatfirst.org/event/join-the-sandbox-revolution/
LOCATION:Dining Room
END:VEVENT
BEGIN:VEVENT
DTSTART;TZID=America/Chicago:20250302T093000
DTEND;TZID=America/Chicago:20250302T103000
DTSTAMP:20260421T194239
CREATED:20250204T194013Z
LAST-MODIFIED:20250204T194013Z
UID:10008605-1740907800-1740911400@faithatfirst.org
SUMMARY:Messy Lent!
DESCRIPTION:
URL:https://faithatfirst.org/event/messy-lent/
LOCATION:Great Hall
END:VEVENT
BEGIN:VEVENT
DTSTART;TZID=America/Chicago:20250302T113000
DTEND;TZID=America/Chicago:20250302T133000
DTSTAMP:20260421T194239
CREATED:20240828T200038Z
LAST-MODIFIED:20240828T200038Z
UID:10006334-1740915000-1740922200@faithatfirst.org
SUMMARY:Methodist Youth Fellowship
DESCRIPTION:All 7th-12th grade youth are invited to attend Methodist Youth Fellowship (MYF)! This is our gathering twice a month for all youth to have lunch and then engage in music\, lessons\, a service project\, or simply have fun together. Come and join us! All are welcome!
URL:https://faithatfirst.org/event/methodist-youth-fellowship-6/2025-03-02/
LOCATION:Room M
ORGANIZER;CN="Sydney Harkrider":MAILTO:sydney@faithatfirst.com
END:VEVENT
BEGIN:VEVENT
DTSTART;TZID=America/Chicago:20250302T120000
DTEND;TZID=America/Chicago:20250302T130000
DTSTAMP:20260421T194239
CREATED:20250209T181045Z
LAST-MODIFIED:20250209T181045Z
UID:10008616-1740916800-1740920400@faithatfirst.org
SUMMARY:Learn A New Prayer Practice For Lent
DESCRIPTION:Learn a New Prayer Practice for Lent \nJohn Wesley encourages us to pray without ceasing. In our busy lives\, with so many distractions\, it can be difficult to keep to a regular prayer practice. Beads have been used by many faiths over the centuries as a meditative way to focus attention on prayers. Join us on Sunday March 2 to create a set of beads and learn about this ancient prayer practice just in time for Lent. We will meet in the dining room at noon. There will be a fee of $12.00 to cover materials costs. Contact Mari Leonard with questions and to register for the class. mari.leonard@comcast.net
URL:https://faithatfirst.org/event/learn-a-new-prayer-practice-for-lent/
LOCATION:Dining Room
END:VEVENT
BEGIN:VEVENT
DTSTART;TZID=America/Chicago:20250302T173000
DTEND;TZID=America/Chicago:20250302T210000
DTSTAMP:20260421T194239
CREATED:20240828T195357Z
LAST-MODIFIED:20240828T195357Z
UID:10006307-1740936600-1740949200@faithatfirst.org
SUMMARY:Young Adult Potluck
DESCRIPTION:All young adults are invited to our potluck! Whether you are new around here\, or looking for other adults to befriend— you are welcome here! We gather at the Bailey’s home\, and all bring dishes to share. Contact Sydney for the address\, and hope to see you there!
URL:https://faithatfirst.org/event/young-adult-potluck-4/2025-03-02/
ORGANIZER;CN="Sydney Harkrider":MAILTO:sydney@faithatfirst.com
END:VEVENT
BEGIN:VEVENT
DTSTART;TZID=America/Chicago:20250304T190000
DTEND;TZID=America/Chicago:20250304T203000
DTSTAMP:20260421T194239
CREATED:20250225T162019Z
LAST-MODIFIED:20250225T162019Z
UID:10008866-1741114800-1741120200@faithatfirst.org
SUMMARY:Bundled Blessings Diaper Packing with Woman's Club of Evanston
DESCRIPTION:
URL:https://faithatfirst.org/event/bundled-blessings-diaper-packing-with-womans-club-of-evanston/
LOCATION:Room M
END:VEVENT
BEGIN:VEVENT
DTSTART;TZID=America/Chicago:20250305T063000
DTEND;TZID=America/Chicago:20250305T083000
DTSTAMP:20260421T194239
CREATED:20250130T185231Z
LAST-MODIFIED:20250213T172445Z
UID:10008576-1741156200-1741163400@faithatfirst.org
SUMMARY:Ash Wednesday Morning Service
DESCRIPTION:
URL:https://faithatfirst.org/event/ash-wednesday-morning-service/
LOCATION:Tittle Chapel
END:VEVENT
BEGIN:VEVENT
DTSTART;TZID=America/Chicago:20250305T103000
DTEND;TZID=America/Chicago:20250305T120000
DTSTAMP:20260421T194239
CREATED:20250225T162250Z
LAST-MODIFIED:20250225T162250Z
UID:10008867-1741170600-1741176000@faithatfirst.org
SUMMARY:Bundled Blessings Diaper Packing with First Bank Chicago and Kellogg group
DESCRIPTION:
URL:https://faithatfirst.org/event/bundled-blessings-diaper-packing-with-first-bank-chicago-and-kellogg-group/
LOCATION:Room M
END:VEVENT
BEGIN:VEVENT
DTSTART;TZID=America/Chicago:20250305T190000
DTEND;TZID=America/Chicago:20250305T203000
DTSTAMP:20260421T194239
CREATED:20250225T162510Z
LAST-MODIFIED:20250225T162510Z
UID:10008868-1741201200-1741206600@faithatfirst.org
SUMMARY:Bundled Blessings diaper packing with Cadette Girl Scouts
DESCRIPTION:
URL:https://faithatfirst.org/event/bundled-blessings-diaper-packing-with-cadette-girl-scouts/
LOCATION:Room M
END:VEVENT
BEGIN:VEVENT
DTSTART;TZID=America/Chicago:20250309T080000
DTEND;TZID=America/Chicago:20250309T090000
DTSTAMP:20260421T194239
CREATED:20250225T163019Z
LAST-MODIFIED:20250225T163019Z
UID:10008870-1741507200-1741510800@faithatfirst.org
SUMMARY:Men's Fellowship Gathering
DESCRIPTION:
URL:https://faithatfirst.org/event/mens-fellowship-gathering-3/2025-03-09/
LOCATION:Dining Room
ORGANIZER;CN="Jim Hagedorn":MAILTO:jehdvm@gmail.com
END:VEVENT
BEGIN:VEVENT
DTSTART;TZID=America/Chicago:20250309T120000
DTEND;TZID=America/Chicago:20250309T130000
DTSTAMP:20260421T194239
CREATED:20250216T204703Z
LAST-MODIFIED:20250309T154451Z
UID:10008858-1741521600-1741525200@faithatfirst.org
SUMMARY:Children's Council
DESCRIPTION:Children’s Council acts as both a work committee and an advisory board to the Director of Children’s Ministry. The Children’s Council focuses on formulating and supporting the vision of our various children’s ministries. We consult with the Director of Children’s Ministries to plan the yearlong calendar. Under the umbrella of Children’s Ministries are the following programs: Sunday School\, Chapel\, Connect 456\, Nursery\, Summer Camps (Creation Camp\, VBS\, Family Camp)\, Fellowship Groups\, Pageant\, and holiday celebrations (e.g\, Advent\, Lent\, Easter).
URL:https://faithatfirst.org/event/childrens-council-4/
LOCATION:Glenna Hall
ORGANIZER;CN="Colin McDonald":MAILTO:colin@faithatfirst.com
END:VEVENT
BEGIN:VEVENT
DTSTART;TZID=America/Chicago:20250309T130000
DTEND;TZID=America/Chicago:20250309T143000
DTSTAMP:20260421T194239
CREATED:20250215T164333Z
LAST-MODIFIED:20250215T164333Z
UID:10008838-1741525200-1741530600@faithatfirst.org
SUMMARY:Men's Fellowship Lenten Study Group
DESCRIPTION:
URL:https://faithatfirst.org/event/mens-fellowship-lenten-study-group/2025-03-09/
LOCATION:Glenna Hall
ORGANIZER;CN="Jim Hagedorn":MAILTO:jehdvm@gmail.com
END:VEVENT
BEGIN:VEVENT
DTSTART;TZID=America/Chicago:20250309T140000
DTEND;TZID=America/Chicago:20250309T153000
DTSTAMP:20260421T194239
CREATED:20250303T182203Z
LAST-MODIFIED:20250303T182203Z
UID:10008884-1741528800-1741534200@faithatfirst.org
SUMMARY:Faith Communities & ICE
DESCRIPTION:First United Methodist Church members are invited to an information session regarding how faith communities can prepare and respond in this time of ever-changing immigration policies. At this event\, folks will learn ways to respond if ICE enters your building\, Know Your Rights basics\, and learn how to prepare congregations to respond. This is a great event for usher/welcoming teams\, safety teams\, immigration justice teams\, etc.! Speakers include Rev. Luke Harris-Ferree\, Rev. Eileen Wiviott\, Commander Scott Sophier\, Evanston Police Community Relations Unit\, and Liza Roberson-Young\, City of Evanston – Welcoming City Ordinance.
URL:https://faithatfirst.org/event/faith-communities-ice/
END:VEVENT
BEGIN:VEVENT
DTSTART;TZID=America/Chicago:20250310T103000
DTEND;TZID=America/Chicago:20250310T113000
DTSTAMP:20260421T194239
CREATED:20250121T182855Z
LAST-MODIFIED:20250121T182855Z
UID:10008535-1741602600-1741606200@faithatfirst.org
SUMMARY:Lent Contemplative Prayer Group
DESCRIPTION:
URL:https://faithatfirst.org/event/lent-contemplative-prayer-group/
LOCATION:Zoom
END:VEVENT
BEGIN:VEVENT
DTSTART;TZID=America/Chicago:20250310T103000
DTEND;TZID=America/Chicago:20250310T113000
DTSTAMP:20260421T194239
CREATED:20250203T175336Z
LAST-MODIFIED:20250203T175336Z
UID:10008586-1741602600-1741606200@faithatfirst.org
SUMMARY:Lent Contemplative Prayer Group
DESCRIPTION:Lent Contemplative Prayer Group In the 1960s\, the well-known Trappist monk\, Thomas Merton\, brought contemplative practice out of the cloister into the realm of ordinary people. In the 1970s\, Father Thomas Keating developed a form of contemplative practice called centering prayer; and John Main\, a Benedictine monk\, advocated a practice of contemplative meditation. We will be utilizing the small group format for contemplative practice outlined in the book “Where Two or Three Are Gathered” by Rev. Daniel Prechtel with an emphasis on lectio (reading)\, meditatio (meditation)\, oratio (prayer)\, and contemplatio (contemplation). The contemplative practice group will meet on Mondays\, March 10th – April 14th during Lent\, from 10:30am-11:30am on zoom and will be facilitated by Glynis Doyle and Maryellen Scott. If you have any questions\, would like to receive an outline of the format of the class\, or would like to register\, you can contact Glynis at dleedoyle@gmail.com.
URL:https://faithatfirst.org/event/lent-contemplative-prayer-group-2/2025-03-10/
LOCATION:Zoom
END:VEVENT
BEGIN:VEVENT
DTSTART;TZID=America/Chicago:20250312T080000
DTEND;TZID=America/Chicago:20250312T170000
DTSTAMP:20260421T194239
CREATED:20250216T144450Z
LAST-MODIFIED:20250216T144450Z
UID:10008844-1741766400-1741798800@faithatfirst.org
SUMMARY:Organ Tuning
DESCRIPTION:
URL:https://faithatfirst.org/event/organ-tuning-5/
LOCATION:Sanctuary
ORGANIZER;CN="Brian Schoettler":MAILTO:brian@faithatfirst.com
END:VEVENT
BEGIN:VEVENT
DTSTART;TZID=America/Chicago:20250313T093000
DTEND;TZID=America/Chicago:20250313T153000
DTSTAMP:20260421T194239
CREATED:20250303T185438Z
LAST-MODIFIED:20250303T185438Z
UID:10008885-1741858200-1741879800@faithatfirst.org
SUMMARY:Piano Tunings
DESCRIPTION:
URL:https://faithatfirst.org/event/piano-tunings-3/
LOCATION:Sanctuary
END:VEVENT
END:VCALENDAR