BEGIN:VCALENDAR
VERSION:2.0
PRODID:-//First United Methodist Church of Evanston, IL - ECPv6.15.20//NONSGML v1.0//EN
CALSCALE:GREGORIAN
METHOD:PUBLISH
X-ORIGINAL-URL:https://faithatfirst.org
X-WR-CALDESC:Events for First United Methodist Church of Evanston, IL
REFRESH-INTERVAL;VALUE=DURATION:PT1H
X-Robots-Tag:noindex
X-PUBLISHED-TTL:PT1H
BEGIN:VTIMEZONE
TZID:UTC
BEGIN:STANDARD
TZOFFSETFROM:+0000
TZOFFSETTO:+0000
TZNAME:UTC
DTSTART:20250101T000000
END:STANDARD
END:VTIMEZONE
BEGIN:VTIMEZONE
TZID:America/Chicago
BEGIN:DAYLIGHT
TZOFFSETFROM:-0600
TZOFFSETTO:-0500
TZNAME:CDT
DTSTART:20250309T080000
END:DAYLIGHT
BEGIN:STANDARD
TZOFFSETFROM:-0500
TZOFFSETTO:-0600
TZNAME:CST
DTSTART:20251102T070000
END:STANDARD
BEGIN:DAYLIGHT
TZOFFSETFROM:-0600
TZOFFSETTO:-0500
TZNAME:CDT
DTSTART:20260308T080000
END:DAYLIGHT
BEGIN:STANDARD
TZOFFSETFROM:-0500
TZOFFSETTO:-0600
TZNAME:CST
DTSTART:20261101T070000
END:STANDARD
BEGIN:DAYLIGHT
TZOFFSETFROM:-0600
TZOFFSETTO:-0500
TZNAME:CDT
DTSTART:20270314T080000
END:DAYLIGHT
BEGIN:STANDARD
TZOFFSETFROM:-0500
TZOFFSETTO:-0600
TZNAME:CST
DTSTART:20271107T070000
END:STANDARD
END:VTIMEZONE
BEGIN:VEVENT
DTSTART;TZID=UTC:20260114T100000
DTEND;TZID=UTC:20260114T110000
DTSTAMP:20260423T172208
CREATED:20230908T024328Z
LAST-MODIFIED:20241121T185340Z
UID:10003783-1768384800-1768388400@faithatfirst.org
SUMMARY:Coffee\, Conversation\, and Friends
DESCRIPTION:This group of women “of a certain age” meet on the second and fourth Wednesday of the month from 10:00 to 11:00 am. Year round we gather at LePeep in Evanston for informal conversations on a wide variety of topics: books\, the news\, restaurants\, grandchildren\, and places to visit. No matter what’s on the table\, we are all ears. Come join the conversation and make some new friends.
URL:https://faithatfirst.org/event/coffee-conversation-and-friends-6-2/2026-01-14/
END:VEVENT
BEGIN:VEVENT
DTSTART;TZID=America/Chicago:20260115T190000
DTEND;TZID=America/Chicago:20260115T200000
DTSTAMP:20260423T172208
CREATED:20241212T194141Z
LAST-MODIFIED:20250922T190812Z
UID:10008595-1768503600-1768507200@faithatfirst.org
SUMMARY:Third Thursday Women’s Plus Basketball at First Church
DESCRIPTION:Third Thursday Women’s Plus Basketball at First Church\n\nCalling all women and non-binary folks who want to play ball or just have a ball.\n\nWhat: Basketball for adults. Your children can watch (the way we watch their games). No skills are required. Fierce competition and great gentleness are welcome. The ultimate goals are fun and connection. Your friends who have not yet experienced First Church awesomeness are also welcome.\n\nWhen: Third Thursday of Every Month from 7:00 to 8:00 p.m.\n\nWhere: First Church Gym\nWho to Contact: Kathryn Grant-Bolton at kgrant@depaul.edu or 847-529-6256
URL:https://faithatfirst.org/event/third-thursday-womens-plus-basketball-at-first-church/2026-01-15/
LOCATION:Great Hall
END:VEVENT
BEGIN:VEVENT
DTSTART;TZID=America/Chicago:20260117T100000
DTEND;TZID=America/Chicago:20260117T120000
DTSTAMP:20260423T172208
CREATED:20240917T183404Z
LAST-MODIFIED:20240917T183404Z
UID:10007257-1768644000-1768651200@faithatfirst.org
SUMMARY:Styrofoam Collection
DESCRIPTION:The Earth Care Committee holds its monthly Styrofoam collection time at First UMC Evanston on the third Saturday of the month at the Church Street entrance between 10am and Noon. Material to be collected includes all clean No. 6 plastic foam. Acceptable items include disposable coffee cups; take out containers (such as clamshells); plastic plates\, bowls and cutlery; meat and poultry foam trays and packing foam. When recycled\, these items can be processed into a material used to make park benches\, picture frames\, and other items. Recycling these items helps keep this harmful plastic\, which cannot be processed locally\, out of the waste stream.
URL:https://faithatfirst.org/event/styrofoam-collection/2026-01-17/
END:VEVENT
BEGIN:VEVENT
DTSTART;TZID=America/Chicago:20260117T103000
DTEND;TZID=America/Chicago:20260117T120000
DTSTAMP:20260423T172208
CREATED:20260109T234531Z
LAST-MODIFIED:20260109T234607Z
UID:10011481-1768645800-1768651200@faithatfirst.org
SUMMARY:Bundled Blessings Diaper Packing with Lisa Schiling & friends
DESCRIPTION:
URL:https://faithatfirst.org/event/bundled-blessings-diaper-packing-with-lisa-schiling-friends/
END:VEVENT
BEGIN:VEVENT
DTSTART;TZID=America/Chicago:20260118T093000
DTEND;TZID=America/Chicago:20260118T120000
DTSTAMP:20260423T172208
CREATED:20250210T174828Z
LAST-MODIFIED:20250210T174900Z
UID:10008628-1768728600-1768737600@faithatfirst.org
SUMMARY:Styrofoam Collection
DESCRIPTION:Bring your Styrofoam to Church to be Recycled!\nEvery 3rd Saturday of the month\, 10 am to 12 noon\, at the Church Street entrance.\nAnd now every the 3rd Sunday of the month\, near the front office.
URL:https://faithatfirst.org/event/styrofoam-collection-2/2026-01-18/
END:VEVENT
BEGIN:VEVENT
DTSTART;TZID=UTC:20260118T113000
DTEND;TZID=UTC:20260118T120000
DTSTAMP:20260423T172208
CREATED:20240409T173024Z
LAST-MODIFIED:20241001T181329Z
UID:10007351-1768735800-1768737600@faithatfirst.org
SUMMARY:Earth Care Lending Library
DESCRIPTION:Looking for a place to continue growing in your understanding of environmental justice and how to care for God’s creation? \nVisit the Earth Care Lending Library\, which is open every 2nd Sunday after worship in Great Hall. A small lending library with books for readers of all ages\, the titles were curated by the Earth Care Committee and include Newbery Award-winning children’s  books\, as well as titles by leading voices from the spiritual and scientific communities.
URL:https://faithatfirst.org/event/earth-care-lending-library-2/2026-01-18/
LOCATION:Great Hall
END:VEVENT
BEGIN:VEVENT
DTSTART;TZID=America/Chicago:20260119T090000
DTEND;TZID=America/Chicago:20260119T130000
DTSTAMP:20260423T172208
CREATED:20250919T183149Z
LAST-MODIFIED:20250919T183213Z
UID:10010885-1768813200-1768827600@faithatfirst.org
SUMMARY:Walk for Warmth
DESCRIPTION:Mark your calendars for Interfaith Action’s annual Walk for Warmth on Martin Luther King\, Jr. Day on January 19\, 2026. Please join us at 11am in the FUMC church sanctuary as we honor the legacy of Dr. King\, raise funds for the overnight shelter\, and walk a mile in the shoes of people who need it.
URL:https://faithatfirst.org/event/walk-for-warmth/
LOCATION:Sanctuary
END:VEVENT
BEGIN:VEVENT
DTSTART;TZID=America/Chicago:20260119T100000
DTEND;TZID=America/Chicago:20260119T130000
DTSTAMP:20260423T172208
CREATED:20251205T224401Z
LAST-MODIFIED:20251205T224401Z
UID:10011145-1768816800-1768827600@faithatfirst.org
SUMMARY:7th Annual Walk For Warmth
DESCRIPTION:Mark your calendars! Please join us for Interfaith Action of Evanston’s Walk for Warmth on Martin Luther King Jr. Day of Service\, Monday January 19th. Walking together\, we are a physical embodiment of Dr. King’s vision of the beloved community. His commitment to service is reflected in the route we take past the many faith communities that house Interfaith Action’s overnight shelter in rotation. The Walk helps raise awareness of homelessness in our community. Your donation supports Interfaith Action’s programs including the overnight shelter. For more information\, to register to walk and to donate\, go to the Walk for Warmth 2026 website. There is no charge to register.
URL:https://faithatfirst.org/event/7th-annual-walk-for-warmth/
LOCATION:Sanctuary
END:VEVENT
BEGIN:VEVENT
DTSTART;TZID=America/Chicago:20260120T190000
DTEND;TZID=America/Chicago:20260120T200000
DTSTAMP:20260423T172208
CREATED:20250711T184301Z
LAST-MODIFIED:20250711T184301Z
UID:10009565-1768935600-1768939200@faithatfirst.org
SUMMARY:Faith Formation Council Meeting
DESCRIPTION:
URL:https://faithatfirst.org/event/faith-formation-council-meeting-2/2026-01-20/
END:VEVENT
BEGIN:VEVENT
DTSTART;TZID=America/Chicago:20260121T180000
DTEND;TZID=America/Chicago:20260121T200000
DTSTAMP:20260423T172208
CREATED:20260109T234243Z
LAST-MODIFIED:20260109T234756Z
UID:10011480-1769018400-1769025600@faithatfirst.org
SUMMARY:Bundled Blessings Diaper Packing with Beth Emet group
DESCRIPTION:
URL:https://faithatfirst.org/event/bundled-blessings-diaper-packing-with-beth-emet-group/
LOCATION:Room M
END:VEVENT
BEGIN:VEVENT
DTSTART;TZID=America/Chicago:20260125T091500
DTEND;TZID=America/Chicago:20260125T101500
DTSTAMP:20260423T172208
CREATED:20251203T174553Z
LAST-MODIFIED:20251203T174922Z
UID:10011112-1769332500-1769336100@faithatfirst.org
SUMMARY:Inquirers Class (Winter 2026)
DESCRIPTION:Inquirers Class\nMeets Sundays 9:15-10:15am\, January 25 – March 1\, in Glenna Hall.The objectives of the Inquirers Class are:\n• to provide an ‘up close’ look at First Church\, its people\, and programs.\n• to consider the theology\, structure and current issues in the United Methodist Church.\n• to reflect on our collective and individual faith journeys and foster community around the Inquirers table. \nAs the centerpiece of the membership process\, Inquirers is intended to help participants discern whether First Church is a good fit\, and if they want to take membership vows here. While all person who want to join the church are asked to participate in Inquirers\, not everyone who participates in Inquirers is expected to become a member. Those who have participated in Inquirers and want to take that step are invited to do during 10:30am worship\, March date TBD. \nInterested?  Want to know more?   Please reach out to Mary Taylor-Johnson\, Director of Membership and Engagement\, at 847-864-6182 or mary@faithatfirst.com.
URL:https://faithatfirst.org/event/inquirers_class_winter2026/2026-01-25/
LOCATION:Glenna Hall
END:VEVENT
BEGIN:VEVENT
DTSTART;TZID=America/Chicago:20260125T113000
DTEND;TZID=America/Chicago:20260125T123000
DTSTAMP:20260423T172208
CREATED:20250919T154350Z
LAST-MODIFIED:20250919T163237Z
UID:10010867-1769340600-1769344200@faithatfirst.org
SUMMARY:Chili Cook-Off
DESCRIPTION:Join us for the much-anticipated 2026 FUMC Chili Cook-Off on Sunday\, January 25\, 2026\, at 11:30 a.m. Chefs of all ages will gather after worship in Great Hall to share their favorite chili recipes and vie for the coveted “Best of Show” award!\n\nThe first five entrants will receive a $5 gift card to Penzey’s Spices (located on Sherman Avenue in Evanston)! The Fellowship Committee will provide the sample bowls\, spoons\, and napkins! You provide the chili!\n\nEnter in one of the following categories:\n\n\nTraditional homestyle meat and bean chili;\nMuy caliente! Hot and spicy!\nWhere’s the Beef? Vegetarian chili\nYouth (ages 18 and younger)\n\nOver-the-top table decorations are welcomed and encouraged!
URL:https://faithatfirst.org/event/chili-cook-off-3/
LOCATION:Great Hall
END:VEVENT
BEGIN:VEVENT
DTSTART;TZID=America/Chicago:20260125T130000
DTEND;TZID=America/Chicago:20260125T140000
DTSTAMP:20260423T172208
CREATED:20260110T032848Z
LAST-MODIFIED:20260110T032848Z
UID:10011484-1769346000-1769349600@faithatfirst.org
SUMMARY:Music Ministry
DESCRIPTION:
URL:https://faithatfirst.org/event/music-ministry-4/
LOCATION:Sanctuary
END:VEVENT
BEGIN:VEVENT
DTSTART;TZID=UTC:20260128T100000
DTEND;TZID=UTC:20260128T110000
DTSTAMP:20260423T172208
CREATED:20230608T002343Z
LAST-MODIFIED:20250922T182943Z
UID:10003843-1769594400-1769598000@faithatfirst.org
SUMMARY:Coffee\, Conversation\, and Friends
DESCRIPTION:This group of women “of a certain age” meet on the second and fourth Wednesday of the month from 10:00 to 11:00 am. We meet at Le Peep in Evanston for informal conversations on a wide variety of topics: books\, the news\, restaurants\, grandchildren\, and places to visit. No matter what’s on the table\, we are all ears. Come join the conversation and make some new friends.
URL:https://faithatfirst.org/event/coffee-conversation-and-friends-7/2026-01-28/
END:VEVENT
BEGIN:VEVENT
DTSTART;TZID=America/Chicago:20260128T190000
DTEND;TZID=America/Chicago:20260128T203000
DTSTAMP:20260423T172208
CREATED:20250922T185655Z
LAST-MODIFIED:20250922T185655Z
UID:10010929-1769626800-1769632200@faithatfirst.org
SUMMARY:Membership Committee Meeting
DESCRIPTION:The Membership Committee meets monthly to discuss ideas and work on strategies to encourage member and visitor engagement in First Church worship\, programs\, and other opportunities. Please address any questions about this committee and its work to Lynelle Diener\, Chair.
URL:https://faithatfirst.org/event/membership-committee-meeting-7/2026-01-28/
LOCATION:Conference Room
END:VEVENT
BEGIN:VEVENT
DTSTART;TZID=America/Chicago:20260129T190000
DTEND;TZID=America/Chicago:20260129T203000
DTSTAMP:20260423T172208
CREATED:20260109T234018Z
LAST-MODIFIED:20260109T235026Z
UID:10011479-1769713200-1769718600@faithatfirst.org
SUMMARY:Bundled Blessings Diaper Packing with Girl Scout Leaders
DESCRIPTION:
URL:https://faithatfirst.org/event/bundled-blessings-diaper-packing-with-girl-scout-leaders/
LOCATION:Room M
END:VEVENT
BEGIN:VEVENT
DTSTART;TZID=America/Chicago:20260208T080000
DTEND;TZID=America/Chicago:20260208T090000
DTSTAMP:20260423T172208
CREATED:20250128T175136Z
LAST-MODIFIED:20250525T170746Z
UID:10008585-1770537600-1770541200@faithatfirst.org
SUMMARY:Men's Fellowship Gathering
DESCRIPTION:The men’s fellowship group meets on the second Sunday of each month in the dining room for a light breakfast\, fellowship and often a short program.  Contact Jim Hagedorn (jehdvm@gmail.com) for more information or to be added to our contact list.
URL:https://faithatfirst.org/event/mens-fellowship-gathering-2/2026-02-08/
LOCATION:Dining Room
END:VEVENT
BEGIN:VEVENT
DTSTART;TZID=America/Chicago:20260208T114500
DTEND;TZID=America/Chicago:20260208T123000
DTSTAMP:20260423T172208
CREATED:20260217T190648Z
LAST-MODIFIED:20260217T190648Z
UID:10011568-1770551100-1770553800@faithatfirst.org
SUMMARY:Governance Q&A
DESCRIPTION:In advance of the special church conference on March 15th\, we’d like to offer opportunities to hear more about Church Council’s recommended revised committee structure\, with opportunities for questions.
URL:https://faithatfirst.org/event/governance-qa/2026-02-08/
END:VEVENT
BEGIN:VEVENT
DTSTART;TZID=America/Chicago:20260208T120000
DTEND;TZID=America/Chicago:20260208T130000
DTSTAMP:20260423T172208
CREATED:20260210T184732Z
LAST-MODIFIED:20260210T184732Z
UID:10011553-1770552000-1770555600@faithatfirst.org
SUMMARY:Team Meeting
DESCRIPTION:
URL:https://faithatfirst.org/event/team-meeting/
LOCATION:Conference Room
END:VEVENT
BEGIN:VEVENT
DTSTART;TZID=America/Chicago:20260211T130000
DTEND;TZID=America/Chicago:20260211T143000
DTSTAMP:20260423T172208
CREATED:20260210T184656Z
LAST-MODIFIED:20260210T184656Z
UID:10011552-1770814800-1770820200@faithatfirst.org
SUMMARY:Bundled Blessings Diaper Packing
DESCRIPTION:
URL:https://faithatfirst.org/event/bundled-blessings-diaper-packing-6/
LOCATION:Room M
END:VEVENT
BEGIN:VEVENT
DTSTART;TZID=America/Chicago:20260212T160000
DTEND;TZID=America/Chicago:20260212T173000
DTSTAMP:20260423T172208
CREATED:20260210T184613Z
LAST-MODIFIED:20260210T184613Z
UID:10011551-1770912000-1770917400@faithatfirst.org
SUMMARY:Bundled Blessings Diaper Packing
DESCRIPTION:
URL:https://faithatfirst.org/event/bundled-blessings-diaper-packing-5/
END:VEVENT
BEGIN:VEVENT
DTSTART;TZID=America/Chicago:20260215T080000
DTEND;TZID=America/Chicago:20260215T090000
DTSTAMP:20260423T172208
CREATED:20260130T185420Z
LAST-MODIFIED:20260130T185420Z
UID:10011546-1771142400-1771146000@faithatfirst.org
SUMMARY:Men's Fellowship
DESCRIPTION:The regular monthly meeting of the Men’s Fellowship will move from Feb. 8 to Feb 15.
URL:https://faithatfirst.org/event/mens-fellowship-7/
LOCATION:Dining Hall
END:VEVENT
BEGIN:VEVENT
DTSTART;TZID=America/Chicago:20260215T113000
DTEND;TZID=America/Chicago:20260215T123000
DTSTAMP:20260423T172208
CREATED:20260210T194634Z
LAST-MODIFIED:20260210T194634Z
UID:10011559-1771155000-1771158600@faithatfirst.org
SUMMARY:FUMC Committee Structure Presentation
DESCRIPTION:
URL:https://faithatfirst.org/event/fumc-committee-structure-presentation/
LOCATION:Dining Hall
END:VEVENT
BEGIN:VEVENT
DTSTART;TZID=America/Chicago:20260215T120000
DTEND;TZID=America/Chicago:20260215T130000
DTSTAMP:20260423T172208
CREATED:20260210T195020Z
LAST-MODIFIED:20260210T195020Z
UID:10011564-1771156800-1771160400@faithatfirst.org
SUMMARY:Youth Council
DESCRIPTION:
URL:https://faithatfirst.org/event/youth-council-2/2026-02-15/
LOCATION:Conference Room
END:VEVENT
BEGIN:VEVENT
DTSTART;TZID=America/Chicago:20260216T190000
DTEND;TZID=America/Chicago:20260216T203000
DTSTAMP:20260423T172208
CREATED:20250817T202006Z
LAST-MODIFIED:20250817T202006Z
UID:10009804-1771268400-1771273800@faithatfirst.org
SUMMARY:Adult Education meeting
DESCRIPTION:Monthly meeting of Adult Education Council
URL:https://faithatfirst.org/event/adult-education-meeting/2026-02-16/
LOCATION:Glenna Hall
END:VEVENT
BEGIN:VEVENT
DTSTART;TZID=America/Chicago:20260218T173000
DTEND;TZID=America/Chicago:20260218T190000
DTSTAMP:20260423T172208
CREATED:20260130T191422Z
LAST-MODIFIED:20260130T191422Z
UID:10011548-1771435800-1771441200@faithatfirst.org
SUMMARY:Ash Wednesday Potluck & Lenten Workshop
DESCRIPTION:The 40 days of Lent are a time to extend ourselves inside and out in rhythm with the lengthening days and life of Christ. Embrace and observe this holy season as we bake pretzels\, create prayer journals\, and join together for good food and conversation before Ash Wednesday service at 7:00 p.m.\n\nKindly register at onrealm.org/faithatfirst/Registrations
URL:https://faithatfirst.org/event/ash-wednesday-potluck-lenten-workshop/
LOCATION:Dining Hall
END:VEVENT
BEGIN:VEVENT
DTSTART;TZID=America/Chicago:20260218T173000
DTEND;TZID=America/Chicago:20260218T190000
DTSTAMP:20260423T172208
CREATED:20260210T185451Z
LAST-MODIFIED:20260210T185451Z
UID:10011555-1771435800-1771441200@faithatfirst.org
SUMMARY:Ash Wednesday Potluck & Lenten Workshop
DESCRIPTION:The 40 days of Lent are a time to extend ourselves inside and out in rhythm with the lengthening days and life of Christ. Embrace and observe this holy season as we bake pretzels\, create prayer journals\, and join together for good food and conversation before Ash Wednesday service at 7:00 p.m.\n\nKindly register at onrealm.org/faithatfirst/Registrations or email Colin@faithatfirst.com
URL:https://faithatfirst.org/event/ash-wednesday-potluck-lenten-workshop-2/
END:VEVENT
BEGIN:VEVENT
DTSTART;TZID=America/Chicago:20260218T190000
DTEND;TZID=America/Chicago:20260218T200000
DTSTAMP:20260423T172208
CREATED:20260210T185552Z
LAST-MODIFIED:20260210T185552Z
UID:10011556-1771441200-1771444800@faithatfirst.org
SUMMARY:Ash Wednesday Service
DESCRIPTION:Join us at 7pm in Tittle Chapel!
URL:https://faithatfirst.org/event/ash-wednesday-service/
LOCATION:Tittle Chapel
END:VEVENT
BEGIN:VEVENT
DTSTART;TZID=America/Chicago:20260220T173000
DTEND;TZID=America/Chicago:20260222T120000
DTSTAMP:20260423T172208
CREATED:20260210T194715Z
LAST-MODIFIED:20260210T194715Z
UID:10011560-1771608600-1771761600@faithatfirst.org
SUMMARY:Youth Retreat
DESCRIPTION:
URL:https://faithatfirst.org/event/youth-retreat-3/
END:VEVENT
BEGIN:VEVENT
DTSTART;TZID=America/Chicago:20260221T103000
DTEND;TZID=America/Chicago:20260221T120000
DTSTAMP:20260423T172208
CREATED:20260210T184542Z
LAST-MODIFIED:20260210T184542Z
UID:10011550-1771669800-1771675200@faithatfirst.org
SUMMARY:Bundled Blessings Community Diaper Packing
DESCRIPTION:
URL:https://faithatfirst.org/event/bundled-blessings-community-diaper-packing/
LOCATION:Room M
END:VEVENT
END:VCALENDAR