BEGIN:VCALENDAR
VERSION:2.0
PRODID:-//First United Methodist Church of Evanston, IL - ECPv6.15.20//NONSGML v1.0//EN
CALSCALE:GREGORIAN
METHOD:PUBLISH
X-WR-CALNAME:First United Methodist Church of Evanston, IL
X-ORIGINAL-URL:https://faithatfirst.org
X-WR-CALDESC:Events for First United Methodist Church of Evanston, IL
REFRESH-INTERVAL;VALUE=DURATION:PT1H
X-Robots-Tag:noindex
X-PUBLISHED-TTL:PT1H
BEGIN:VTIMEZONE
TZID:America/Chicago
BEGIN:DAYLIGHT
TZOFFSETFROM:-0600
TZOFFSETTO:-0500
TZNAME:CDT
DTSTART:20230312T080000
END:DAYLIGHT
BEGIN:STANDARD
TZOFFSETFROM:-0500
TZOFFSETTO:-0600
TZNAME:CST
DTSTART:20231105T070000
END:STANDARD
BEGIN:DAYLIGHT
TZOFFSETFROM:-0600
TZOFFSETTO:-0500
TZNAME:CDT
DTSTART:20240310T080000
END:DAYLIGHT
BEGIN:STANDARD
TZOFFSETFROM:-0500
TZOFFSETTO:-0600
TZNAME:CST
DTSTART:20241103T070000
END:STANDARD
BEGIN:DAYLIGHT
TZOFFSETFROM:-0600
TZOFFSETTO:-0500
TZNAME:CDT
DTSTART:20250309T080000
END:DAYLIGHT
BEGIN:STANDARD
TZOFFSETFROM:-0500
TZOFFSETTO:-0600
TZNAME:CST
DTSTART:20251102T070000
END:STANDARD
END:VTIMEZONE
BEGIN:VTIMEZONE
TZID:UTC
BEGIN:STANDARD
TZOFFSETFROM:+0000
TZOFFSETTO:+0000
TZNAME:UTC
DTSTART:20230101T000000
END:STANDARD
END:VTIMEZONE
BEGIN:VEVENT
DTSTART;TZID=America/Chicago:20241008T190000
DTEND;TZID=America/Chicago:20241008T203000
DTSTAMP:20260423T203402
CREATED:20240828T200726Z
LAST-MODIFIED:20240828T200726Z
UID:10006414-1728414000-1728419400@faithatfirst.org
SUMMARY:Church Council Meeting
DESCRIPTION:
URL:https://faithatfirst.org/event/church-council-meeting-2/2024-10-08/
LOCATION:Glenna Hall
END:VEVENT
BEGIN:VEVENT
DTSTART;TZID=UTC:20241009T100000
DTEND;TZID=UTC:20241009T110000
DTSTAMP:20260423T203402
CREATED:20230908T024328Z
LAST-MODIFIED:20241121T185340Z
UID:10003768-1728468000-1728471600@faithatfirst.org
SUMMARY:Coffee\, Conversation\, and Friends
DESCRIPTION:This group of women “of a certain age” meet on the second and fourth Wednesday of the month from 10:00 to 11:00 am. Year round we gather at LePeep in Evanston for informal conversations on a wide variety of topics: books\, the news\, restaurants\, grandchildren\, and places to visit. No matter what’s on the table\, we are all ears. Come join the conversation and make some new friends.
URL:https://faithatfirst.org/event/coffee-conversation-and-friends-6-2/2024-10-09/
END:VEVENT
BEGIN:VEVENT
DTSTART;TZID=America/Chicago:20241011T160000
DTEND;TZID=America/Chicago:20241011T210000
DTSTAMP:20260423T203402
CREATED:20240925T164430Z
LAST-MODIFIED:20240925T164430Z
UID:10007329-1728662400-1728680400@faithatfirst.org
SUMMARY:Yom Kippur- JRC
DESCRIPTION:
URL:https://faithatfirst.org/event/yom-kippur-jrc/
LOCATION:Sanctuary and Kitchen
END:VEVENT
BEGIN:VEVENT
DTSTART;TZID=America/Chicago:20241012T080000
DTEND;TZID=America/Chicago:20241012T190000
DTSTAMP:20260423T203402
CREATED:20240925T164544Z
LAST-MODIFIED:20240925T164544Z
UID:10007330-1728720000-1728759600@faithatfirst.org
SUMMARY:Yom Kippur- JRC
DESCRIPTION:
URL:https://faithatfirst.org/event/yom-kippur-jrc-2/
LOCATION:Sanctuary\, Nursery\, Glenna\, Kitchen\, Playground\, 3rd Floor Rooms\, Dining Rooms\, Chapel\, Great Hall
END:VEVENT
BEGIN:VEVENT
DTSTART;TZID=America/Chicago:20241013T080000
DTEND;TZID=America/Chicago:20241013T090000
DTSTAMP:20260423T203402
CREATED:20241003T152712Z
LAST-MODIFIED:20241003T152712Z
UID:10007396-1728806400-1728810000@faithatfirst.org
SUMMARY:Men's Fellowship Breakfast
DESCRIPTION:The men’s fellowship group meets every second Sunday of the month at the Merion (1611 Chicago Ave. Evanston) for breakfast and fellowship. The event is from 8-9 am. RSVP requested to participate…jehdvm@gmail.com \n 
URL:https://faithatfirst.org/event/mens-fellowship-breakfast/
LOCATION:The Merion\, 1611 Chicago Avenue\, Evanston\, IL\, 60201\, United States
ORGANIZER;CN="Jim Hagedorn":MAILTO:jehdvm@gmail.com
END:VEVENT
BEGIN:VEVENT
DTSTART;TZID=America/Chicago:20241013T091500
DTEND;TZID=America/Chicago:20241013T101500
DTSTAMP:20260423T203402
CREATED:20240922T201952Z
LAST-MODIFIED:20240930T164109Z
UID:10007333-1728810900-1728814500@faithatfirst.org
SUMMARY:Faith in Action Virtual Adult Education Class
DESCRIPTION:Meets monthly on the second Sunday\, September-December. \nUsing Compass podcasts produced by the UMC\, the class will walk through spiritual practices and meditations and explore conversations with special guests about who they are encountering spirituality in surprising ways. The goal is to transform ourselves through listening\, learning and asking the questions\, “How is it with your soul?” \nParticipants are asked to listen to an assigned podcast (approximately 40 mins) prior to each class. For further information and the Zoom link\, contact facilitators Mary Cauble\, mcauble50@gmail.com\, and Bonny Roth\, bsrcom@yahoo.com.
URL:https://faithatfirst.org/event/faith-in-action-virtual-adult-education-class/2024-10-13/
END:VEVENT
BEGIN:VEVENT
DTSTART;TZID=UTC:20241013T091500
DTEND;TZID=UTC:20241013T101500
DTSTAMP:20260423T203403
CREATED:20241009T143146Z
LAST-MODIFIED:20250502T000146Z
UID:10005329-1728810900-1728814500@faithatfirst.org
SUMMARY:Adult Education- Faith & Parenting
DESCRIPTION:Faith & Parenting offers a weekly space for parents of children at all stages to share and reflect on how their personal and familial faith journeys are nurtured and challenged through the vocation of parenting. Brief guided reflections based on scriptures shared in Children’s Sunday school will accompany each session.
URL:https://faithatfirst.org/event/faith-parenting-2/2024-10-13/
LOCATION:Room 24
END:VEVENT
BEGIN:VEVENT
DTSTART;TZID=America/Chicago:20241013T091500
DTEND;TZID=America/Chicago:20241013T101500
DTSTAMP:20260423T203403
CREATED:20241009T143832Z
LAST-MODIFIED:20241009T143832Z
UID:10007419-1728810900-1728814500@faithatfirst.org
SUMMARY:Invitation to the Labyrinth
DESCRIPTION:Have you ever wondered what the labyrinth in our memorial garden is for? Or have you walked a labyrinth before and would like to walk ours? Then join the Faith Formation Council in the memorial garden at 9:15 on October 6\, October 13\, or October 20 or at 11:45 on September 29\, October 27\, November 10\, November 17\, or November 24. A Council member will give a brief overview of the labyrinth for those who are interested\, and the labyrinth will be open to all to walk. Questions? Contact Tom Scott at tom.scott.goblue@msn.com.
URL:https://faithatfirst.org/event/invitation-to-the-labyrinth-2/2024-10-13/2/
END:VEVENT
BEGIN:VEVENT
DTSTART;TZID=America/Chicago:20241013T120000
DTEND;TZID=America/Chicago:20241013T130000
DTSTAMP:20260423T203403
CREATED:20241009T190107Z
LAST-MODIFIED:20241009T190107Z
UID:10007426-1728820800-1728824400@faithatfirst.org
SUMMARY:ASP Reunion and Interest Meeting
DESCRIPTION:If you joined the youth’s ASP trip this past Summer\, you’re invited to a reunion lunch! If you’re new and would love to join next Summer\, you’re invited\, too! This is the perfect time to talk with those who have attended in the past and ask questions. I hope we’ll see both new and returning folks!
URL:https://faithatfirst.org/event/asp-reunion-and-interest-meeting-3/
LOCATION:Dining Room
ORGANIZER;CN="Sydney Harkrider":MAILTO:sydney@faithatfirst.com
END:VEVENT
BEGIN:VEVENT
DTSTART;TZID=America/Chicago:20241013T140000
DTEND;TZID=America/Chicago:20241013T160000
DTSTAMP:20260423T203403
CREATED:20240925T165128Z
LAST-MODIFIED:20240925T165128Z
UID:10007331-1728828000-1728835200@faithatfirst.org
SUMMARY:JRC- Take Down
DESCRIPTION:
URL:https://faithatfirst.org/event/jrc-take-down/
LOCATION:Sanctuary
END:VEVENT
BEGIN:VEVENT
DTSTART;TZID=America/Chicago:20241014T193000
DTEND;TZID=America/Chicago:20241014T204500
DTSTAMP:20260423T203403
CREATED:20240828T222052Z
LAST-MODIFIED:20240828T222539Z
UID:10006885-1728934200-1728938700@faithatfirst.org
SUMMARY:Communications Committee Meeting
DESCRIPTION:The 2024-25 Communications Commitee meets monthly on the second Monday of each month at 7:30pm online.   Questions?  Please reach out to committee chair Andy Shotwell at ashotwell@gmail.com.
URL:https://faithatfirst.org/event/communications-committee-meeting-10/2024-10-14/
LOCATION:Zoom
ORGANIZER;CN="Andy Shotwell":MAILTO:ashotwell@gmail.com
END:VEVENT
BEGIN:VEVENT
DTSTART;TZID=America/Chicago:20241015T190000
DTEND;TZID=America/Chicago:20241015T200000
DTSTAMP:20260423T203403
CREATED:20240828T203437Z
LAST-MODIFIED:20240828T203437Z
UID:10006587-1729018800-1729022400@faithatfirst.org
SUMMARY:Faith Formation Council Monthly Meeting
DESCRIPTION:The Faith Formation Council will meet monthly by ZOOM. Attendees will receive the ZOOM link in advance. Any questions contact Tom Scott or Lee Rader.
URL:https://faithatfirst.org/event/faith-formation-council-monthly-meeting/2024-10-15/
LOCATION:Zoom
END:VEVENT
BEGIN:VEVENT
DTSTART;TZID=America/Chicago:20241016T080000
DTEND;TZID=America/Chicago:20241016T200000
DTSTAMP:20260423T203403
CREATED:20241009T154532Z
LAST-MODIFIED:20241009T154532Z
UID:10007425-1729065600-1729108800@faithatfirst.org
SUMMARY:Harvest Soup Total Child
DESCRIPTION:The children and Total Child staff prepare a delicious homemade vegetable soup for this special dinner. Families have the opportunity to spend time with the Total Child community.
URL:https://faithatfirst.org/event/harvest-soup-total-child/
LOCATION:Dining Room
END:VEVENT
BEGIN:VEVENT
DTSTART;TZID=America/Chicago:20241016T190000
DTEND;TZID=America/Chicago:20241016T203000
DTSTAMP:20260423T203403
CREATED:20240828T205344Z
LAST-MODIFIED:20240828T205344Z
UID:10006804-1729105200-1729110600@faithatfirst.org
SUMMARY:Finance Committee
DESCRIPTION:
URL:https://faithatfirst.org/event/finance-committee/2024-10-16/
LOCATION:Zoom
END:VEVENT
BEGIN:VEVENT
DTSTART;TZID=America/Chicago:20241016T193000
DTEND;TZID=America/Chicago:20241016T201500
DTSTAMP:20260423T203403
CREATED:20240828T202058Z
LAST-MODIFIED:20240828T202058Z
UID:10006429-1729107000-1729109700@faithatfirst.org
SUMMARY:Festival Choir Rehearsal
DESCRIPTION:Adults and high school youth from the congregation and the community rehearse in preparation of Handel’s “Messiah” (Part I) for the Festival Choir Concert on Nov. 22\, 2024. No audition is required.
URL:https://faithatfirst.org/event/festival-choir-rehearsal-20/2024-10-16/
LOCATION:Choir Room
ORGANIZER;CN="Brian Schoettler":MAILTO:brian@faithatfirst.com
END:VEVENT
BEGIN:VEVENT
DTSTART;TZID=America/Chicago:20241017T183000
DTEND;TZID=America/Chicago:20241017T203000
DTSTAMP:20260423T203403
CREATED:20241009T190225Z
LAST-MODIFIED:20241009T190225Z
UID:10007427-1729189800-1729197000@faithatfirst.org
SUMMARY:Mom's Night Out
DESCRIPTION:CELEBRATE FALL TOGETHER!!\nOur group continues to have different women come to every gathering!\nNew friends and New conversations every time! Come when you can!\nYou can bring something to share but no pressure! \nThursday\, October 17th 6:30-8:30 pm\nChris Webler’s home (with Ann Weatherhead Cohost)\nPrefer RSVP to c.webler@gmail.com Chris’ phone 847-830-1063 \nThank you to Cherie Asante and Catharina Maerklin for hosting a happy evening with great salads\, sweet snacks and so many fun topics! \nNEXT MNO WED\, NOV 13th – Linda Federer’s (with Debbie Zimmerman)\nAND then TUES\, DEC 3rd – Greta Connor (with Sue Henderson) \nWant to host/cohost a Post Holiday MNO? Jan\, Feb and March are open!
URL:https://faithatfirst.org/event/moms-night-out-16/
ORGANIZER;CN="Chris Webler":MAILTO:c.webler@gmail.com
END:VEVENT
BEGIN:VEVENT
DTSTART;TZID=America/Chicago:20241018T190000
DTEND;TZID=America/Chicago:20241018T210000
DTSTAMP:20260423T203403
CREATED:20240606T191226Z
LAST-MODIFIED:20240606T191226Z
UID:10005876-1729278000-1729285200@faithatfirst.org
SUMMARY:Fisk University Choir Concert
DESCRIPTION:Evanston’s Sherman Methodist Church sponsors the Fisk University Choir in concert on Friday\, October 18 at 7:00. FUMC contact: Krys Juleen; Sherman contact: Ned Schaub
URL:https://faithatfirst.org/event/fisk-university-choir-concert/
LOCATION:Sanctuary
END:VEVENT
BEGIN:VEVENT
DTSTART;TZID=America/Chicago:20241019T100000
DTEND;TZID=America/Chicago:20241019T120000
DTSTAMP:20260423T203403
CREATED:20240917T183404Z
LAST-MODIFIED:20240917T183404Z
UID:10007242-1729332000-1729339200@faithatfirst.org
SUMMARY:Styrofoam Collection
DESCRIPTION:The Earth Care Committee holds its monthly Styrofoam collection time at First UMC Evanston on the third Saturday of the month at the Church Street entrance between 10am and Noon. Material to be collected includes all clean No. 6 plastic foam. Acceptable items include disposable coffee cups; take out containers (such as clamshells); plastic plates\, bowls and cutlery; meat and poultry foam trays and packing foam. When recycled\, these items can be processed into a material used to make park benches\, picture frames\, and other items. Recycling these items helps keep this harmful plastic\, which cannot be processed locally\, out of the waste stream.
URL:https://faithatfirst.org/event/styrofoam-collection/2024-10-19/
END:VEVENT
BEGIN:VEVENT
DTSTART;TZID=America/Chicago:20241019T160000
DTEND;TZID=America/Chicago:20241019T230000
DTSTAMP:20260423T203403
CREATED:20240925T000450Z
LAST-MODIFIED:20240925T000450Z
UID:10007324-1729353600-1729378800@faithatfirst.org
SUMMARY:Pumpkin Carving and Bonfire/Hot Dog Roast
DESCRIPTION:You are invited to the 5th annual Pumpkin carving and hot dog roast/bonfire Saturday 10/19 starting at 4:00pm at the Peters home in the backyard. Bring your own pumpkin. \nPumpkin carving supplies will be provided as well as hotdogs\, buns\, and fixings\, hot cider and water. Please bring a side to share. It’s fun for all ages and stages. RSVP to Stephanie Peters at stephdeloney@gmail.com
URL:https://faithatfirst.org/event/pumpkin-carving-and-bonfire-hot-dog-roast/
LOCATION:Peters Home
ORGANIZER;CN="Stephanie Peters":MAILTO:stephdeloney@gmail.com
END:VEVENT
BEGIN:VEVENT
DTSTART;TZID=America/Chicago:20241019T170000
DTEND;TZID=America/Chicago:20241019T220000
DTSTAMP:20260423T203403
CREATED:20240828T194534Z
LAST-MODIFIED:20241017T204931Z
UID:10006298-1729357200-1729375200@faithatfirst.org
SUMMARY:Youth Hayride
DESCRIPTION:The youth’s annual hayride at Richardson Farms will be on October 19th. Meet at the church parking lot at 5pm so we can drive together. There will be a corn maze\, hayride\, games\, a campfire\, and plenty of laughter. Come join this special night!
URL:https://faithatfirst.org/event/youth-hayride/
ORGANIZER;CN="Sydney Harkrider":MAILTO:sydney@faithatfirst.com
END:VEVENT
BEGIN:VEVENT
DTSTART;TZID=America/Chicago:20241020T090000
DTEND;TZID=America/Chicago:20241020T120000
DTSTAMP:20260423T203403
CREATED:20241018T001209Z
LAST-MODIFIED:20241018T001209Z
UID:10007436-1729414800-1729425600@faithatfirst.org
SUMMARY:Millar Chapel Choir
DESCRIPTION:
URL:https://faithatfirst.org/event/millar-chapel-choir/
LOCATION:Dining Room
ORGANIZER;CN="Brian Schoettler":MAILTO:brian@faithatfirst.com
END:VEVENT
BEGIN:VEVENT
DTSTART;TZID=UTC:20241020T113000
DTEND;TZID=UTC:20241020T120000
DTSTAMP:20260423T203403
CREATED:20240409T173024Z
LAST-MODIFIED:20241001T181329Z
UID:10007336-1729423800-1729425600@faithatfirst.org
SUMMARY:Earth Care Lending Library
DESCRIPTION:Looking for a place to continue growing in your understanding of environmental justice and how to care for God’s creation? \nVisit the Earth Care Lending Library\, which is open every 2nd Sunday after worship in Great Hall. A small lending library with books for readers of all ages\, the titles were curated by the Earth Care Committee and include Newbery Award-winning children’s  books\, as well as titles by leading voices from the spiritual and scientific communities.
URL:https://faithatfirst.org/event/earth-care-lending-library-2/2024-10-20/
LOCATION:Great Hall
END:VEVENT
BEGIN:VEVENT
DTSTART;TZID=America/Chicago:20241020T113000
DTEND;TZID=America/Chicago:20241020T123000
DTSTAMP:20260423T203403
CREATED:20240927T004505Z
LAST-MODIFIED:20241001T031044Z
UID:10007307-1729423800-1729427400@faithatfirst.org
SUMMARY:Visitor Coffee with Tour
DESCRIPTION:Curious to further explore First Church?  Want to meet others in the congregation and tour the building?  Visitors and others new and not-so-new to First Church are invited to stay after worship on October 20 for a Visitor Coffee.  The event will include informal conversation\, coffee and snacks\, and tours of rooms in the building where “the magic happens” (to quote Pastor Grace).  Information on the membership process will be available for those who may be interested. \nThis event will start and end in Glenna Hall.  From the sanctuary\, exit the side door closest to the pulpit.  Glenna Hall is the first room on the left\, across the hall from the church dining room. \nPlease RSVP online here. \nQuestions?  Please contact Lynelle Diener . \n 
URL:https://faithatfirst.org/event/visitor-coffee-and-tour-2/
LOCATION:Glenna Hall
ORGANIZER;CN="Mary Taylor-Johnson":MAILTO:mary@faithatfirst.com
END:VEVENT
BEGIN:VEVENT
DTSTART;TZID=America/Chicago:20241020T173000
DTEND;TZID=America/Chicago:20241020T210000
DTSTAMP:20260423T203403
CREATED:20240828T195516Z
LAST-MODIFIED:20241105T161149Z
UID:10006311-1729445400-1729458000@faithatfirst.org
SUMMARY:Young Adult Potluck
DESCRIPTION:All young adults are invited to our potluck! Whether you are new around here\, or looking for other adults to befriend— you are welcome here! We gather at the Bailey’s home\, and all bring dishes to share. Contact Sydney for the address\, and hope to see you there!
URL:https://faithatfirst.org/event/young-adult-potluck-5/2024-10-20/
ORGANIZER;CN="Sydney Harkrider":MAILTO:sydney@faithatfirst.com
END:VEVENT
BEGIN:VEVENT
DTSTART;TZID=America/Chicago:20241021T190000
DTEND;TZID=America/Chicago:20241021T200000
DTSTAMP:20260423T203403
CREATED:20240828T205905Z
LAST-MODIFIED:20240828T205905Z
UID:10006817-1729537200-1729540800@faithatfirst.org
SUMMARY:Adult Education Council Meeting
DESCRIPTION:Monthly Adult Education Council Meeting\nThird Monday of each month from 7:00-8:00pm\nJan Womack\, Vice Chair Womack.jan@gmail.com
URL:https://faithatfirst.org/event/adult-education-council-meeting/2024-10-21/
LOCATION:Glenna Hall
END:VEVENT
BEGIN:VEVENT
DTSTART;TZID=America/Chicago:20241021T190000
DTEND;TZID=America/Chicago:20241021T203000
DTSTAMP:20260423T203403
CREATED:20240828T205528Z
LAST-MODIFIED:20240828T205528Z
UID:10006813-1729537200-1729542600@faithatfirst.org
SUMMARY:Bundled Blessings Committee Meeting
DESCRIPTION:
URL:https://faithatfirst.org/event/bundled-blessings-committee-meeting-8/
LOCATION:Conference Room
ORGANIZER;CN="Nancy Brown":MAILTO:nandbrown@comcast.net
END:VEVENT
BEGIN:VEVENT
DTSTART;TZID=America/Chicago:20241023T100000
DTEND;TZID=America/Chicago:20241023T103000
DTSTAMP:20260423T203403
CREATED:20241017T205352Z
LAST-MODIFIED:20241017T205352Z
UID:10007435-1729677600-1729679400@faithatfirst.org
SUMMARY:Total Child Organ Demo
DESCRIPTION:Children from Total Child make their annual visit to Dr. Brian in the Sanctuary to learn about the pipe organ.
URL:https://faithatfirst.org/event/total-child-organ-demo/
LOCATION:Sanctuary
ORGANIZER;CN="Brian Schoettler":MAILTO:brian@faithatfirst.com
END:VEVENT
BEGIN:VEVENT
DTSTART;TZID=UTC:20241023T100000
DTEND;TZID=UTC:20241023T110000
DTSTAMP:20260423T203403
CREATED:20230608T002343Z
LAST-MODIFIED:20250922T182943Z
UID:10003828-1729677600-1729681200@faithatfirst.org
SUMMARY:Coffee\, Conversation\, and Friends
DESCRIPTION:This group of women “of a certain age” meet on the second and fourth Wednesday of the month from 10:00 to 11:00 am. We meet at Le Peep in Evanston for informal conversations on a wide variety of topics: books\, the news\, restaurants\, grandchildren\, and places to visit. No matter what’s on the table\, we are all ears. Come join the conversation and make some new friends.
URL:https://faithatfirst.org/event/coffee-conversation-and-friends-7/2024-10-23/
END:VEVENT
BEGIN:VEVENT
DTSTART;VALUE=DATE:20241024
DTEND;VALUE=DATE:20241028
DTSTAMP:20260423T203403
CREATED:20240828T203930Z
LAST-MODIFIED:20240828T203930Z
UID:10006726-1729728000-1730073599@faithatfirst.org
SUMMARY:Fall Adult ASP Trip
DESCRIPTION:Fall 2024 Adult ASP Trip \nASP is an organization based in Johnson City\, TN\, focused on eradicating substandard housing in Central Appalachia. Their main work area includes extremely impoverished counties in WV\, VA\, KY\, TN\, and NC. \nWe plan to gather at 6am on Thursday\, October 24th\, in the back parking lot to load up and drive down.\nWe will foster transformational relationships within the community while performing critical home repairs to make homes warmer\, safer\, and drier during the day on Friday and Saturday.\nAt night we will engage each other to strengthen our relationships as a First Church family.\nOn Sunday\, we will leave early to return home. \nIn harmony with FUMC’s summer youth ASP mission\, we invite adults to join in this opportunity to create community outside our comfortable North Shore bubble. \nFor information\, contact either Grant Bailey or Sydney Harkrider: \nGrant Bailey\n(312) 402-1251\nthegrantbailey@gmail.com \nSydney Harkrider\n(281) 948-7022\nsydney@faithatfirst.com
URL:https://faithatfirst.org/event/fall-adult-asp-trip/
END:VEVENT
BEGIN:VEVENT
DTSTART;TZID=America/Chicago:20241027T091500
DTEND;TZID=America/Chicago:20241027T101500
DTSTAMP:20260423T203403
CREATED:20241018T203229Z
LAST-MODIFIED:20241018T203229Z
UID:10007526-1730020500-1730024100@faithatfirst.org
SUMMARY:Presentation on Christian Zionism
DESCRIPTION:Dr.Bruce Rigdon\, pastor\, scholar and faith leader\, will give a presentation and discussion on ” Christian Zionism “. One definition of the topic is a political and religious ideology that supports the state of Israel and the return of the Jewish People to the Holy Land. An intended goal of the session is to link how this thinking is linked to us as a congregation and how it effects our understanding of the current situation in the Middle East.
URL:https://faithatfirst.org/event/presentation-on-christian-zionism/
LOCATION:Dining Room
END:VEVENT
END:VCALENDAR