BEGIN:VCALENDAR
VERSION:2.0
PRODID:-//First United Methodist Church of Evanston, IL - ECPv6.15.20//NONSGML v1.0//EN
CALSCALE:GREGORIAN
METHOD:PUBLISH
X-ORIGINAL-URL:https://faithatfirst.org
X-WR-CALDESC:Events for First United Methodist Church of Evanston, IL
REFRESH-INTERVAL;VALUE=DURATION:PT1H
X-Robots-Tag:noindex
X-PUBLISHED-TTL:PT1H
BEGIN:VTIMEZONE
TZID:UTC
BEGIN:STANDARD
TZOFFSETFROM:+0000
TZOFFSETTO:+0000
TZNAME:UTC
DTSTART:20220101T000000
END:STANDARD
END:VTIMEZONE
BEGIN:VEVENT
DTSTART;TZID=UTC:20231025T170000
DTEND;TZID=UTC:20231025T190000
DTSTAMP:20260425T222404
CREATED:20231019T001548Z
LAST-MODIFIED:20231019T001548Z
UID:10005484-1698253200-1698260400@faithatfirst.org
SUMMARY:Spooky Story Night and ESCCA Clothing Drive
DESCRIPTION:Spooky Story Night and ESCCA Clothing Drive\, Wednesday\, October 25\, 2023. Come in costume for family-friendly\, faith-affirming spooky stories\, stay for trick or treating! Bring gently used children;s clothes to donate to ESCCA \nPlease register: https://onrealm.org/faithatfirst/PublicRegistrations/Event?linkString=NzE0YjA3NTUtYTQ3OC00NjFmLWE3YjUtYjA5NTAwMGRhNDc5
URL:https://faithatfirst.org/event/spooky-story-night-and-escca-clothing-drive/
END:VEVENT
BEGIN:VEVENT
DTSTART;TZID=UTC:20231026T183000
DTEND;TZID=UTC:20231026T203000
DTSTAMP:20260425T222404
CREATED:20231007T013950Z
LAST-MODIFIED:20231018T235901Z
UID:10005455-1698345000-1698352200@faithatfirst.org
SUMMARY:Mom's Night Out
DESCRIPTION:FUMC Mom’s Night Out – Thurs Oct 26th 6:30 – 8:30 pm\nCOME AS YOU ARE!! – in your sweats\, office clothes\, or yoga pants! \nCherie Asante – Host and Jess Radcliffe Co-Host\nPlease RSVP to cherie.asante@gmail.com \nThis is intended for Every Mom of kids of every age.\nWe snack\, talk and laugh! No agenda! All are welcome!\nBring a snack IF you wish – but no guilt!
URL:https://faithatfirst.org/event/moms-night-out-8/
END:VEVENT
BEGIN:VEVENT
DTSTART;TZID=UTC:20231028T160000
DTEND;TZID=UTC:20231028T230000
DTSTAMP:20260425T222404
CREATED:20231011T013253Z
LAST-MODIFIED:20231011T013253Z
UID:10005456-1698508800-1698534000@faithatfirst.org
SUMMARY:Pumpkin Carving and Bonfire
DESCRIPTION:You are invited to the 4th annual Limitless Pumpkin carving and weenie roast/bonfire Saturday 10/28 starting at 4:00pm at the home of Matt and Stephanie Peters in the backyard. Bring your own pumpkin. \nPumpkin carving supplies\, hotdogs\, buns\, and fixings\, hot cider and water will be provided. Please bring a side to share. RSVP to Stephanie Peters at stephdeloney@gmail.com
URL:https://faithatfirst.org/event/pumpkin-carving-and-bonfire/
END:VEVENT
BEGIN:VEVENT
DTSTART;TZID=UTC:20231028T183000
DTEND;TZID=UTC:20231028T210000
DTSTAMP:20260425T222404
CREATED:20231012T195012Z
LAST-MODIFIED:20231017T060705Z
UID:10005458-1698517800-1698526800@faithatfirst.org
SUMMARY:Couples Salon Fall Gathering
DESCRIPTION:Come join Couples Salon for an evening of food and fellowship on Saturday\, October 28th\, beginning at 6:30 pm at the Evanston home of Steve and Susan Prout.  New participants are welcome!   Please RSVP to Susan at swprout@comcast.net to let her know you are coming\, and whether you are bringing an appetizer\, side dish or dessert to share.
URL:https://faithatfirst.org/event/couples-salon-fall-gathering/
END:VEVENT
BEGIN:VEVENT
DTSTART;TZID=UTC:20231029T091500
DTEND;TZID=UTC:20231029T101500
DTSTAMP:20260425T222404
CREATED:20230907T001956Z
LAST-MODIFIED:20230908T234242Z
UID:10005046-1698570900-1698574500@faithatfirst.org
SUMMARY:Theology\, Identity\, and Me: An Affirming Study of Gender\, Sex\, and Human Sexuality
DESCRIPTION:As First Church embarks on its 10th year as a Reconciling Congregation\, we invite the congregation into a deep exploration of Christian thought\, natural sciences\, and Church history in relation to gender\, sex\, and human sexuality. Using a three-part video course and discussion questions from the Reconciling Ministries Network\, we will seek to understand gender expression and sexual identity in connection to our faith as well as seek ways to practice radical hospitality and grow as a welcoming and affirming community of faith. \n“When we seek to understand each person’s sacred worth\, we can better honor the beauty of God’s creation and our kin.” – Reconciling Ministries Network \nVideo presenters: Liam M. Hooper\, M.Div.\, (He/Him)\, Rev. Quest Hunter (They/Them)\, Rev. H.N. Gibson (They/Them/Theirs)\, Ophelia Hu Kinney (She/Her)\, and Rev. Anjie Peek Woodworth (She/Her) \nFirst Church Facilitator: B.J. Birkhahn-Rommelfanger \nPlease register here: https://onrealm.org/faithatfirst/PublicRegistrations/Event?linkString=OWM5ZWI0ZTUtNGYyNS00YTJlLWE4MjYtYjA3NDAxMjUzZjVi
URL:https://faithatfirst.org/event/theology-identity-and-me-an-affirming-study-of-gender-sex-and-human-sexuality/2023-10-29/
LOCATION:Room 33
END:VEVENT
BEGIN:VEVENT
DTSTART;TZID=UTC:20231029T114500
DTEND;TZID=UTC:20231029T130000
DTSTAMP:20260425T222404
CREATED:20231026T004721Z
LAST-MODIFIED:20231026T004721Z
UID:10005543-1698579900-1698584400@faithatfirst.org
SUMMARY:Nominations & Leadership Dev. Committee Meeting
DESCRIPTION:The Nominations & Leadership Development Committee is led by Pastor Grace Imathiu (chair) and Mike Bergmann (vice chair).
URL:https://faithatfirst.org/event/nominations-leadership-dev-committee-meeting/
LOCATION:Conference Room
END:VEVENT
BEGIN:VEVENT
DTSTART;TZID=UTC:20231101T180000
DTEND;TZID=UTC:20231101T190000
DTSTAMP:20260425T222404
CREATED:20231019T002015Z
LAST-MODIFIED:20231031T035620Z
UID:10005485-1698861600-1698865200@faithatfirst.org
SUMMARY:First Wednesday Potluck
DESCRIPTION:Wednesday\, November 1\, 2023\, 6:00- p.m. – 7:00 p.m. \nBring a side or dessert to share and join your church family for good food and fellowship this fall on the first Wednesday of every month! On the menu this month\, a First UMC Soup Kitchen favorite\, Cheesy Meatball Bake. \nPlease register to aid in preparations\, noting any dietary restrictions or food allergies in the memo field.
URL:https://faithatfirst.org/event/first-wednesday-potluck/
LOCATION:Dining Room
ORGANIZER;CN="Colin McDonald":MAILTO:colin@faithatfirst.com
END:VEVENT
BEGIN:VEVENT
DTSTART;TZID=UTC:20231102T130000
DTEND;TZID=UTC:20231102T140000
DTSTAMP:20260425T222404
CREATED:20231019T003728Z
LAST-MODIFIED:20231019T003809Z
UID:10005486-1698930000-1698933600@faithatfirst.org
SUMMARY:Progressive Christianity Reading Group
DESCRIPTION:Join Progressive Christian Reading Group as they explore Karen Armstrong’s “Twelve Steps to a Compassionate Life” on Thursdays during November via ZOOM from 1pm to 2pm. One of the most original thinkers on the role of religion in the modern world\, Armstrong believes that while compassion is intrinsic in all human beings\, each of us needs to work diligently to cultivate and expand our capacity for compassion. Christie Cooke\, PhD will facilitate our discussions. Contact Bonnie Beckonchrist at Bbeckonchrist@gmail.com for ZOOM info. ALL are welcome.
URL:https://faithatfirst.org/event/progressive-christianity-reading-group-45/2023-11-02/
END:VEVENT
BEGIN:VEVENT
DTSTART;TZID=UTC:20231105T090000
DTEND;TZID=UTC:20231105T101500
DTSTAMP:20260425T222404
CREATED:20231026T224922Z
LAST-MODIFIED:20231026T224924Z
UID:10005096-1699174800-1699179300@faithatfirst.org
SUMMARY:Messy Church!
DESCRIPTION:Messy Church is Christ-centered. Messy Church is creative. Messy Church is for all ages. Messy Church is where YOU belong! \nLife is rarely neat and tidy. But God isn’t afraid to enter the mess. \nMessy Church is an opportunity for children\, families\, and adults to engage in hands-on creative activities\, celebratory worship\, and time together in community. Join us for a different kind of Sunday School for children and adults on the first Sunday of each month from 9:00-10:15 a.m. in Great Hall\, through May. \nPlease register for any sessions you plan to attend to aid in estimating food and materials.
URL:https://faithatfirst.org/event/messy-church-3-2/2023-11-05/
LOCATION:Great Hall
END:VEVENT
BEGIN:VEVENT
DTSTART;TZID=UTC:20231105T113000
DTEND;TZID=UTC:20231105T133000
DTSTAMP:20260425T222404
CREATED:20230901T011742Z
LAST-MODIFIED:20230901T011742Z
UID:10004833-1699183800-1699191000@faithatfirst.org
SUMMARY:Methodist Youth Fellowship
DESCRIPTION:It’s time to start up Youth Ministry again! All youth are invited to come at Methodist Youth Fellowship every 1st and 3rd Sunday right after service from 11:30-1:30pm starting on September 17th. We will have lunch\, play games\, and have time to gather to talk about where we are at in life. This will be our main time to gather as youth to get to know one another. I urge all youth to come hang out and be part of this community! Contact Sydney for more information.
URL:https://faithatfirst.org/event/methodist-youth-fellowship-2/2023-11-05/
LOCATION:Room M
END:VEVENT
BEGIN:VEVENT
DTSTART;TZID=UTC:20231105T140000
DTEND;TZID=UTC:20231105T150000
DTSTAMP:20260425T222404
CREATED:20231018T035423Z
LAST-MODIFIED:20231018T040743Z
UID:10004396-1699192800-1699196400@faithatfirst.org
SUMMARY:Covenant Hike Group
DESCRIPTION:“I love to think of nature as an unlimited broadcasting station\, through which God speaks to us every hour\, if we will only tune in.” – George Washington Carver \nThe Covenant Hike Group invites all who have a wonder of the natural world to share nature immersion with each other through 3 seasons while experiencing the presence of God. The format is simple. We begin with a brief reading (scripture or poem)\, hike along while sharing joys and concerns\, and appreciate 5 minutes of silence at mid-point. Each hike concludes with an optional\, brief time of sharing about our experiences on the hike\, closing prayer\, and a cool or hot drink! All ages are welcomed! \nOn the First Sunday of each month (October through May) we will meet at a designated location at 2 p.m.\, hiking various paths in our area for about an hour at a comfortable pace for everyone. The group will meet each first Sunday through May and participants may join in as schedules allow. \nAll who participate are welcomed to share in ownership. The wonder of the natural world and God’s presence in it is limitless. \nFacilitators: Jim Johnson and Lee Rader. If interested\, please contact Jim at jjohnso@luc.edu to be placed on the distribution list.
URL:https://faithatfirst.org/event/covenant-hike-group-2/2023-11-05/
END:VEVENT
BEGIN:VEVENT
DTSTART;TZID=UTC:20231105T170000
DTEND;TZID=UTC:20231105T190000
DTSTAMP:20260425T222404
CREATED:20231017T235500Z
LAST-MODIFIED:20231017T235500Z
UID:10005478-1699203600-1699210800@faithatfirst.org
SUMMARY:Faith Around The Table
DESCRIPTION:Are you hungry for deeper discussion with members of your First Church community that goes beyond the usual Sunday morning chit chat (as lovely as that may be)? This new group is for you! Once a month\, we’ll gather for a potluck dinner and discuss a topic or prompt relating to faith and spirituality. We may explore a question or theme from a recent sermon\, or try answering John Wesley’s favorite question: “How is it with your soul?” Topics will vary based on the group’s input. Andrew and Amy Schumacher will lead the group and host the first meeting with potential for others to host subsequent dinners or use church space. All are welcome\, this is NOT a couples group. Monthly dinners will be on first Sundays from 5pm to 7pm with the first meeting on Nov. 5th. The group will commit to six months and then reassess. Please email Andrew (andrew.r.schumacher@gmail.com) with questions or to sign up. Due to nature of the group\, we’ll limit to six or seven additional participants. Come join us for good food and real honest discussion!
URL:https://faithatfirst.org/event/faith-around-the-table/2023-11-05/
END:VEVENT
BEGIN:VEVENT
DTSTART;TZID=UTC:20231105T173000
DTEND;TZID=UTC:20231105T193000
DTSTAMP:20260425T222404
CREATED:20230901T011307Z
LAST-MODIFIED:20230929T063156Z
UID:10004515-1699205400-1699212600@faithatfirst.org
SUMMARY:Young Adults Potluck
DESCRIPTION:Calling all Young Adults! We are resuming our potlucks every 1st and 3rd Sunday of the month at 5:30 pm starting on September 17th. Feel free to bring your favorite side item or dessert! Contact Sydney at sydney@faithatfirst.com for the location!
URL:https://faithatfirst.org/event/young-adult-potluck-3/2023-11-05/
END:VEVENT
BEGIN:VEVENT
DTSTART;TZID=UTC:20231106T190000
DTEND;TZID=UTC:20231106T201500
DTSTAMP:20260425T222404
CREATED:20231108T022601Z
LAST-MODIFIED:20231108T022601Z
UID:10005561-1699297200-1699301700@faithatfirst.org
SUMMARY:Nominations Committee Monthly Meeting
DESCRIPTION:The Nominations and Leadership Development committee meets on the first Monday of each month on Zoom. Please address and questions to Pastor Grace Imathiu\, chair at grace@faithatfirst.com and/or Michael Bergmann\, vice chair at mgbergmann@yahoo.com.
URL:https://faithatfirst.org/event/nominations-committee-monthly-meeting/2023-11-06/
END:VEVENT
BEGIN:VEVENT
DTSTART;TZID=UTC:20231107T190000
DTEND;TZID=UTC:20231107T200000
DTSTAMP:20260425T222404
CREATED:20230818T200903Z
LAST-MODIFIED:20230818T200903Z
UID:10004350-1699383600-1699387200@faithatfirst.org
SUMMARY:Mission & Outreach Committee Meeting
DESCRIPTION:Mission & Outreach Committee Meeting. Monthly meetings are open to members of the committee. Hosted by Alli Henry\, alli.m.henry@gmail.com.
URL:https://faithatfirst.org/event/mission-outreach-committee-meeting-4/2023-11-07/
LOCATION:Conference Room
END:VEVENT
BEGIN:VEVENT
DTSTART;TZID=UTC:20231107T193000
DTEND;TZID=UTC:20231107T210000
DTSTAMP:20260425T222404
CREATED:20230908T215809Z
LAST-MODIFIED:20230908T215809Z
UID:10005114-1699385400-1699390800@faithatfirst.org
SUMMARY:First Books
DESCRIPTION:
URL:https://faithatfirst.org/event/first-books-2/2023-11-07/
LOCATION:Glenna Hall
END:VEVENT
BEGIN:VEVENT
DTSTART;TZID=UTC:20231108T100000
DTEND;TZID=UTC:20231108T110000
DTSTAMP:20260425T222404
CREATED:20230908T024328Z
LAST-MODIFIED:20241121T185340Z
UID:10003757-1699437600-1699441200@faithatfirst.org
SUMMARY:Coffee\, Conversation\, and Friends
DESCRIPTION:This group of women “of a certain age” meet on the second and fourth Wednesday of the month from 10:00 to 11:00 am. Year round we gather at LePeep in Evanston for informal conversations on a wide variety of topics: books\, the news\, restaurants\, grandchildren\, and places to visit. No matter what’s on the table\, we are all ears. Come join the conversation and make some new friends.
URL:https://faithatfirst.org/event/coffee-conversation-and-friends-6-2/2023-11-08/
END:VEVENT
BEGIN:VEVENT
DTSTART;TZID=UTC:20231108T183000
DTEND;TZID=UTC:20231108T203000
DTSTAMP:20260425T222404
CREATED:20231102T010200Z
LAST-MODIFIED:20231102T010200Z
UID:10005548-1699468200-1699475400@faithatfirst.org
SUMMARY:Mom's Night Out
DESCRIPTION:FUMC Mom’s Night Out – Wed Nov 8th 6:30 – 8:30 pm\nCOME AS YOU ARE!! We will be Grateful to See you! \nDebbie Zimmerman Host – with Evelyn McGowan Cohost \nIf you want to bring a dish\, that would be lovely – but no pressure!\nRSVP to DMCEZimmerman@hotmail.com \nTHANK YOU! Cherie Asante and Jessica Radcliffe for a lovely October evening with sparkling conversation! \nSave the date : Tuesday December 12th – Greta Connor and Susan Henderson
URL:https://faithatfirst.org/event/moms-night-out-9/
END:VEVENT
BEGIN:VEVENT
DTSTART;TZID=UTC:20231108T190000
DTEND;TZID=UTC:20231108T201500
DTSTAMP:20260425T222404
CREATED:20230901T202623Z
LAST-MODIFIED:20230901T202623Z
UID:10005014-1699470000-1699474500@faithatfirst.org
SUMMARY:Membership Committee Meeting
DESCRIPTION:Monthly meeting of the Membership Committee Please address questions to Mark Henry\, Chair\, at mark.g.henry@gmail.com .
URL:https://faithatfirst.org/event/membership-committee-meeting-4/2023-11-08/
LOCATION:Conference Room
END:VEVENT
BEGIN:VEVENT
DTSTART;TZID=UTC:20231109T190000
DTEND;TZID=UTC:20231109T210000
DTSTAMP:20260425T222404
CREATED:20230606T203604Z
LAST-MODIFIED:20230606T203747Z
UID:10003696-1699556400-1699563600@faithatfirst.org
SUMMARY:Limitless Game Night & Conversation
DESCRIPTION:The Limitless Game Night & Conversation is a virtual gathering to talk and play online games such as Codenames\, Scattergories\, Pictionary\, and several others.  Limitless is a group of adults\, singles and couples\, that span multiple ages and life stages.  New participants are always welcome. \nIf interested\, please contact Stephanie Peters at stephdeloney@gmail.com .
URL:https://faithatfirst.org/event/limitless-game-night-conversation/2023-11-09/
LOCATION:Zoom
ORGANIZER;CN="Stephanie Peters":MAILTO:stephdeloney@gmail.com
END:VEVENT
BEGIN:VEVENT
DTSTART;TZID=UTC:20231110T160000
DTEND;TZID=UTC:20231110T180000
DTSTAMP:20260425T222404
CREATED:20231108T023107Z
LAST-MODIFIED:20231108T023107Z
UID:10005569-1699632000-1699639200@faithatfirst.org
SUMMARY:J.U.M.P.
DESCRIPTION:J.U.M.P. (Junior United Methodist People) serves as an introductory youth group for students in grades 4-6 and meets monthly on Fridays from 4:00-6:00 p.m. In November\, J.U.M.P. will focus on giving thanks by giving back as we help decorate ornaments for this year’s Christmas Star Tree; an annual tradition and partnership with Y.O.U. that seeks to provide children in Evanston with gifts their families can’t afford. \nPlease register in advance at onrealm.org/faithatfirst/Registrations. \nDrop-off and pick-up at First Church’s Church Street entrance (516 Church St.).
URL:https://faithatfirst.org/event/j-u-m-p-8/
END:VEVENT
BEGIN:VEVENT
DTSTART;TZID=UTC:20231112T100000
DTEND;TZID=UTC:20231112T101500
DTSTAMP:20260425T222404
CREATED:20231003T215435Z
LAST-MODIFIED:20231003T215435Z
UID:10005443-1699783200-1699784100@faithatfirst.org
SUMMARY:Children's Choir Rehearsal
DESCRIPTION:
URL:https://faithatfirst.org/event/childrens-choir-rehearsal-38/
LOCATION:Sanctuary
END:VEVENT
BEGIN:VEVENT
DTSTART;TZID=UTC:20231112T113000
DTEND;TZID=UTC:20231112T120000
DTSTAMP:20260425T222404
CREATED:20231108T030549Z
LAST-MODIFIED:20231108T030549Z
UID:10005599-1699788600-1699790400@faithatfirst.org
SUMMARY:Earth Care Lending Library
DESCRIPTION:Earth Care Lending Library Open on November 12\nLooking for a place to continue growing in your understanding of environmental justice\nand how to care for God’s creation? Visit the Earth Care Lending Library\, which is open every 2nd Sunday after worship in Great Hall. A small lending library with books for readers of all ages\, the titles were curated by the Earth Care Committee and include Newbery Award-winning children’s\nbooks\, as well as titles by leading voices from the spiritual and scientific communities. Check it out!
URL:https://faithatfirst.org/event/earth-care-lending-library/2023-11-12/
LOCATION:Great Hall
END:VEVENT
BEGIN:VEVENT
DTSTART;TZID=UTC:20231112T150000
DTEND;TZID=UTC:20231112T180000
DTSTAMP:20260425T222404
CREATED:20231027T012808Z
LAST-MODIFIED:20231027T013542Z
UID:10005546-1699801200-1699812000@faithatfirst.org
SUMMARY:Fleetwood-Jourdain Production: The Bitter Earth - Dinner and a Show
DESCRIPTION:The Social Justice Committee and the Reconciling Congregation Task Force invite you to Fleetwood-Jourdain Theatre’s production of This Bitter Earth on Sunday November 12 at 3:00 pm. The invitation is to a Fleetwood-Jourdain Theatre and Stacked & Folded in Evanston offering of a $30 Dinner and Show Package. We will discuss the play over dinner; Stacked and Folded is just across Noyes Street from the theatre. \nRegister now and pay online or via check/cash due Nov. 12. \nThis Bitter Earth \nA deep love is challenged by divisive political realities. Jesse\, an introspective Black playwright\, finds his choices called into question when his boyfriend Neil\, a white Black Lives Matter activist\, calls him out for his political apathy. As passions and priorities collide\, this couple is forced to reckon with issues\, of race\, class and the bravery it takes to love out loud.
URL:https://faithatfirst.org/event/fleetwood-jourdain-production-the-bitter-earth-dinner-and-a-show/
LOCATION:Noyes Cultural Center\, 927 Noyes Street\, Evanston\, IL\, 60201\, United States
END:VEVENT
BEGIN:VEVENT
DTSTART;TZID=UTC:20231114T083000
DTEND;TZID=UTC:20231114T110000
DTSTAMP:20260425T222404
CREATED:20230629T032723Z
LAST-MODIFIED:20230629T032854Z
UID:10004042-1699950600-1699959600@faithatfirst.org
SUMMARY:Producemobile (Volunteers Needed)
DESCRIPTION:Interfaith Action volunteers distribute 11\,000 pounds of fresh produce\, donated by the Greater Chicago Food Depository\, to Cook County residents in need. Numbered tickets are provided to guests\, who each receive 15-25 pounds of fruits and vegetables. There is a walk-up line and distribution takes place outside\, so bring a wheeled cart and/or strong bags with handles. \nAs part of the Producemobile program\, SNAPGap collects personal hygiene and cleaning products that cannot be purchased with federal benefits and distributes them to people in need. Member church communities donate and collect different items every month\, including toilet paper\, razors\, laundry detergent\, and soap. \nThe Producemobile is co-sponsored by the Greater Chicago Food Depository\, Interfaith Action of Evanston\, and the City of Evanston.  This initiative runs largely on volunteers.  Want to help?  Please sign up here: https://www.signupgenius.com/go/4090f4bafaf23a02-evanston#/.
URL:https://faithatfirst.org/event/producemobile-volunteers-needed/2023-11-14/
ATTACH;FMTTYPE=image/jpeg:https://faithatfirst.org/wp-content/uploads/2023/06/producemobile-007-aspect-ratio-1-1-Alli-Henry.jpg
END:VEVENT
BEGIN:VEVENT
DTSTART;TZID=UTC:20231114T190000
DTEND;TZID=UTC:20231114T203000
DTSTAMP:20260425T222404
CREATED:20231003T210740Z
LAST-MODIFIED:20231003T210800Z
UID:10005434-1699988400-1699993800@faithatfirst.org
SUMMARY:Church Council Meeting
DESCRIPTION:
URL:https://faithatfirst.org/event/church-council-meeting/2023-11-14/
LOCATION:Glenna Hall
END:VEVENT
BEGIN:VEVENT
DTSTART;TZID=UTC:20231115T183000
DTEND;TZID=UTC:20231115T193000
DTSTAMP:20260425T222404
CREATED:20231003T215538Z
LAST-MODIFIED:20231003T215538Z
UID:10005444-1700073000-1700076600@faithatfirst.org
SUMMARY:Orchestra Rehearsal
DESCRIPTION:
URL:https://faithatfirst.org/event/orchestra-rehearsal-2/
LOCATION:Sanctuary
END:VEVENT
BEGIN:VEVENT
DTSTART;TZID=UTC:20231115T193000
DTEND;TZID=UTC:20231115T210000
DTSTAMP:20260425T222404
CREATED:20231003T215829Z
LAST-MODIFIED:20231003T215829Z
UID:10005445-1700076600-1700082000@faithatfirst.org
SUMMARY:Festival Choir Dress Rehearsal
DESCRIPTION:
URL:https://faithatfirst.org/event/festival-choir-dress-rehearsal-3/
LOCATION:Sanctuary
END:VEVENT
BEGIN:VEVENT
DTSTART;TZID=UTC:20231115T193000
DTEND;TZID=UTC:20231115T210000
DTSTAMP:20260425T222404
CREATED:20231108T030245Z
LAST-MODIFIED:20231108T030245Z
UID:10005598-1700076600-1700082000@faithatfirst.org
SUMMARY:"Smart Home Energy: Reduce Your Energy Bills & Lower Your Carbon Footprint"
DESCRIPTION:From the Earth Care Committee: Many of us are looking for ways to reduce our carbon footprint and energy use at home\, but the solutions\, rebates\, and credits can be confusing! Please join Beth Emet\, Interfaith Action\, Climate Action Evanston\, Go Green Wilmette\, and Citizens’ Climate Lobby for a combination in-person and virtual event\, “Smart Home Energy: Reduce Your Energy Bills & Lower Your Carbon Footprint” on November 15 from 7:30 to 9:00. The in-person program will be at Beth Emet\, 1224 Dempster. Registration is required for both in-person and virtual at https://bethemet.org/event/smart-home-energy/
URL:https://faithatfirst.org/event/smart-home-energy-reduce-your-energy-bills-lower-your-carbon-footprint/
END:VEVENT
BEGIN:VEVENT
DTSTART;TZID=UTC:20231116T190000
DTEND;TZID=UTC:20231116T203000
DTSTAMP:20260425T222404
CREATED:20231108T022253Z
LAST-MODIFIED:20231108T022253Z
UID:10005553-1700161200-1700166600@faithatfirst.org
SUMMARY:SPRC Monthly Meeting
DESCRIPTION:Monthly meeting of the Staff Parish Relations Committee. Please address questions about this group to Beth Swanick\, Chair.
URL:https://faithatfirst.org/event/sprc-monthly-meeting-2/2023-11-16/
END:VEVENT
END:VCALENDAR