BEGIN:VCALENDAR
VERSION:2.0
PRODID:-//First United Methodist Church of Evanston, IL - ECPv6.15.20//NONSGML v1.0//EN
CALSCALE:GREGORIAN
METHOD:PUBLISH
X-WR-CALNAME:First United Methodist Church of Evanston, IL
X-ORIGINAL-URL:https://faithatfirst.org
X-WR-CALDESC:Events for First United Methodist Church of Evanston, IL
REFRESH-INTERVAL;VALUE=DURATION:PT1H
X-Robots-Tag:noindex
X-PUBLISHED-TTL:PT1H
BEGIN:VTIMEZONE
TZID:America/Chicago
BEGIN:DAYLIGHT
TZOFFSETFROM:-0600
TZOFFSETTO:-0500
TZNAME:CDT
DTSTART:20250309T080000
END:DAYLIGHT
BEGIN:STANDARD
TZOFFSETFROM:-0500
TZOFFSETTO:-0600
TZNAME:CST
DTSTART:20251102T070000
END:STANDARD
BEGIN:DAYLIGHT
TZOFFSETFROM:-0600
TZOFFSETTO:-0500
TZNAME:CDT
DTSTART:20260308T080000
END:DAYLIGHT
BEGIN:STANDARD
TZOFFSETFROM:-0500
TZOFFSETTO:-0600
TZNAME:CST
DTSTART:20261101T070000
END:STANDARD
BEGIN:DAYLIGHT
TZOFFSETFROM:-0600
TZOFFSETTO:-0500
TZNAME:CDT
DTSTART:20270314T080000
END:DAYLIGHT
BEGIN:STANDARD
TZOFFSETFROM:-0500
TZOFFSETTO:-0600
TZNAME:CST
DTSTART:20271107T070000
END:STANDARD
END:VTIMEZONE
BEGIN:VTIMEZONE
TZID:UTC
BEGIN:STANDARD
TZOFFSETFROM:+0000
TZOFFSETTO:+0000
TZNAME:UTC
DTSTART:20250101T000000
END:STANDARD
END:VTIMEZONE
BEGIN:VEVENT
DTSTART;VALUE=DATE:20260724
DTEND;VALUE=DATE:20260726
DTSTAMP:20260423T132048
CREATED:20260308T142644Z
LAST-MODIFIED:20260308T142644Z
UID:10011647-1784851200-1785023999@faithatfirst.org
SUMMARY:Wedding
DESCRIPTION:
URL:https://faithatfirst.org/event/wedding-5/
LOCATION:Tittle Chapel
END:VEVENT
BEGIN:VEVENT
DTSTART;TZID=America/Chicago:20260724T160000
DTEND;TZID=America/Chicago:20260724T180000
DTSTAMP:20260423T132048
CREATED:20251106T170651Z
LAST-MODIFIED:20251106T170651Z
UID:10011100-1784908800-1784916000@faithatfirst.org
SUMMARY:Wedding Rehearsal
DESCRIPTION:
URL:https://faithatfirst.org/event/wedding-rehearsal-2/2026-07-24/
LOCATION:Glenna Hall
END:VEVENT
BEGIN:VEVENT
DTSTART;TZID=UTC:20260726T173000
DTEND;TZID=UTC:20260726T193000
DTSTAMP:20260423T132048
CREATED:20240717T192145Z
LAST-MODIFIED:20250520T184549Z
UID:10005964-1785087000-1785094200@faithatfirst.org
SUMMARY:Young Adult Potluck
DESCRIPTION:Calling all Young Adults!  Join us for our Potlucks every other week at 5:30pm. Feel free to bring your favorite side item or dessert! Contact Sydney Harkrider at sydney@faithatfirst.com for the location!
URL:https://faithatfirst.org/event/young-adult-potluck-2-2-2/2026-07-26/
ORGANIZER;CN="Sydney Harkrider":MAILTO:sydney@faithatfirst.com
END:VEVENT
BEGIN:VEVENT
DTSTART;TZID=America/Chicago:20260729T120000
DTEND;TZID=America/Chicago:20260729T133000
DTSTAMP:20260423T132048
CREATED:20240904T191115Z
LAST-MODIFIED:20240904T191115Z
UID:10007170-1785326400-1785331800@faithatfirst.org
SUMMARY:Collaborate\, Connect\, Care Staff Meeting
DESCRIPTION:
URL:https://faithatfirst.org/event/collaborate-connect-care-staff-meeting/2026-07-29/
LOCATION:Dining Room
ORGANIZER;CN="Pastor Britt Cox":MAILTO:britt@faithatfirst.com
END:VEVENT
BEGIN:VEVENT
DTSTART;TZID=America/Chicago:20260806T153000
DTEND;TZID=America/Chicago:20260806T163000
DTSTAMP:20260423T132048
CREATED:20250916T155213Z
LAST-MODIFIED:20250916T155213Z
UID:10010864-1786030200-1786033800@faithatfirst.org
SUMMARY:Total Child - Moving On Ceremony
DESCRIPTION:
URL:https://faithatfirst.org/event/total-child-moving-on-ceremony/
LOCATION:Dining Hall
END:VEVENT
BEGIN:VEVENT
DTSTART;TZID=America/Chicago:20260810T090000
DTEND;TZID=America/Chicago:20260813T130000
DTSTAMP:20260423T132048
CREATED:20260421T183744Z
LAST-MODIFIED:20260421T183744Z
UID:10012224-1786352400-1786626000@faithatfirst.org
SUMMARY:Faith in the Wild VBS
DESCRIPTION:“Faith in the Wild” is an original\, environmentally-focused Vacation Bible School program that aims to inspire lifelong connections to the natural world and each other as agents of change in God’s unending story of creation. In partnership with local community organizations\, campers engage in daily acts of stewardship\, play\, and prayerful reflection while exploring creation inside and out.\n\nLearn more and register by July 1 for “early bird” discount!\nhttps://onrealm.org/faithatfirst/PublicRegistrations/Event?linkString=OGMwMTg5NjktYWEzMS00N2JiLWEzN2ItYjQxZTAxMmM1Mjlm
URL:https://faithatfirst.org/event/faith-in-the-wild-vbs/
LOCATION:Kitchen ;Memorial Garden ;Hinman Lawn
END:VEVENT
BEGIN:VEVENT
DTSTART;TZID=America/Chicago:20260817T190000
DTEND;TZID=America/Chicago:20260817T203000
DTSTAMP:20260423T132048
CREATED:20250817T202006Z
LAST-MODIFIED:20250817T202006Z
UID:10009806-1786993200-1786998600@faithatfirst.org
SUMMARY:Adult Education meeting
DESCRIPTION:Monthly meeting of Adult Education Council
URL:https://faithatfirst.org/event/adult-education-meeting/2026-08-17/
LOCATION:Glenna Hall
END:VEVENT
END:VCALENDAR