BEGIN:VCALENDAR
VERSION:2.0
PRODID:-//First United Methodist Church of Evanston, IL - ECPv6.15.20//NONSGML v1.0//EN
CALSCALE:GREGORIAN
METHOD:PUBLISH
X-ORIGINAL-URL:https://faithatfirst.org
X-WR-CALDESC:Events for First United Methodist Church of Evanston, IL
REFRESH-INTERVAL;VALUE=DURATION:PT1H
X-Robots-Tag:noindex
X-PUBLISHED-TTL:PT1H
BEGIN:VTIMEZONE
TZID:America/Chicago
BEGIN:DAYLIGHT
TZOFFSETFROM:-0600
TZOFFSETTO:-0500
TZNAME:CDT
DTSTART:20240310T080000
END:DAYLIGHT
BEGIN:STANDARD
TZOFFSETFROM:-0500
TZOFFSETTO:-0600
TZNAME:CST
DTSTART:20241103T070000
END:STANDARD
BEGIN:DAYLIGHT
TZOFFSETFROM:-0600
TZOFFSETTO:-0500
TZNAME:CDT
DTSTART:20250309T080000
END:DAYLIGHT
BEGIN:STANDARD
TZOFFSETFROM:-0500
TZOFFSETTO:-0600
TZNAME:CST
DTSTART:20251102T070000
END:STANDARD
BEGIN:DAYLIGHT
TZOFFSETFROM:-0600
TZOFFSETTO:-0500
TZNAME:CDT
DTSTART:20260308T080000
END:DAYLIGHT
BEGIN:STANDARD
TZOFFSETFROM:-0500
TZOFFSETTO:-0600
TZNAME:CST
DTSTART:20261101T070000
END:STANDARD
END:VTIMEZONE
BEGIN:VTIMEZONE
TZID:UTC
BEGIN:STANDARD
TZOFFSETFROM:+0000
TZOFFSETTO:+0000
TZNAME:UTC
DTSTART:20240101T000000
END:STANDARD
END:VTIMEZONE
BEGIN:VEVENT
DTSTART;TZID=America/Chicago:20250331T103000
DTEND;TZID=America/Chicago:20250331T113000
DTSTAMP:20260420T201624
CREATED:20250203T175336Z
LAST-MODIFIED:20250203T175336Z
UID:10008589-1743417000-1743420600@faithatfirst.org
SUMMARY:Lent Contemplative Prayer Group
DESCRIPTION:Lent Contemplative Prayer Group In the 1960s\, the well-known Trappist monk\, Thomas Merton\, brought contemplative practice out of the cloister into the realm of ordinary people. In the 1970s\, Father Thomas Keating developed a form of contemplative practice called centering prayer; and John Main\, a Benedictine monk\, advocated a practice of contemplative meditation. We will be utilizing the small group format for contemplative practice outlined in the book “Where Two or Three Are Gathered” by Rev. Daniel Prechtel with an emphasis on lectio (reading)\, meditatio (meditation)\, oratio (prayer)\, and contemplatio (contemplation). The contemplative practice group will meet on Mondays\, March 10th – April 14th during Lent\, from 10:30am-11:30am on zoom and will be facilitated by Glynis Doyle and Maryellen Scott. If you have any questions\, would like to receive an outline of the format of the class\, or would like to register\, you can contact Glynis at dleedoyle@gmail.com.
URL:https://faithatfirst.org/event/lent-contemplative-prayer-group-2/2025-03-31/
LOCATION:Zoom
END:VEVENT
BEGIN:VEVENT
DTSTART;TZID=America/Chicago:20250331T163000
DTEND;TZID=America/Chicago:20250331T213000
DTSTAMP:20260420T201625
CREATED:20250314T181529Z
LAST-MODIFIED:20250314T181529Z
UID:10008903-1743438600-1743456600@faithatfirst.org
SUMMARY:Evanston Lighthouse Rotary
DESCRIPTION:
URL:https://faithatfirst.org/event/evanston-lighthouse-rotary/
LOCATION:Dining Room
END:VEVENT
BEGIN:VEVENT
DTSTART;TZID=America/Chicago:20250401T203000
DTEND;TZID=America/Chicago:20250401T210000
DTSTAMP:20260420T201625
CREATED:20241205T152512Z
LAST-MODIFIED:20241205T152512Z
UID:10008115-1743539400-1743541200@faithatfirst.org
SUMMARY:Compline Night Prayer Service
DESCRIPTION:Compline Night Prayer Services Return\nOn Tuesdays beginning January 7th\, you are invited to a thirty minute Night Prayer Service to end your day in community and peace. These services from 8:30 p.m. to 9:00 p.m.\, available via Zoom\, are patterned after the ancient monastic tradition of Compline (meaning completion)–the final prayer of the day. We will follow a simple liturgical format for this service of quietness and reflection before rest. Persons of all ages are encouraged to give this spiritual practice a try. The zoom format invites participation from anywhere! We are enriched when family & friends in many locations join in. The services\, sponsored by the Faith Formation Council\, will continue through Lent\, concluding on April 8th. Participants may attend as schedules allow. Contact Tom Scott (tom.scott.goblue@msn.com) to sign up or with questions.
URL:https://faithatfirst.org/event/compline-night-prayer-service-4/2025-04-01/
LOCATION:Zoom
END:VEVENT
BEGIN:VEVENT
DTSTART;TZID=America/Chicago:20250402T080000
DTEND;TZID=America/Chicago:20250402T170000
DTSTAMP:20260420T201625
CREATED:20250216T203241Z
LAST-MODIFIED:20250216T203241Z
UID:10008845-1743580800-1743613200@faithatfirst.org
SUMMARY:Festival Choir Rehearsal
DESCRIPTION:Adults and high school youth from the congregation and the community rehearse in preparation of Handel’s “Messiah” (Parts II & III) for the Festival Choir Concert on May 16\, 2025. No audition is required.
URL:https://faithatfirst.org/event/festival-choir-rehearsal-21/2025-04-02/
LOCATION:Choir Room
ORGANIZER;CN="Brian Schoettler":MAILTO:brian@faithatfirst.com
END:VEVENT
BEGIN:VEVENT
DTSTART;TZID=America/Chicago:20250402T110000
DTEND;TZID=America/Chicago:20250402T123000
DTSTAMP:20260420T201625
CREATED:20240904T190639Z
LAST-MODIFIED:20240904T190639Z
UID:10006970-1743591600-1743597000@faithatfirst.org
SUMMARY:Staff Meeting
DESCRIPTION:
URL:https://faithatfirst.org/event/staff-meeting-62/2025-04-02/
LOCATION:Conference Room
ORGANIZER;CN="Pastor Britt Cox":MAILTO:britt@faithatfirst.com
END:VEVENT
BEGIN:VEVENT
DTSTART;TZID=America/Chicago:20250402T171500
DTEND;TZID=America/Chicago:20250402T180000
DTSTAMP:20260420T201625
CREATED:20240828T203010Z
LAST-MODIFIED:20250213T165623Z
UID:10006577-1743614100-1743616800@faithatfirst.org
SUMMARY:Children's Choir Rehearsal
DESCRIPTION:Children in grades 1-6 rehearse weekly and sing in worship monthly. No audition is required and new singers are welcome throughout the year. For more information\, email Dr. Brian Schoettler.
URL:https://faithatfirst.org/event/childrens-choir-rehearsal-62/2025-04-02/
LOCATION:Choir Room
ORGANIZER;CN="Brian Schoettler":MAILTO:brian@faithatfirst.com
END:VEVENT
BEGIN:VEVENT
DTSTART;TZID=America/Chicago:20250402T180000
DTEND;TZID=America/Chicago:20250402T190000
DTSTAMP:20260420T201625
CREATED:20250124T164955Z
LAST-MODIFIED:20250128T162426Z
UID:10008547-1743616800-1743620400@faithatfirst.org
SUMMARY:First Wednesday Potluck
DESCRIPTION:Bring a side or dessert to share and join your church family for good food\, fellowship\, and seasonal activities for all ages on the first Wednesday of each month! \nPlease register to aid in preparations\, noting dates you plan to attend and any dietary restrictions or food allergies in the memo field.
URL:https://faithatfirst.org/event/first-wednesday-potluck-9/2025-04-02/
LOCATION:Dining Room
END:VEVENT
BEGIN:VEVENT
DTSTART;TZID=America/Chicago:20250402T183000
DTEND;TZID=America/Chicago:20250402T191500
DTSTAMP:20260420T201625
CREATED:20240828T202420Z
LAST-MODIFIED:20250213T170358Z
UID:10006503-1743618600-1743621300@faithatfirst.org
SUMMARY:Handbell Choir Rehearsal
DESCRIPTION:The Handbell Choir plays in worship seasonally. Basic music reading skills required (instrumentalists are especially welcome). Open to adults and youth in grades 6-12. New members are welcome throughout the year – email Dr. Brian Schoettler for more information.
URL:https://faithatfirst.org/event/handbell-choir-rehearsal-32/2025-04-02/
LOCATION:Choir Room
ORGANIZER;CN="Brian Schoettler":MAILTO:brian@faithatfirst.com
END:VEVENT
BEGIN:VEVENT
DTSTART;TZID=America/Chicago:20250402T193000
DTEND;TZID=America/Chicago:20250402T210000
DTSTAMP:20260420T201625
CREATED:20240828T202245Z
LAST-MODIFIED:20240903T164905Z
UID:10006464-1743622200-1743627600@faithatfirst.org
SUMMARY:Chancel Choir Rehearsal
DESCRIPTION:Adults and high school youth rehearse music for worship. No audition is required. Email Dr. Brian Schoettler for more information.
URL:https://faithatfirst.org/event/chancel-choir-rehearsal-139/2025-04-02/
LOCATION:Choir Room
ORGANIZER;CN="Brian Schoettler":MAILTO:brian@faithatfirst.com
END:VEVENT
BEGIN:VEVENT
DTSTART;TZID=UTC:20250403T173000
DTEND;TZID=UTC:20250403T190000
DTSTAMP:20260420T201625
CREATED:20230714T003533Z
LAST-MODIFIED:20230714T003711Z
UID:10004144-1743701400-1743706800@faithatfirst.org
SUMMARY:Soup Kitchen
DESCRIPTION:As part of Interfaith Action of Evanston\, First Church hosts a weekly soup kitchen each Thursday evening.  A host team of First Church volunteers is needed each week\, and 5-6 times a year we also need cooking teams.   Interested in helping?  Please contact Dave Koester (davekoester57@gmail.com) about current scheduling needs.
URL:https://faithatfirst.org/event/soup-kitchen/2025-04-03/
LOCATION:Dining Room
ORGANIZER;CN="Dave Koester":MAILTO:davekoester57@gmail.com
END:VEVENT
BEGIN:VEVENT
DTSTART;TZID=America/Chicago:20250404T080000
DTEND;TZID=America/Chicago:20250405T170000
DTSTAMP:20260420T201625
CREATED:20240606T163132Z
LAST-MODIFIED:20240606T163823Z
UID:10005869-1743753600-1743872400@faithatfirst.org
SUMMARY:Wedding
DESCRIPTION:Friday\, April 4 and Saturday\, April 5\, 2025 – Wedding Rehearsal and Wedding Ceremony
URL:https://faithatfirst.org/event/wedding/
LOCATION:Tittle Chapel
END:VEVENT
BEGIN:VEVENT
DTSTART;TZID=America/Chicago:20250405T183000
DTEND;TZID=America/Chicago:20250405T203000
DTSTAMP:20260420T201625
CREATED:20250211T173044Z
LAST-MODIFIED:20250211T173044Z
UID:10008630-1743877800-1743885000@faithatfirst.org
SUMMARY:Dinner for Earth Care Committee and Special Guests
DESCRIPTION:
URL:https://faithatfirst.org/event/dinner-for-earth-care-committee-and-special-guests/
LOCATION:Glenna Hall
END:VEVENT
BEGIN:VEVENT
DTSTART;VALUE=DATE:20250406
DTEND;VALUE=DATE:20250407
DTSTAMP:20260420T201625
CREATED:20250317T154814Z
LAST-MODIFIED:20250317T154814Z
UID:10008904-1743897600-1743983999@faithatfirst.org
SUMMARY:Earth Care Sunday
DESCRIPTION:
URL:https://faithatfirst.org/event/earth-care-sunday-2/
END:VEVENT
BEGIN:VEVENT
DTSTART;TZID=America/Chicago:20250406T100000
DTEND;TZID=America/Chicago:20250406T101500
DTSTAMP:20260420T201625
CREATED:20250216T204512Z
LAST-MODIFIED:20250216T204512Z
UID:10008856-1743933600-1743934500@faithatfirst.org
SUMMARY:Children's Choir Rehearsal
DESCRIPTION:Children’s Choir prepares to sing in worship. Please meet on the front steps in the Sanctuary for our brief rehearsal. Participation in Wednesday rehearsals is required to participate.
URL:https://faithatfirst.org/event/childrens-choir-rehearsal-65/2025-04-06/
LOCATION:Sanctuary
ORGANIZER;CN="Brian Schoettler":MAILTO:brian@faithatfirst.com
END:VEVENT
BEGIN:VEVENT
DTSTART;TZID=America/Chicago:20250406T113000
DTEND;TZID=America/Chicago:20250406T133000
DTSTAMP:20260420T201625
CREATED:20240828T200038Z
LAST-MODIFIED:20240828T200038Z
UID:10006335-1743939000-1743946200@faithatfirst.org
SUMMARY:Methodist Youth Fellowship
DESCRIPTION:All 7th-12th grade youth are invited to attend Methodist Youth Fellowship (MYF)! This is our gathering twice a month for all youth to have lunch and then engage in music\, lessons\, a service project\, or simply have fun together. Come and join us! All are welcome!
URL:https://faithatfirst.org/event/methodist-youth-fellowship-6/2025-04-06/
LOCATION:Room M
ORGANIZER;CN="Sydney Harkrider":MAILTO:sydney@faithatfirst.com
END:VEVENT
BEGIN:VEVENT
DTSTART;TZID=America/Chicago:20250406T114000
DTEND;TZID=America/Chicago:20250406T123000
DTSTAMP:20260420T201625
CREATED:20250314T180705Z
LAST-MODIFIED:20250314T180705Z
UID:10008900-1743939600-1743942600@faithatfirst.org
SUMMARY:New Members-First Friends Lunch
DESCRIPTION:
URL:https://faithatfirst.org/event/new-members-first-friends-lunch/2025-04-06/
END:VEVENT
BEGIN:VEVENT
DTSTART;TZID=America/Chicago:20250406T120000
DTEND;TZID=America/Chicago:20250406T130000
DTSTAMP:20260420T201625
CREATED:20250309T154557Z
LAST-MODIFIED:20250309T164632Z
UID:10008889-1743940800-1743944400@faithatfirst.org
SUMMARY:Children's Council
DESCRIPTION:Children’s Council acts as both a work committee and an advisory board to the Director of Children’s Ministry. The Children’s Council focuses on formulating and supporting the vision of our various children’s ministries. We consult with the Director of Children’s Ministries to plan the yearlong calendar. Under the umbrella of Children’s Ministries are the following programs: Sunday School\, Chapel\, Connect 456\, Nursery\, Summer Camps (Creation Camp\, VBS\, Family Camp)\, Fellowship Groups\, Pageant\, and holiday celebrations (e.g\, Advent\, Lent\, Easter).
URL:https://faithatfirst.org/event/childrens-council-5/2025-04-06/
LOCATION:Dining Room and Conference Room
END:VEVENT
BEGIN:VEVENT
DTSTART;TZID=America/Chicago:20250406T173000
DTEND;TZID=America/Chicago:20250406T210000
DTSTAMP:20260420T201625
CREATED:20240828T195357Z
LAST-MODIFIED:20240828T195357Z
UID:10006308-1743960600-1743973200@faithatfirst.org
SUMMARY:Young Adult Potluck
DESCRIPTION:All young adults are invited to our potluck! Whether you are new around here\, or looking for other adults to befriend— you are welcome here! We gather at the Bailey’s home\, and all bring dishes to share. Contact Sydney for the address\, and hope to see you there!
URL:https://faithatfirst.org/event/young-adult-potluck-4/2025-04-06/
ORGANIZER;CN="Sydney Harkrider":MAILTO:sydney@faithatfirst.com
END:VEVENT
BEGIN:VEVENT
DTSTART;TZID=America/Chicago:20250408T140000
DTEND;TZID=America/Chicago:20250408T153000
DTSTAMP:20260420T201625
CREATED:20240828T203725Z
LAST-MODIFIED:20240828T203725Z
UID:10006611-1744120800-1744126200@faithatfirst.org
SUMMARY:Archives Committee
DESCRIPTION:
URL:https://faithatfirst.org/event/archives-committee-2/2025-04-08/
LOCATION:Archives-Room 37
END:VEVENT
BEGIN:VEVENT
DTSTART;TZID=America/Chicago:20250408T143000
DTEND;TZID=America/Chicago:20250408T153000
DTSTAMP:20260420T201625
CREATED:20250311T182600Z
LAST-MODIFIED:20250311T182600Z
UID:10008896-1744122600-1744126200@faithatfirst.org
SUMMARY:Music Ministry
DESCRIPTION:
URL:https://faithatfirst.org/event/music-ministry-30/
LOCATION:Sanctuary
END:VEVENT
BEGIN:VEVENT
DTSTART;TZID=America/Chicago:20250408T190000
DTEND;TZID=America/Chicago:20250408T203000
DTSTAMP:20260420T201625
CREATED:20240828T200726Z
LAST-MODIFIED:20240828T200726Z
UID:10006420-1744138800-1744144200@faithatfirst.org
SUMMARY:Church Council Meeting
DESCRIPTION:
URL:https://faithatfirst.org/event/church-council-meeting-2/2025-04-08/
LOCATION:Glenna Hall
END:VEVENT
BEGIN:VEVENT
DTSTART;TZID=UTC:20250409T100000
DTEND;TZID=UTC:20250409T110000
DTSTAMP:20260420T201625
CREATED:20230908T024328Z
LAST-MODIFIED:20241121T185340Z
UID:10003774-1744192800-1744196400@faithatfirst.org
SUMMARY:Coffee\, Conversation\, and Friends
DESCRIPTION:This group of women “of a certain age” meet on the second and fourth Wednesday of the month from 10:00 to 11:00 am. Year round we gather at LePeep in Evanston for informal conversations on a wide variety of topics: books\, the news\, restaurants\, grandchildren\, and places to visit. No matter what’s on the table\, we are all ears. Come join the conversation and make some new friends.
URL:https://faithatfirst.org/event/coffee-conversation-and-friends-6-2/2025-04-09/
END:VEVENT
BEGIN:VEVENT
DTSTART;TZID=America/Chicago:20250410T160000
DTEND;TZID=America/Chicago:20250410T173000
DTSTAMP:20260420T201625
CREATED:20250403T160304Z
LAST-MODIFIED:20250403T160304Z
UID:10008923-1744300800-1744306200@faithatfirst.org
SUMMARY:Bundled Blessings Diaper Bank hosting ETHS Community Serivce club for diaper packing
DESCRIPTION:Bundled Blessings Diaper Bank hosting ETHS Community Service club for diaper packing on Thurs. 4/10\, 4-5:30 pm in room M. Contact Nancy Brown at 847-271-1712.
URL:https://faithatfirst.org/event/bundled-blessings-diaper-bank-hosting-eths-community-serivce-club-for-diaper-packing/
LOCATION:Room M
END:VEVENT
BEGIN:VEVENT
DTSTART;TZID=America/Chicago:20250410T183000
DTEND;TZID=America/Chicago:20250410T203000
DTSTAMP:20260420T201625
CREATED:20250407T180834Z
LAST-MODIFIED:20250407T180834Z
UID:10008926-1744309800-1744317000@faithatfirst.org
SUMMARY:Mom's Night Out
DESCRIPTION:Come Join us for some lively conversation and friendly moms of all ages!!!! \nEvery MOM is Welcome! \nJulie Womack’s home with Jess Chadwick as Cohost \nRSVP to womackjulie@gmail.com \nBring something to share if you wish – no guilt!
URL:https://faithatfirst.org/event/moms-night-out-22/
END:VEVENT
BEGIN:VEVENT
DTSTART;TZID=America/Chicago:20250412T180000
DTEND;TZID=America/Chicago:20250412T200000
DTSTAMP:20260420T201625
CREATED:20250212T195423Z
LAST-MODIFIED:20250212T195423Z
UID:10008632-1744480800-1744488000@faithatfirst.org
SUMMARY:ASP Fundraiser Dinner
DESCRIPTION:Come join us as our youth and adult volunteers tell you all about our annual Appalachia Service Project mission trip! We need your help to help the people of Appalachia! Please join us for a pasta dinner and consider our auction table so you can donate to our cause and get a gift out of it! Hope you’ll help our Youth Ministry go on ASP for the 27th year!
URL:https://faithatfirst.org/event/asp-fundraiser-dinner/
LOCATION:Dining Room
END:VEVENT
BEGIN:VEVENT
DTSTART;TZID=America/Chicago:20250413T080000
DTEND;TZID=America/Chicago:20250413T090000
DTSTAMP:20260420T201625
CREATED:20250128T175136Z
LAST-MODIFIED:20250525T170746Z
UID:10008580-1744531200-1744534800@faithatfirst.org
SUMMARY:Men's Fellowship Gathering
DESCRIPTION:The men’s fellowship group meets on the second Sunday of each month in the dining room for a light breakfast\, fellowship and often a short program.  Contact Jim Hagedorn (jehdvm@gmail.com) for more information or to be added to our contact list.
URL:https://faithatfirst.org/event/mens-fellowship-gathering-2/2025-04-13/
LOCATION:Dining Room
END:VEVENT
BEGIN:VEVENT
DTSTART;TZID=America/Chicago:20250413T080000
DTEND;TZID=America/Chicago:20250413T090000
DTSTAMP:20260420T201625
CREATED:20250225T163019Z
LAST-MODIFIED:20250225T163019Z
UID:10008871-1744531200-1744534800@faithatfirst.org
SUMMARY:Men's Fellowship Gathering
DESCRIPTION:
URL:https://faithatfirst.org/event/mens-fellowship-gathering-3/2025-04-13/
LOCATION:Dining Room
ORGANIZER;CN="Jim Hagedorn":MAILTO:jehdvm@gmail.com
END:VEVENT
BEGIN:VEVENT
DTSTART;TZID=America/Chicago:20250413T091500
DTEND;TZID=America/Chicago:20250413T103000
DTSTAMP:20260420T201625
CREATED:20250216T205404Z
LAST-MODIFIED:20250216T205404Z
UID:10008861-1744535700-1744540200@faithatfirst.org
SUMMARY:Palm Sunday Procession
DESCRIPTION:Help us enter Holy Week! At 9:15 a.m.\, come together with area churches (and a live donkey!) in the Ecumenical Palm Sunday Parade. Following the walk\, gather in the church kitchen to learn a bit about the history of hot cross buns — an early spring and Easter favorite — decorate one for yourself or a friend\, and have a bite before worship! Then grab a palm branch outside of the Sanctuary between 10:25-10:30 a.m. and help lead the way into worship as part of the children’s Palm Sunday procession. \nPlease note that Sunday school and Faith & Parenting classes will not meet at 9:15 a.m. on Palm Sunday\, April 13.
URL:https://faithatfirst.org/event/palm-sunday-procession/
LOCATION:kitchen
END:VEVENT
BEGIN:VEVENT
DTSTART;TZID=America/Chicago:20250413T120000
DTEND;TZID=America/Chicago:20250413T133000
DTSTAMP:20260420T201625
CREATED:20250407T181005Z
LAST-MODIFIED:20250407T181005Z
UID:10008927-1744545600-1744551000@faithatfirst.org
SUMMARY:Children in Action
DESCRIPTION:Children in grades 1-6 are invited and encouraged to step into service on Palm Sunday\, April 13 from 12:00-1:30 p.m.\, with lunch provided! This month\, we’ll help inspect and sort plastic Easter eggs to reuse all we can for this year’s Easter Eggstravaganza before painting and decorating real eggs of our own! Registration required. See details and register here.
URL:https://faithatfirst.org/event/children-in-action-3/
END:VEVENT
BEGIN:VEVENT
DTSTART;TZID=America/Chicago:20250414T193000
DTEND;TZID=America/Chicago:20250414T204500
DTSTAMP:20260420T201625
CREATED:20240828T222052Z
LAST-MODIFIED:20240828T222539Z
UID:10006891-1744659000-1744663500@faithatfirst.org
SUMMARY:Communications Committee Meeting
DESCRIPTION:The 2024-25 Communications Commitee meets monthly on the second Monday of each month at 7:30pm online.   Questions?  Please reach out to committee chair Andy Shotwell at ashotwell@gmail.com.
URL:https://faithatfirst.org/event/communications-committee-meeting-10/2025-04-14/
LOCATION:Zoom
ORGANIZER;CN="Andy Shotwell":MAILTO:ashotwell@gmail.com
END:VEVENT
END:VCALENDAR