BEGIN:VCALENDAR
VERSION:2.0
PRODID:-//First United Methodist Church of Evanston, IL - ECPv6.15.20//NONSGML v1.0//EN
CALSCALE:GREGORIAN
METHOD:PUBLISH
X-ORIGINAL-URL:https://faithatfirst.org
X-WR-CALDESC:Events for First United Methodist Church of Evanston, IL
REFRESH-INTERVAL;VALUE=DURATION:PT1H
X-Robots-Tag:noindex
X-PUBLISHED-TTL:PT1H
BEGIN:VTIMEZONE
TZID:UTC
BEGIN:STANDARD
TZOFFSETFROM:+0000
TZOFFSETTO:+0000
TZNAME:UTC
DTSTART:20230101T000000
END:STANDARD
END:VTIMEZONE
BEGIN:VTIMEZONE
TZID:America/Chicago
BEGIN:DAYLIGHT
TZOFFSETFROM:-0600
TZOFFSETTO:-0500
TZNAME:CDT
DTSTART:20230312T080000
END:DAYLIGHT
BEGIN:STANDARD
TZOFFSETFROM:-0500
TZOFFSETTO:-0600
TZNAME:CST
DTSTART:20231105T070000
END:STANDARD
BEGIN:DAYLIGHT
TZOFFSETFROM:-0600
TZOFFSETTO:-0500
TZNAME:CDT
DTSTART:20240310T080000
END:DAYLIGHT
BEGIN:STANDARD
TZOFFSETFROM:-0500
TZOFFSETTO:-0600
TZNAME:CST
DTSTART:20241103T070000
END:STANDARD
BEGIN:DAYLIGHT
TZOFFSETFROM:-0600
TZOFFSETTO:-0500
TZNAME:CDT
DTSTART:20250309T080000
END:DAYLIGHT
BEGIN:STANDARD
TZOFFSETFROM:-0500
TZOFFSETTO:-0600
TZNAME:CST
DTSTART:20251102T070000
END:STANDARD
BEGIN:DAYLIGHT
TZOFFSETFROM:-0600
TZOFFSETTO:-0500
TZNAME:CDT
DTSTART:20260308T080000
END:DAYLIGHT
BEGIN:STANDARD
TZOFFSETFROM:-0500
TZOFFSETTO:-0600
TZNAME:CST
DTSTART:20261101T070000
END:STANDARD
END:VTIMEZONE
BEGIN:VEVENT
DTSTART;TZID=UTC:20241215T113000
DTEND;TZID=UTC:20241215T120000
DTSTAMP:20260423T061424
CREATED:20240409T173024Z
LAST-MODIFIED:20241001T181329Z
UID:10007338-1734262200-1734264000@faithatfirst.org
SUMMARY:Earth Care Lending Library
DESCRIPTION:Looking for a place to continue growing in your understanding of environmental justice and how to care for God’s creation? \nVisit the Earth Care Lending Library\, which is open every 2nd Sunday after worship in Great Hall. A small lending library with books for readers of all ages\, the titles were curated by the Earth Care Committee and include Newbery Award-winning children’s  books\, as well as titles by leading voices from the spiritual and scientific communities.
URL:https://faithatfirst.org/event/earth-care-lending-library-2/2024-12-15/
LOCATION:Great Hall
END:VEVENT
BEGIN:VEVENT
DTSTART;TZID=America/Chicago:20241215T113000
DTEND;TZID=America/Chicago:20241215T120000
DTSTAMP:20260423T061424
CREATED:20240828T194036Z
LAST-MODIFIED:20240828T194036Z
UID:10006277-1734262200-1734264000@faithatfirst.org
SUMMARY:Eucharist Service
DESCRIPTION:
URL:https://faithatfirst.org/event/eucharist-service/2024-12-15/
LOCATION:Tittle Chapel
END:VEVENT
BEGIN:VEVENT
DTSTART;TZID=America/Chicago:20241215T113000
DTEND;TZID=America/Chicago:20241215T123000
DTSTAMP:20260423T061424
CREATED:20241209T180901Z
LAST-MODIFIED:20241209T180901Z
UID:10008117-1734262200-1734265800@faithatfirst.org
SUMMARY:Church Offering Counting
DESCRIPTION:
URL:https://faithatfirst.org/event/church-offering-counting/2024-12-15/
LOCATION:Conference Room
END:VEVENT
BEGIN:VEVENT
DTSTART;TZID=America/Chicago:20241215T173000
DTEND;TZID=America/Chicago:20241215T210000
DTSTAMP:20260423T061424
CREATED:20240828T195516Z
LAST-MODIFIED:20241105T161149Z
UID:10006313-1734283800-1734296400@faithatfirst.org
SUMMARY:Young Adult Potluck
DESCRIPTION:All young adults are invited to our potluck! Whether you are new around here\, or looking for other adults to befriend— you are welcome here! We gather at the Bailey’s home\, and all bring dishes to share. Contact Sydney for the address\, and hope to see you there!
URL:https://faithatfirst.org/event/young-adult-potluck-5/2024-12-15/
ORGANIZER;CN="Sydney Harkrider":MAILTO:sydney@faithatfirst.com
END:VEVENT
BEGIN:VEVENT
DTSTART;TZID=America/Chicago:20241215T180000
DTEND;TZID=America/Chicago:20241215T190000
DTSTAMP:20260423T061424
CREATED:20241008T185846Z
LAST-MODIFIED:20241204T183331Z
UID:10007415-1734285600-1734289200@faithatfirst.org
SUMMARY:An Unlikely Advent
DESCRIPTION:An Unlikely Advent: Sundays at 6:00 pm ONLINE (December 1\, 8\, 15\, and 22) \nIn this four-week Advent study\, we consider if some of the figures on the edges of the Christmas story might have more to teach us about the intersection of God’s story with ours? With the themes of hope\, love\, joy\, and peace we will examine the stories of Elizabeth and Zechariah\, Herod\, the Magi\, and the shepherds. Each set of unexpected characters has something to teach about living faithfully on the journey to Christmas. \nEach week we will have a short reading assignment (available in print and electronically at https://www.cokesbury.com/An-Unlikely-Advent) – and some lively and thoughtful discussion. \nPlease contact the facilitator\, Linda Brennan\, to register and receive the Zoom link: brennaneaster@gmail.com.
URL:https://faithatfirst.org/event/an-unlikely-advent/2024-12-15/
END:VEVENT
BEGIN:VEVENT
DTSTART;TZID=America/Chicago:20241216T190000
DTEND;TZID=America/Chicago:20241216T200000
DTSTAMP:20260423T061424
CREATED:20240828T205905Z
LAST-MODIFIED:20240828T205905Z
UID:10006819-1734375600-1734379200@faithatfirst.org
SUMMARY:Adult Education Council Meeting
DESCRIPTION:Monthly Adult Education Council Meeting\nThird Monday of each month from 7:00-8:00pm\nJan Womack\, Vice Chair Womack.jan@gmail.com
URL:https://faithatfirst.org/event/adult-education-council-meeting/2024-12-16/
LOCATION:Glenna Hall
END:VEVENT
BEGIN:VEVENT
DTSTART;TZID=America/Chicago:20241216T203000
DTEND;TZID=America/Chicago:20241216T210000
DTSTAMP:20260423T061424
CREATED:20241108T200222Z
LAST-MODIFIED:20241108T200256Z
UID:10007624-1734381000-1734382800@faithatfirst.org
SUMMARY:Invitation to Advent Prayer
DESCRIPTION:The Faith Formation Committee invites all to participate in an evening Advent prayer series. These 30-minute scripture-prayer times offer an opportunity for sharing and reflection apart from the busyness of the season. The sessions will be led by Mary Cauble and Bonny Roth and will be by ZOOM from 8:30 to 9:00 on Mondays\, December 2\, 9 and 16. Come and allow the Spirit to move within and among us as you enter into a peaceful end to your day.\n.\nFor questions and to be added to the weekly distribution of the Zoom link and order of service\, contact Tom Scott\, tom.scott.goblue@msn.com.
URL:https://faithatfirst.org/event/invitation-to-advent-prayer/2024-12-16/
LOCATION:Zoom
END:VEVENT
BEGIN:VEVENT
DTSTART;TZID=America/Chicago:20241217T083000
DTEND;TZID=America/Chicago:20241217T160000
DTSTAMP:20260423T061424
CREATED:20241216T174803Z
LAST-MODIFIED:20241216T174821Z
UID:10008384-1734424200-1734451200@faithatfirst.org
SUMMARY:Sanctuary Organ Tuning
DESCRIPTION:
URL:https://faithatfirst.org/event/sanctuary-organ-tuning/
LOCATION:Sanctuary
END:VEVENT
BEGIN:VEVENT
DTSTART;TZID=America/Chicago:20241217T140000
DTEND;TZID=America/Chicago:20241217T153000
DTSTAMP:20260423T061424
CREATED:20240828T203725Z
LAST-MODIFIED:20240828T203725Z
UID:10006603-1734444000-1734449400@faithatfirst.org
SUMMARY:Archives Committee
DESCRIPTION:
URL:https://faithatfirst.org/event/archives-committee-2/2024-12-17/
LOCATION:Archives-Room 37
END:VEVENT
BEGIN:VEVENT
DTSTART;TZID=America/Chicago:20241217T190000
DTEND;TZID=America/Chicago:20241217T200000
DTSTAMP:20260423T061424
CREATED:20240828T203437Z
LAST-MODIFIED:20240828T203437Z
UID:10006589-1734462000-1734465600@faithatfirst.org
SUMMARY:Faith Formation Council Monthly Meeting
DESCRIPTION:The Faith Formation Council will meet monthly by ZOOM. Attendees will receive the ZOOM link in advance. Any questions contact Tom Scott or Lee Rader.
URL:https://faithatfirst.org/event/faith-formation-council-monthly-meeting/2024-12-17/
LOCATION:Zoom
END:VEVENT
BEGIN:VEVENT
DTSTART;TZID=America/Chicago:20241218T190000
DTEND;TZID=America/Chicago:20241218T203000
DTSTAMP:20260423T061424
CREATED:20240828T205344Z
LAST-MODIFIED:20240828T205344Z
UID:10006806-1734548400-1734553800@faithatfirst.org
SUMMARY:Finance Committee
DESCRIPTION:
URL:https://faithatfirst.org/event/finance-committee/2024-12-18/
LOCATION:Zoom
END:VEVENT
BEGIN:VEVENT
DTSTART;TZID=America/Chicago:20241219T130000
DTEND;TZID=America/Chicago:20241219T150000
DTSTAMP:20260423T061424
CREATED:20241104T194600Z
LAST-MODIFIED:20241104T194600Z
UID:10007613-1734613200-1734620400@faithatfirst.org
SUMMARY:Staff Holiday Lunch
DESCRIPTION:Total Child hosts a holiday lunch for their staff.
URL:https://faithatfirst.org/event/staff-holiday-lunch/
LOCATION:Glenna Hall
END:VEVENT
BEGIN:VEVENT
DTSTART;TZID=America/Chicago:20241221T090000
DTEND;TZID=America/Chicago:20241221T120000
DTSTAMP:20260423T061424
CREATED:20241204T164110Z
LAST-MODIFIED:20241204T165137Z
UID:10008095-1734771600-1734782400@faithatfirst.org
SUMMARY:Delivery of Poinsettias
DESCRIPTION:Delivering of flowers with a delivery window of 9-12:00pm. I will be there to receive the flowers. Grace
URL:https://faithatfirst.org/event/delivery-of-poinsettias/
LOCATION:Sanctuary
END:VEVENT
BEGIN:VEVENT
DTSTART;TZID=America/Chicago:20241221T100000
DTEND;TZID=America/Chicago:20241221T120000
DTSTAMP:20260423T061424
CREATED:20240917T183404Z
LAST-MODIFIED:20240917T183404Z
UID:10007244-1734775200-1734782400@faithatfirst.org
SUMMARY:Styrofoam Collection
DESCRIPTION:The Earth Care Committee holds its monthly Styrofoam collection time at First UMC Evanston on the third Saturday of the month at the Church Street entrance between 10am and Noon. Material to be collected includes all clean No. 6 plastic foam. Acceptable items include disposable coffee cups; take out containers (such as clamshells); plastic plates\, bowls and cutlery; meat and poultry foam trays and packing foam. When recycled\, these items can be processed into a material used to make park benches\, picture frames\, and other items. Recycling these items helps keep this harmful plastic\, which cannot be processed locally\, out of the waste stream.
URL:https://faithatfirst.org/event/styrofoam-collection/2024-12-21/
END:VEVENT
BEGIN:VEVENT
DTSTART;VALUE=DATE:20241222
DTEND;VALUE=DATE:20250113
DTSTAMP:20260423T061424
CREATED:20241220T015327Z
LAST-MODIFIED:20241220T155247Z
UID:10008391-1734825600-1736726399@faithatfirst.org
SUMMARY:Winter Overnight Shelter
DESCRIPTION:Every year\, the Interfaith Action of Evanston provides an Overnight Shelter for the community. First Church is hosting from December 22 to January 12. Many volunteers are needed to provide this vital service\, and there are still a number of vacancies on the sign-up sheet. Please read the info and sign-up if you can!
URL:https://faithatfirst.org/event/winter-overnight-shelter/
END:VEVENT
BEGIN:VEVENT
DTSTART;TZID=America/Chicago:20241222T091500
DTEND;TZID=America/Chicago:20241222T101500
DTSTAMP:20260423T061424
CREATED:20240813T145144Z
LAST-MODIFIED:20240829T163149Z
UID:10006066-1734858900-1734862500@faithatfirst.org
SUMMARY:Sunday School
DESCRIPTION:Sunday School takes place before Worship from 9:15-10:15 a.m. from mid-September through May\, with an emphasis on learning and responding to stories in the Bible through reading\, conversation\, and play. Sunday School is offered for children ages Pre-K-6th grade. Classroom locations are posted throughout the building.
URL:https://faithatfirst.org/event/sunday-school-8/2024-12-22/
END:VEVENT
BEGIN:VEVENT
DTSTART;TZID=America/Chicago:20241222T091500
DTEND;TZID=America/Chicago:20241222T101500
DTSTAMP:20260423T061424
CREATED:20240922T195752Z
LAST-MODIFIED:20241111T171551Z
UID:10006786-1734858900-1734862500@faithatfirst.org
SUMMARY:Adult Education- Methodism 101
DESCRIPTION:Methodism 101 looks at religion and religious practices and the unique contributions of John Wesley and of Methodism to the understanding and practice of Christianity as a whole. It does this from a historical perspective looking at the development of the Methodist church in England as well as America. \nSunday November 17…American Methodism…beginnings\nSunday November 24…Methodist Family Tree\nSunday Dec 1…TBD (“Come thou long-expected Jesus” Paul Chilcote’s)\nDec. 8\,15\,22…Advent and Christmas  with Charles Wesley…\nDec 29 and Jan 5…Holiday break
URL:https://faithatfirst.org/event/adult-education-2-2/2024-12-22/
LOCATION:Room 33
END:VEVENT
BEGIN:VEVENT
DTSTART;TZID=America/Chicago:20241222T104500
DTEND;TZID=America/Chicago:20241222T113000
DTSTAMP:20260423T061424
CREATED:20240829T163541Z
LAST-MODIFIED:20240829T163541Z
UID:10006904-1734864300-1734867000@faithatfirst.org
SUMMARY:Connect456
DESCRIPTION:Connect456 is designed to help children in grades 4-6 connect to the church community as older elementary and middle school students preparing to make their own way at First Church. Each week features a unique means of connecting\, including serving in leadership with younger children\, learning about our church history and United Methodist identity\, observing worship and more!
URL:https://faithatfirst.org/event/connect456-10/2024-12-22/
END:VEVENT
BEGIN:VEVENT
DTSTART;TZID=America/Chicago:20241222T104500
DTEND;TZID=America/Chicago:20241222T113000
DTSTAMP:20260423T061424
CREATED:20240829T163813Z
LAST-MODIFIED:20250130T181827Z
UID:10006931-1734864300-1734867000@faithatfirst.org
SUMMARY:Children's Chapel
DESCRIPTION:Children’s Chapel seeks to excite and build confidence in children’s experience of worship and sense of belonging at First Church. Children ages three through 3rd grade are invited to experience the wonder of worship and joy of service in a lively\, child-friendly setting. Throughout the program year\, children take part in the seasons of the Christian year\, exploring rituals\, sacraments\, and songs of our worship tradition as well as hands-on aspects of our church mission that children might shape and help share the story of our faith.
URL:https://faithatfirst.org/event/childrens-chapel-38/2024-12-22/
END:VEVENT
BEGIN:VEVENT
DTSTART;TZID=America/Chicago:20241222T113000
DTEND;TZID=America/Chicago:20241222T133000
DTSTAMP:20260423T061424
CREATED:20240813T143025Z
LAST-MODIFIED:20240912T154143Z
UID:10006041-1734867000-1734874200@faithatfirst.org
SUMMARY:Methodist Youth Fellowship
DESCRIPTION:Methodist Youth Fellowship (aka MYF) is open to all youth (7th-12th Grade). We’ll gather twice each month on Sundays 11:30-1:30pm. This is a time to have lunch and engage in music\, games\, an activity\, service project\, lesson or anything in between. This is our time to hang out as a youth group and build connections. Hope you’ll join us! \nQuestions?  Contact Sydney Harkrider at sydney@faithatfirst.com.
URL:https://faithatfirst.org/event/methodist-youth-fellowship-4/2024-12-22/
ORGANIZER;CN="Sydney Harkrider":MAILTO:sydney@faithatfirst.com
END:VEVENT
BEGIN:VEVENT
DTSTART;TZID=America/Chicago:20241222T130000
DTEND;TZID=America/Chicago:20241222T140000
DTSTAMP:20260423T061424
CREATED:20241216T180430Z
LAST-MODIFIED:20241216T180430Z
UID:10008386-1734872400-1734876000@faithatfirst.org
SUMMARY:Music Ministry
DESCRIPTION:
URL:https://faithatfirst.org/event/music-ministry-26/
LOCATION:Sanctuary
END:VEVENT
BEGIN:VEVENT
DTSTART;TZID=UTC:20241222T173000
DTEND;TZID=UTC:20241222T193000
DTSTAMP:20260423T061424
CREATED:20240717T192145Z
LAST-MODIFIED:20250520T184549Z
UID:10005945-1734888600-1734895800@faithatfirst.org
SUMMARY:Young Adult Potluck
DESCRIPTION:Calling all Young Adults!  Join us for our Potlucks every other week at 5:30pm. Feel free to bring your favorite side item or dessert! Contact Sydney Harkrider at sydney@faithatfirst.com for the location!
URL:https://faithatfirst.org/event/young-adult-potluck-2-2-2/2024-12-22/
ORGANIZER;CN="Sydney Harkrider":MAILTO:sydney@faithatfirst.com
END:VEVENT
BEGIN:VEVENT
DTSTART;TZID=America/Chicago:20241224T160000
DTEND;TZID=America/Chicago:20241224T170000
DTSTAMP:20260423T061424
CREATED:20241218T183554Z
LAST-MODIFIED:20241218T183554Z
UID:10008387-1735056000-1735059600@faithatfirst.org
SUMMARY:Christmas Eve Family Service
DESCRIPTION:
URL:https://faithatfirst.org/event/christmas-eve-family-service-3/
LOCATION:Sanctuary
END:VEVENT
BEGIN:VEVENT
DTSTART;TZID=America/Chicago:20241224T164500
DTEND;TZID=America/Chicago:20241224T173000
DTSTAMP:20260423T061424
CREATED:20241224T204545Z
LAST-MODIFIED:20241224T204545Z
UID:10008396-1735058700-1735061400@faithatfirst.org
SUMMARY:Community Time with Birthday Cake for Jesus
DESCRIPTION:
URL:https://faithatfirst.org/event/community-time-with-birthday-cake-for-jesus/
LOCATION:Great Hall
END:VEVENT
BEGIN:VEVENT
DTSTART;TZID=America/Chicago:20241224T180000
DTEND;TZID=America/Chicago:20241224T183000
DTSTAMP:20260423T061424
CREATED:20240828T201201Z
LAST-MODIFIED:20240903T164337Z
UID:10006424-1735063200-1735065000@faithatfirst.org
SUMMARY:Chancel Choir Rehearsal
DESCRIPTION:Chancel Choir rehearsal begins at 6:00pm. Festive Prelude begins at 6:30pm. Worship begins at 7:00pm.
URL:https://faithatfirst.org/event/chancel-choir-rehearsal-138/
LOCATION:Sanctuary
ORGANIZER;CN="Brian Schoettler":MAILTO:brian@faithatfirst.com
END:VEVENT
BEGIN:VEVENT
DTSTART;TZID=America/Chicago:20241224T190000
DTEND;TZID=America/Chicago:20241224T200000
DTSTAMP:20260423T061424
CREATED:20241218T183807Z
LAST-MODIFIED:20241218T183900Z
UID:10008388-1735066800-1735070400@faithatfirst.org
SUMMARY:Christmas Eve Candlelight Service
DESCRIPTION:
URL:https://faithatfirst.org/event/christmas-eve-candlelight-service/
LOCATION:Sanctuary
END:VEVENT
BEGIN:VEVENT
DTSTART;TZID=America/Chicago:20241224T230000
DTEND;TZID=America/Chicago:20241225T000000
DTSTAMP:20260423T061424
CREATED:20241218T184003Z
LAST-MODIFIED:20241218T184003Z
UID:10008389-1735081200-1735084800@faithatfirst.org
SUMMARY:Christmas Eve Candlelight Service
DESCRIPTION:
URL:https://faithatfirst.org/event/christmas-eve-candlelight-service-2/
LOCATION:Sanctuary
END:VEVENT
BEGIN:VEVENT
DTSTART;VALUE=DATE:20241225
DTEND;VALUE=DATE:20250102
DTSTAMP:20260423T061424
CREATED:20241220T155519Z
LAST-MODIFIED:20241220T155519Z
UID:10008392-1735084800-1735775999@faithatfirst.org
SUMMARY:Church Office Closed
DESCRIPTION:
URL:https://faithatfirst.org/event/church-office-closed-2/
END:VEVENT
BEGIN:VEVENT
DTSTART;TZID=UTC:20241225T100000
DTEND;TZID=UTC:20241225T110000
DTSTAMP:20260423T061424
CREATED:20230608T002343Z
LAST-MODIFIED:20250922T182943Z
UID:10003830-1735120800-1735124400@faithatfirst.org
SUMMARY:Coffee\, Conversation\, and Friends
DESCRIPTION:This group of women “of a certain age” meet on the second and fourth Wednesday of the month from 10:00 to 11:00 am. We meet at Le Peep in Evanston for informal conversations on a wide variety of topics: books\, the news\, restaurants\, grandchildren\, and places to visit. No matter what’s on the table\, we are all ears. Come join the conversation and make some new friends.
URL:https://faithatfirst.org/event/coffee-conversation-and-friends-7/2024-12-25/
END:VEVENT
BEGIN:VEVENT
DTSTART;TZID=America/Chicago:20241225T120000
DTEND;TZID=America/Chicago:20241225T133000
DTSTAMP:20260423T061424
CREATED:20240904T191115Z
LAST-MODIFIED:20240904T191115Z
UID:10007151-1735128000-1735133400@faithatfirst.org
SUMMARY:Collaborate\, Connect\, Care Staff Meeting
DESCRIPTION:
URL:https://faithatfirst.org/event/collaborate-connect-care-staff-meeting/2024-12-25/2/
LOCATION:Dining Room
ORGANIZER;CN="Pastor Britt Cox":MAILTO:britt@faithatfirst.com
END:VEVENT
END:VCALENDAR