BEGIN:VCALENDAR
VERSION:2.0
PRODID:-//First United Methodist Church of Evanston, IL - ECPv6.15.20//NONSGML v1.0//EN
CALSCALE:GREGORIAN
METHOD:PUBLISH
X-WR-CALNAME:First United Methodist Church of Evanston, IL
X-ORIGINAL-URL:https://faithatfirst.org
X-WR-CALDESC:Events for First United Methodist Church of Evanston, IL
REFRESH-INTERVAL;VALUE=DURATION:PT1H
X-Robots-Tag:noindex
X-PUBLISHED-TTL:PT1H
BEGIN:VTIMEZONE
TZID:America/Chicago
BEGIN:DAYLIGHT
TZOFFSETFROM:-0600
TZOFFSETTO:-0500
TZNAME:CDT
DTSTART:20250309T080000
END:DAYLIGHT
BEGIN:STANDARD
TZOFFSETFROM:-0500
TZOFFSETTO:-0600
TZNAME:CST
DTSTART:20251102T070000
END:STANDARD
BEGIN:DAYLIGHT
TZOFFSETFROM:-0600
TZOFFSETTO:-0500
TZNAME:CDT
DTSTART:20260308T080000
END:DAYLIGHT
BEGIN:STANDARD
TZOFFSETFROM:-0500
TZOFFSETTO:-0600
TZNAME:CST
DTSTART:20261101T070000
END:STANDARD
BEGIN:DAYLIGHT
TZOFFSETFROM:-0600
TZOFFSETTO:-0500
TZNAME:CDT
DTSTART:20270314T080000
END:DAYLIGHT
BEGIN:STANDARD
TZOFFSETFROM:-0500
TZOFFSETTO:-0600
TZNAME:CST
DTSTART:20271107T070000
END:STANDARD
END:VTIMEZONE
BEGIN:VTIMEZONE
TZID:UTC
BEGIN:STANDARD
TZOFFSETFROM:+0000
TZOFFSETTO:+0000
TZNAME:UTC
DTSTART:20250101T000000
END:STANDARD
END:VTIMEZONE
BEGIN:VEVENT
DTSTART;TZID=America/Chicago:20260922T140000
DTEND;TZID=America/Chicago:20260922T153000
DTSTAMP:20260421T110021
CREATED:20240828T203725Z
LAST-MODIFIED:20240828T203725Z
UID:10006649-1790085600-1790091000@faithatfirst.org
SUMMARY:Archives Committee
DESCRIPTION:
URL:https://faithatfirst.org/event/archives-committee-2/2026-09-22/
LOCATION:Archives-Room 37
END:VEVENT
BEGIN:VEVENT
DTSTART;TZID=UTC:20260923T100000
DTEND;TZID=UTC:20260923T110000
DTSTAMP:20260421T110021
CREATED:20230608T002343Z
LAST-MODIFIED:20250922T182943Z
UID:10003851-1790157600-1790161200@faithatfirst.org
SUMMARY:Coffee\, Conversation\, and Friends
DESCRIPTION:This group of women “of a certain age” meet on the second and fourth Wednesday of the month from 10:00 to 11:00 am. We meet at Le Peep in Evanston for informal conversations on a wide variety of topics: books\, the news\, restaurants\, grandchildren\, and places to visit. No matter what’s on the table\, we are all ears. Come join the conversation and make some new friends.
URL:https://faithatfirst.org/event/coffee-conversation-and-friends-7/2026-09-23/
END:VEVENT
BEGIN:VEVENT
DTSTART;TZID=UTC:20260927T173000
DTEND;TZID=UTC:20260927T193000
DTSTAMP:20260421T110022
CREATED:20240717T192145Z
LAST-MODIFIED:20250520T184549Z
UID:10005966-1790530200-1790537400@faithatfirst.org
SUMMARY:Young Adult Potluck
DESCRIPTION:Calling all Young Adults!  Join us for our Potlucks every other week at 5:30pm. Feel free to bring your favorite side item or dessert! Contact Sydney Harkrider at sydney@faithatfirst.com for the location!
URL:https://faithatfirst.org/event/young-adult-potluck-2-2-2/2026-09-27/
ORGANIZER;CN="Sydney Harkrider":MAILTO:sydney@faithatfirst.com
END:VEVENT
BEGIN:VEVENT
DTSTART;TZID=America/Chicago:20260930T120000
DTEND;TZID=America/Chicago:20260930T133000
DTSTAMP:20260421T110022
CREATED:20240904T191115Z
LAST-MODIFIED:20240904T191115Z
UID:10007172-1790769600-1790775000@faithatfirst.org
SUMMARY:Collaborate\, Connect\, Care Staff Meeting
DESCRIPTION:
URL:https://faithatfirst.org/event/collaborate-connect-care-staff-meeting/2026-09-30/
LOCATION:Dining Room
ORGANIZER;CN="Pastor Britt Cox":MAILTO:britt@faithatfirst.com
END:VEVENT
BEGIN:VEVENT
DTSTART;TZID=America/Chicago:20261004T140000
DTEND;TZID=America/Chicago:20261004T151500
DTSTAMP:20260421T110022
CREATED:20250909T192704Z
LAST-MODIFIED:20250909T192704Z
UID:10010589-1791122400-1791126900@faithatfirst.org
SUMMARY:Covenant Hike Group
DESCRIPTION:The Covenant Hike Group invites all who have a wonder of the natural world to share nature immersion with each other through 3 seasons while experiencing the presence of God. The format is simple. We begin with a brief reading (scripture or poem)\, hike along while sharing joys and concerns\, and appreciate 5 minutes of silence at mid-point. Each hike concludes with an optional\, brief time of sharing about our experiences on the hike\, closing prayer\, and a cool or hot drink. All ages are welcome.\n\nEach month we will meet at a designated location at 2 p.m.\, hiking various paths in our area for about an hour at a comfortable pace for everyone. The group will meet each first Sunday from October through May\, and participants may join in as schedules allow.\n\nFacilitator: Jim Johnson. Contact Jim at jjohnso@luc.edu with any questions and to be placed on the distribution list.
URL:https://faithatfirst.org/event/covenant-hike-group-3/2026-10-04/
END:VEVENT
BEGIN:VEVENT
DTSTART;TZID=UTC:20261014T100000
DTEND;TZID=UTC:20261014T110000
DTSTAMP:20260421T110022
CREATED:20230908T024328Z
LAST-MODIFIED:20241121T185340Z
UID:10003792-1791972000-1791975600@faithatfirst.org
SUMMARY:Coffee\, Conversation\, and Friends
DESCRIPTION:This group of women “of a certain age” meet on the second and fourth Wednesday of the month from 10:00 to 11:00 am. Year round we gather at LePeep in Evanston for informal conversations on a wide variety of topics: books\, the news\, restaurants\, grandchildren\, and places to visit. No matter what’s on the table\, we are all ears. Come join the conversation and make some new friends.
URL:https://faithatfirst.org/event/coffee-conversation-and-friends-6-2/2026-10-14/
END:VEVENT
BEGIN:VEVENT
DTSTART;TZID=America/Chicago:20261019T190000
DTEND;TZID=America/Chicago:20261019T203000
DTSTAMP:20260421T110022
CREATED:20260419T160013Z
LAST-MODIFIED:20260419T160013Z
UID:10012218-1792436400-1792441800@faithatfirst.org
SUMMARY:Adult Christian Education Council Meeting
DESCRIPTION:
URL:https://faithatfirst.org/event/adult-christian-education-council-meeting/2026-10-19/
LOCATION:Glenna Hall
END:VEVENT
BEGIN:VEVENT
DTSTART;TZID=America/Chicago:20261116T190000
DTEND;TZID=America/Chicago:20261116T203000
DTSTAMP:20260421T110022
CREATED:20250817T202006Z
LAST-MODIFIED:20250817T202006Z
UID:10009807-1794855600-1794861000@faithatfirst.org
SUMMARY:Adult Education meeting
DESCRIPTION:Monthly meeting of Adult Education Council
URL:https://faithatfirst.org/event/adult-education-meeting/2026-11-16/
LOCATION:Glenna Hall
END:VEVENT
END:VCALENDAR