BEGIN:VCALENDAR
VERSION:2.0
PRODID:-//First United Methodist Church of Evanston, IL - ECPv6.15.20//NONSGML v1.0//EN
CALSCALE:GREGORIAN
METHOD:PUBLISH
X-WR-CALNAME:First United Methodist Church of Evanston, IL
X-ORIGINAL-URL:https://faithatfirst.org
X-WR-CALDESC:Events for First United Methodist Church of Evanston, IL
REFRESH-INTERVAL;VALUE=DURATION:PT1H
X-Robots-Tag:noindex
X-PUBLISHED-TTL:PT1H
BEGIN:VTIMEZONE
TZID:UTC
BEGIN:STANDARD
TZOFFSETFROM:+0000
TZOFFSETTO:+0000
TZNAME:UTC
DTSTART:20240101T000000
END:STANDARD
END:VTIMEZONE
BEGIN:VTIMEZONE
TZID:America/Chicago
BEGIN:DAYLIGHT
TZOFFSETFROM:-0600
TZOFFSETTO:-0500
TZNAME:CDT
DTSTART:20240310T080000
END:DAYLIGHT
BEGIN:STANDARD
TZOFFSETFROM:-0500
TZOFFSETTO:-0600
TZNAME:CST
DTSTART:20241103T070000
END:STANDARD
BEGIN:DAYLIGHT
TZOFFSETFROM:-0600
TZOFFSETTO:-0500
TZNAME:CDT
DTSTART:20250309T080000
END:DAYLIGHT
BEGIN:STANDARD
TZOFFSETFROM:-0500
TZOFFSETTO:-0600
TZNAME:CST
DTSTART:20251102T070000
END:STANDARD
BEGIN:DAYLIGHT
TZOFFSETFROM:-0600
TZOFFSETTO:-0500
TZNAME:CDT
DTSTART:20260308T080000
END:DAYLIGHT
BEGIN:STANDARD
TZOFFSETFROM:-0500
TZOFFSETTO:-0600
TZNAME:CST
DTSTART:20261101T070000
END:STANDARD
END:VTIMEZONE
BEGIN:VEVENT
DTSTART;TZID=UTC:20250518T113000
DTEND;TZID=UTC:20250518T120000
DTSTAMP:20260422T042656
CREATED:20240409T173024Z
LAST-MODIFIED:20241001T181329Z
UID:10007343-1747567800-1747569600@faithatfirst.org
SUMMARY:Earth Care Lending Library
DESCRIPTION:Looking for a place to continue growing in your understanding of environmental justice and how to care for God’s creation? \nVisit the Earth Care Lending Library\, which is open every 2nd Sunday after worship in Great Hall. A small lending library with books for readers of all ages\, the titles were curated by the Earth Care Committee and include Newbery Award-winning children’s  books\, as well as titles by leading voices from the spiritual and scientific communities.
URL:https://faithatfirst.org/event/earth-care-lending-library-2/2025-05-18/
LOCATION:Great Hall
END:VEVENT
BEGIN:VEVENT
DTSTART;TZID=America/Chicago:20250518T113000
DTEND;TZID=America/Chicago:20250518T120000
DTSTAMP:20260422T042656
CREATED:20240828T194036Z
LAST-MODIFIED:20240828T194036Z
UID:10006294-1747567800-1747569600@faithatfirst.org
SUMMARY:Eucharist Service
DESCRIPTION:
URL:https://faithatfirst.org/event/eucharist-service/2025-05-18/
LOCATION:Tittle Chapel
END:VEVENT
BEGIN:VEVENT
DTSTART;TZID=America/Chicago:20250518T113000
DTEND;TZID=America/Chicago:20250518T123000
DTSTAMP:20260422T042656
CREATED:20241209T180901Z
LAST-MODIFIED:20241209T180901Z
UID:10008139-1747567800-1747571400@faithatfirst.org
SUMMARY:Church Offering Counting
DESCRIPTION:
URL:https://faithatfirst.org/event/church-offering-counting/2025-05-18/
LOCATION:Conference Room
END:VEVENT
BEGIN:VEVENT
DTSTART;TZID=America/Chicago:20250518T114000
DTEND;TZID=America/Chicago:20250518T133000
DTSTAMP:20260422T042656
CREATED:20241023T180724Z
LAST-MODIFIED:20250403T155001Z
UID:10008916-1747568400-1747575000@faithatfirst.org
SUMMARY:Spring 2025 Inquirers Class
DESCRIPTION:2025 Spring Inquirers Class\n \nSundays\, April 27\, May 4\, 11\, 18 & June 1\, 11:40-1:30pm (lunch included)\n\nWhat is Inquirers?\n\n\nAn exploration/inquiry into First Church\, its ministries\, and people.\n\n\nA six-session class that meets on Sundays led by Pastor Grace Imathiu\, Mary Taylor-Johnson and other church leaders.\n\n\nAn experience to help you discern whether this faith community will nurture you and provide opportunities to grow and serve.\n\n\nWhat will we do/learn/think about in Inquirers?\n\n\n        Learn about the First Church mission\, strategic planning\, and what it means to be a Reconciling Congregation.\n\n\n        Talk about the collective faith journey and reflect on our own individual experiences.\n\n\n        Learn about (or review) the structure\, theology\, and current issues in the United Methodist denomination.\n\n\n        Hear about opportunities such as Adult Education and Faith Formation\, soup kitchen\, sack lunch ministry\, diaper bank\, fellowship groups\, Young Adult potlucks and gatherings\, opportunities for children and youth.\n\n\n        Build relationships with each other through weekly conversation and sharing in small groups.\n\n\n        Listen to what current members share about their experiences in this congregation.\n\n\n        Take a tour of the building.\n\n\n        Inquirers is also the centerpiece of our membership process\, so we’ll talk about the membership vows and expectations.  While we ask all persons considering membership at First Church to participate\, we don’t assume that Inquirers are considering membership.  If the experience helps your discern whether or not this faith community is a good fit for you\, that is a win.\n\n\n\nIf    If you are interested in participating in Inquirers\, or have questions about this opportunity\, please reach out to Mary Taylor-Johnson\, Director of Membership and Engagement\, at 847-864-6182 or mary@faithatfirst.com .
URL:https://faithatfirst.org/event/spring-2025-inquirers-class/2025-05-18/
LOCATION:Glenna Hall
END:VEVENT
BEGIN:VEVENT
DTSTART;TZID=America/Chicago:20250518T120000
DTEND;TZID=America/Chicago:20250518T130000
DTSTAMP:20260422T042656
CREATED:20250309T154557Z
LAST-MODIFIED:20250309T164632Z
UID:10008890-1747569600-1747573200@faithatfirst.org
SUMMARY:Children's Council
DESCRIPTION:Children’s Council acts as both a work committee and an advisory board to the Director of Children’s Ministry. The Children’s Council focuses on formulating and supporting the vision of our various children’s ministries. We consult with the Director of Children’s Ministries to plan the yearlong calendar. Under the umbrella of Children’s Ministries are the following programs: Sunday School\, Chapel\, Connect 456\, Nursery\, Summer Camps (Creation Camp\, VBS\, Family Camp)\, Fellowship Groups\, Pageant\, and holiday celebrations (e.g\, Advent\, Lent\, Easter).
URL:https://faithatfirst.org/event/childrens-council-5/2025-05-18/
LOCATION:Dining Room and Conference Room
END:VEVENT
BEGIN:VEVENT
DTSTART;TZID=America/Chicago:20250518T120000
DTEND;TZID=America/Chicago:20250518T133000
DTSTAMP:20260422T042656
CREATED:20250506T152748Z
LAST-MODIFIED:20250506T152748Z
UID:10009126-1747569600-1747575000@faithatfirst.org
SUMMARY:Lay Members to Annual Conference Gathering
DESCRIPTION:Lay Members and alternatives will be meeting to prepare for the 2025 Annual Conference at noon\, Sunday\, May 18.
URL:https://faithatfirst.org/event/lay-members-to-annual-conference-gathering/
LOCATION:Dining Room
ORGANIZER;CN="Jim Hagedorn":MAILTO:jehdvm@gmail.com
END:VEVENT
BEGIN:VEVENT
DTSTART;TZID=America/Chicago:20250518T120000
DTEND;TZID=America/Chicago:20250518T150000
DTSTAMP:20260422T042656
CREATED:20250303T185916Z
LAST-MODIFIED:20250303T185916Z
UID:10008886-1747569600-1747580400@faithatfirst.org
SUMMARY:1:30pm Voice Recital: Christine Mando
DESCRIPTION:First Church mezzo-soprano Christine Mando presents a vocal recital titled “Sea Pictures” along with Sarah Jenks on piano.\nThe 1:30pm recital is free and open to the public. Freewill donations support the Music Ministry of First Church.\nOnly the Church Street doors will be open for this event.
URL:https://faithatfirst.org/event/130pm-voice-recital-christine-mando/
LOCATION:Sanctuary
END:VEVENT
BEGIN:VEVENT
DTSTART;TZID=America/Chicago:20250518T173000
DTEND;TZID=America/Chicago:20250518T210000
DTSTAMP:20260422T042656
CREATED:20240828T195516Z
LAST-MODIFIED:20241105T161149Z
UID:10006318-1747589400-1747602000@faithatfirst.org
SUMMARY:Young Adult Potluck
DESCRIPTION:All young adults are invited to our potluck! Whether you are new around here\, or looking for other adults to befriend— you are welcome here! We gather at the Bailey’s home\, and all bring dishes to share. Contact Sydney for the address\, and hope to see you there!
URL:https://faithatfirst.org/event/young-adult-potluck-5/2025-05-18/
ORGANIZER;CN="Sydney Harkrider":MAILTO:sydney@faithatfirst.com
END:VEVENT
BEGIN:VEVENT
DTSTART;TZID=America/Chicago:20250519T190000
DTEND;TZID=America/Chicago:20250519T200000
DTSTAMP:20260422T042656
CREATED:20240828T205905Z
LAST-MODIFIED:20240828T205905Z
UID:10006824-1747681200-1747684800@faithatfirst.org
SUMMARY:Adult Education Council Meeting
DESCRIPTION:Monthly Adult Education Council Meeting\nThird Monday of each month from 7:00-8:00pm\nJan Womack\, Vice Chair Womack.jan@gmail.com
URL:https://faithatfirst.org/event/adult-education-council-meeting/2025-05-19/
LOCATION:Glenna Hall
END:VEVENT
BEGIN:VEVENT
DTSTART;TZID=America/Chicago:20250520T100000
DTEND;TZID=America/Chicago:20250520T113000
DTSTAMP:20260422T042656
CREATED:20250513T192823Z
LAST-MODIFIED:20250513T192823Z
UID:10009394-1747735200-1747740600@faithatfirst.org
SUMMARY:Bundled Blessings Diaper Bank will host Skokie Valley Rotary to pack diapers
DESCRIPTION:Bundled Blessings Diaper Bank will host Skokie Valley Rotary to pack diapers on Sat. 5/20 from 10-11:30 am. Contact Nancy Brown at 847-271-1712.
URL:https://faithatfirst.org/event/bundled-blessings-diaper-bank-will-host-skokie-valley-rotary-to-pack-diapers-3/
LOCATION:Room M
END:VEVENT
BEGIN:VEVENT
DTSTART;TZID=America/Chicago:20250520T140000
DTEND;TZID=America/Chicago:20250520T153000
DTSTAMP:20260422T042656
CREATED:20240828T203725Z
LAST-MODIFIED:20240828T203725Z
UID:10006614-1747749600-1747755000@faithatfirst.org
SUMMARY:Archives Committee
DESCRIPTION:
URL:https://faithatfirst.org/event/archives-committee-2/2025-05-20/
LOCATION:Archives-Room 37
END:VEVENT
BEGIN:VEVENT
DTSTART;TZID=America/Chicago:20250520T190000
DTEND;TZID=America/Chicago:20250520T200000
DTSTAMP:20260422T042656
CREATED:20240828T203437Z
LAST-MODIFIED:20240828T203437Z
UID:10006594-1747767600-1747771200@faithatfirst.org
SUMMARY:Faith Formation Council Monthly Meeting
DESCRIPTION:The Faith Formation Council will meet monthly by ZOOM. Attendees will receive the ZOOM link in advance. Any questions contact Tom Scott or Lee Rader.
URL:https://faithatfirst.org/event/faith-formation-council-monthly-meeting/2025-05-20/
LOCATION:Zoom
END:VEVENT
BEGIN:VEVENT
DTSTART;TZID=America/Chicago:20250521T110000
DTEND;TZID=America/Chicago:20250521T123000
DTSTAMP:20260422T042656
CREATED:20240904T190639Z
LAST-MODIFIED:20240904T190639Z
UID:10006976-1747825200-1747830600@faithatfirst.org
SUMMARY:Staff Meeting
DESCRIPTION:
URL:https://faithatfirst.org/event/staff-meeting-62/2025-05-21/
LOCATION:Conference Room
ORGANIZER;CN="Pastor Britt Cox":MAILTO:britt@faithatfirst.com
END:VEVENT
BEGIN:VEVENT
DTSTART;TZID=America/Chicago:20250521T171500
DTEND;TZID=America/Chicago:20250521T180000
DTSTAMP:20260422T042656
CREATED:20240828T203010Z
LAST-MODIFIED:20250213T165623Z
UID:10008639-1747847700-1747850400@faithatfirst.org
SUMMARY:Children's Choir Rehearsal
DESCRIPTION:Children in grades 1-6 rehearse weekly and sing in worship monthly. No audition is required and new singers are welcome throughout the year. For more information\, email Dr. Brian Schoettler.
URL:https://faithatfirst.org/event/childrens-choir-rehearsal-62/2025-05-21/
LOCATION:Choir Room
ORGANIZER;CN="Brian Schoettler":MAILTO:brian@faithatfirst.com
END:VEVENT
BEGIN:VEVENT
DTSTART;TZID=America/Chicago:20250521T183000
DTEND;TZID=America/Chicago:20250521T191500
DTSTAMP:20260422T042656
CREATED:20240828T202420Z
LAST-MODIFIED:20250213T170358Z
UID:10008681-1747852200-1747854900@faithatfirst.org
SUMMARY:Handbell Choir Rehearsal
DESCRIPTION:The Handbell Choir plays in worship seasonally. Basic music reading skills required (instrumentalists are especially welcome). Open to adults and youth in grades 6-12. New members are welcome throughout the year – email Dr. Brian Schoettler for more information.
URL:https://faithatfirst.org/event/handbell-choir-rehearsal-32/2025-05-21/
LOCATION:Choir Room
ORGANIZER;CN="Brian Schoettler":MAILTO:brian@faithatfirst.com
END:VEVENT
BEGIN:VEVENT
DTSTART;TZID=America/Chicago:20250521T183000
DTEND;TZID=America/Chicago:20250521T203000
DTSTAMP:20260422T042656
CREATED:20250501T190907Z
LAST-MODIFIED:20250501T190907Z
UID:10009048-1747852200-1747859400@faithatfirst.org
SUMMARY:Mom's Night Out
DESCRIPTION:Bring a sweater since we hope to be outdoors around the firepit and bring a dish to share if you wish! This is a delightful group of moms of “children” of every age. Just come when you can!\n\nTHANK YOU! to Julie Womack and Jessica Chadwick for hosting MNO in April! We were so happy to be celebrating Julie’s health! As usual\, so many things to share and the food was delicious – the evening flew by!\n\nNEXT MNO – Wed June 11th at Linda Brennan’s with Linda Federer cohost
URL:https://faithatfirst.org/event/moms-night-out/
END:VEVENT
BEGIN:VEVENT
DTSTART;TZID=America/Chicago:20250521T190000
DTEND;TZID=America/Chicago:20250521T203000
DTSTAMP:20260422T042656
CREATED:20240828T205344Z
LAST-MODIFIED:20240828T205344Z
UID:10006811-1747854000-1747859400@faithatfirst.org
SUMMARY:Finance Committee
DESCRIPTION:
URL:https://faithatfirst.org/event/finance-committee/2025-05-21/
LOCATION:Zoom
END:VEVENT
BEGIN:VEVENT
DTSTART;TZID=America/Chicago:20250521T193000
DTEND;TZID=America/Chicago:20250521T210000
DTSTAMP:20260422T042656
CREATED:20240828T202245Z
LAST-MODIFIED:20240903T164905Z
UID:10006471-1747855800-1747861200@faithatfirst.org
SUMMARY:Chancel Choir Rehearsal
DESCRIPTION:Adults and high school youth rehearse music for worship. No audition is required. Email Dr. Brian Schoettler for more information.
URL:https://faithatfirst.org/event/chancel-choir-rehearsal-139/2025-05-21/
LOCATION:Choir Room
ORGANIZER;CN="Brian Schoettler":MAILTO:brian@faithatfirst.com
END:VEVENT
BEGIN:VEVENT
DTSTART;TZID=UTC:20250522T173000
DTEND;TZID=UTC:20250522T190000
DTSTAMP:20260422T042657
CREATED:20230714T003533Z
LAST-MODIFIED:20230714T003711Z
UID:10004151-1747935000-1747940400@faithatfirst.org
SUMMARY:Soup Kitchen
DESCRIPTION:As part of Interfaith Action of Evanston\, First Church hosts a weekly soup kitchen each Thursday evening.  A host team of First Church volunteers is needed each week\, and 5-6 times a year we also need cooking teams.   Interested in helping?  Please contact Dave Koester (davekoester57@gmail.com) about current scheduling needs.
URL:https://faithatfirst.org/event/soup-kitchen/2025-05-22/
LOCATION:Dining Room
ORGANIZER;CN="Dave Koester":MAILTO:davekoester57@gmail.com
END:VEVENT
BEGIN:VEVENT
DTSTART;TZID=America/Chicago:20250524T100000
DTEND;TZID=America/Chicago:20250524T170000
DTSTAMP:20260422T042657
CREATED:20250508T154226Z
LAST-MODIFIED:20250508T154226Z
UID:10009127-1748080800-1748106000@faithatfirst.org
SUMMARY:Birthday Celebration for Rev. Martin Deppe
DESCRIPTION:
URL:https://faithatfirst.org/event/birthday-celebration-for-rev-martin-deppe/
LOCATION:Sanctuary\, Great Hall\, Glenna Hall\, Dining Hall\, Kitchen
END:VEVENT
BEGIN:VEVENT
DTSTART;TZID=America/Chicago:20250524T143000
DTEND;TZID=America/Chicago:20250524T153000
DTSTAMP:20260422T042657
CREATED:20250508T154356Z
LAST-MODIFIED:20250508T154356Z
UID:10009128-1748097000-1748100600@faithatfirst.org
SUMMARY:Wedding
DESCRIPTION:
URL:https://faithatfirst.org/event/wedding-4/
LOCATION:Tittle Chapel
END:VEVENT
BEGIN:VEVENT
DTSTART;TZID=America/Chicago:20250525T091500
DTEND;TZID=America/Chicago:20250525T101500
DTSTAMP:20260422T042657
CREATED:20240828T205143Z
LAST-MODIFIED:20250520T162342Z
UID:10009396-1748164500-1748168100@faithatfirst.org
SUMMARY:Adult Education- Abide Class
DESCRIPTION:An opportunity for spiritual connection\, mutual support\, and faith formation. Facilitated by Mari Leonard with leadership shared by participants.
URL:https://faithatfirst.org/event/adult-education-3/2025-05-25/
LOCATION:Room K
END:VEVENT
BEGIN:VEVENT
DTSTART;TZID=America/Chicago:20250525T100000
DTEND;TZID=America/Chicago:20250525T101500
DTSTAMP:20260422T042657
CREATED:20250327T183920Z
LAST-MODIFIED:20250327T183920Z
UID:10008911-1748167200-1748168100@faithatfirst.org
SUMMARY:Handbell Choir Rehearsal
DESCRIPTION:
URL:https://faithatfirst.org/event/handbell-choir-rehearsal-35/2025-05-25/
LOCATION:Sanctuary
END:VEVENT
BEGIN:VEVENT
DTSTART;TZID=America/Chicago:20250525T113000
DTEND;TZID=America/Chicago:20250525T133000
DTSTAMP:20260422T042657
CREATED:20240813T143025Z
LAST-MODIFIED:20240912T154143Z
UID:10006052-1748172600-1748179800@faithatfirst.org
SUMMARY:Methodist Youth Fellowship
DESCRIPTION:Methodist Youth Fellowship (aka MYF) is open to all youth (7th-12th Grade). We’ll gather twice each month on Sundays 11:30-1:30pm. This is a time to have lunch and engage in music\, games\, an activity\, service project\, lesson or anything in between. This is our time to hang out as a youth group and build connections. Hope you’ll join us! \nQuestions?  Contact Sydney Harkrider at sydney@faithatfirst.com.
URL:https://faithatfirst.org/event/methodist-youth-fellowship-4/2025-05-25/
ORGANIZER;CN="Sydney Harkrider":MAILTO:sydney@faithatfirst.com
END:VEVENT
BEGIN:VEVENT
DTSTART;TZID=America/Chicago:20250525T130000
DTEND;TZID=America/Chicago:20250525T140000
DTSTAMP:20260422T042657
CREATED:20250311T182425Z
LAST-MODIFIED:20250311T182425Z
UID:10008895-1748178000-1748181600@faithatfirst.org
SUMMARY:Music Ministry
DESCRIPTION:
URL:https://faithatfirst.org/event/music-ministry-29/2025-05-25/
LOCATION:Sanctuary
END:VEVENT
BEGIN:VEVENT
DTSTART;TZID=UTC:20250528T100000
DTEND;TZID=UTC:20250528T110000
DTSTAMP:20260422T042657
CREATED:20230608T002343Z
LAST-MODIFIED:20250922T182943Z
UID:10003835-1748426400-1748430000@faithatfirst.org
SUMMARY:Coffee\, Conversation\, and Friends
DESCRIPTION:This group of women “of a certain age” meet on the second and fourth Wednesday of the month from 10:00 to 11:00 am. We meet at Le Peep in Evanston for informal conversations on a wide variety of topics: books\, the news\, restaurants\, grandchildren\, and places to visit. No matter what’s on the table\, we are all ears. Come join the conversation and make some new friends.
URL:https://faithatfirst.org/event/coffee-conversation-and-friends-7/2025-05-28/
END:VEVENT
BEGIN:VEVENT
DTSTART;TZID=America/Chicago:20250528T120000
DTEND;TZID=America/Chicago:20250528T133000
DTSTAMP:20260422T042657
CREATED:20240904T191115Z
LAST-MODIFIED:20240904T191115Z
UID:10007156-1748433600-1748439000@faithatfirst.org
SUMMARY:Collaborate\, Connect\, Care Staff Meeting
DESCRIPTION:
URL:https://faithatfirst.org/event/collaborate-connect-care-staff-meeting/2025-05-28/
LOCATION:Dining Room
ORGANIZER;CN="Pastor Britt Cox":MAILTO:britt@faithatfirst.com
END:VEVENT
BEGIN:VEVENT
DTSTART;TZID=America/Chicago:20250528T180000
DTEND;TZID=America/Chicago:20250528T190000
DTSTAMP:20260422T042657
CREATED:20250506T152156Z
LAST-MODIFIED:20250506T152156Z
UID:10009125-1748455200-1748458800@faithatfirst.org
SUMMARY:LAST Wednesday Potluck!
DESCRIPTION:Bring a side or dessert to share and join your church family for good food\, fellowship\, and seasonal activities for all ages on this last of our Wednesday evening potlucks for the program year! \nPlease register to aid in preparations\, noting dates you plan to attend and any dietary restrictions or food allergies in the memo field.
URL:https://faithatfirst.org/event/last-wednesday-potluck/
LOCATION:Dining Room
ORGANIZER;CN="Colin McDonald":MAILTO:colin@faithatfirst.com
END:VEVENT
BEGIN:VEVENT
DTSTART;TZID=America/Chicago:20250530T100000
DTEND;TZID=America/Chicago:20250530T140000
DTSTAMP:20260422T042657
CREATED:20250529T174508Z
LAST-MODIFIED:20250529T174508Z
UID:10009475-1748599200-1748613600@faithatfirst.org
SUMMARY:Memorial Service
DESCRIPTION:
URL:https://faithatfirst.org/event/memorial-service-4/
LOCATION:Dining Room
END:VEVENT
BEGIN:VEVENT
DTSTART;TZID=America/Chicago:20250531T093000
DTEND;TZID=America/Chicago:20250531T123000
DTSTAMP:20260422T042657
CREATED:20250403T160219Z
LAST-MODIFIED:20250403T160219Z
UID:10008922-1748683800-1748694600@faithatfirst.org
SUMMARY:Bundled Blessings is sponsoring Diaper Days -- an open house\, diaper drive and diaper packing event.
DESCRIPTION:Bundled Blessings Diaper Bank will be hosting Diaper Days — an open house\, diaper drive\, and diaper packing event on Sat. 5/31 from 9:30 am-12:30 pm. Contact Nancy Brown at bundledblessings@outlook.com or 847-271-1712 .
URL:https://faithatfirst.org/event/bundled-blessings-is-sponsoring-diaper-days-an-open-house-diaper-drive-and-diaper-packing-event/
LOCATION:Dining Room
END:VEVENT
END:VCALENDAR