BEGIN:VCALENDAR
VERSION:2.0
PRODID:-//First United Methodist Church of Evanston, IL - ECPv6.15.20//NONSGML v1.0//EN
CALSCALE:GREGORIAN
METHOD:PUBLISH
X-WR-CALNAME:First United Methodist Church of Evanston, IL
X-ORIGINAL-URL:https://faithatfirst.org
X-WR-CALDESC:Events for First United Methodist Church of Evanston, IL
REFRESH-INTERVAL;VALUE=DURATION:PT1H
X-Robots-Tag:noindex
X-PUBLISHED-TTL:PT1H
BEGIN:VTIMEZONE
TZID:America/Chicago
BEGIN:DAYLIGHT
TZOFFSETFROM:-0600
TZOFFSETTO:-0500
TZNAME:CDT
DTSTART:20240310T080000
END:DAYLIGHT
BEGIN:STANDARD
TZOFFSETFROM:-0500
TZOFFSETTO:-0600
TZNAME:CST
DTSTART:20241103T070000
END:STANDARD
BEGIN:DAYLIGHT
TZOFFSETFROM:-0600
TZOFFSETTO:-0500
TZNAME:CDT
DTSTART:20250309T080000
END:DAYLIGHT
BEGIN:STANDARD
TZOFFSETFROM:-0500
TZOFFSETTO:-0600
TZNAME:CST
DTSTART:20251102T070000
END:STANDARD
BEGIN:DAYLIGHT
TZOFFSETFROM:-0600
TZOFFSETTO:-0500
TZNAME:CDT
DTSTART:20260308T080000
END:DAYLIGHT
BEGIN:STANDARD
TZOFFSETFROM:-0500
TZOFFSETTO:-0600
TZNAME:CST
DTSTART:20261101T070000
END:STANDARD
END:VTIMEZONE
BEGIN:VTIMEZONE
TZID:UTC
BEGIN:STANDARD
TZOFFSETFROM:+0000
TZOFFSETTO:+0000
TZNAME:UTC
DTSTART:20240101T000000
END:STANDARD
END:VTIMEZONE
BEGIN:VEVENT
DTSTART;TZID=America/Chicago:20250205T171500
DTEND;TZID=America/Chicago:20250205T180000
DTSTAMP:20260421T192032
CREATED:20240828T203010Z
LAST-MODIFIED:20250213T165623Z
UID:10006569-1738775700-1738778400@faithatfirst.org
SUMMARY:Children's Choir Rehearsal
DESCRIPTION:Children in grades 1-6 rehearse weekly and sing in worship monthly. No audition is required and new singers are welcome throughout the year. For more information\, email Dr. Brian Schoettler.
URL:https://faithatfirst.org/event/childrens-choir-rehearsal-62/2025-02-05/
LOCATION:Choir Room
ORGANIZER;CN="Brian Schoettler":MAILTO:brian@faithatfirst.com
END:VEVENT
BEGIN:VEVENT
DTSTART;TZID=America/Chicago:20250205T180000
DTEND;TZID=America/Chicago:20250205T190000
DTSTAMP:20260421T192033
CREATED:20250124T164955Z
LAST-MODIFIED:20250128T162426Z
UID:10008542-1738778400-1738782000@faithatfirst.org
SUMMARY:First Wednesday Potluck
DESCRIPTION:Bring a side or dessert to share and join your church family for good food\, fellowship\, and seasonal activities for all ages on the first Wednesday of each month! \nPlease register to aid in preparations\, noting dates you plan to attend and any dietary restrictions or food allergies in the memo field.
URL:https://faithatfirst.org/event/first-wednesday-potluck-9/2025-02-05/
LOCATION:Dining Room
END:VEVENT
BEGIN:VEVENT
DTSTART;TZID=America/Chicago:20250205T183000
DTEND;TZID=America/Chicago:20250205T191500
DTSTAMP:20260421T192033
CREATED:20240828T202420Z
LAST-MODIFIED:20250213T170358Z
UID:10006495-1738780200-1738782900@faithatfirst.org
SUMMARY:Handbell Choir Rehearsal
DESCRIPTION:The Handbell Choir plays in worship seasonally. Basic music reading skills required (instrumentalists are especially welcome). Open to adults and youth in grades 6-12. New members are welcome throughout the year – email Dr. Brian Schoettler for more information.
URL:https://faithatfirst.org/event/handbell-choir-rehearsal-32/2025-02-05/
LOCATION:Choir Room
ORGANIZER;CN="Brian Schoettler":MAILTO:brian@faithatfirst.com
END:VEVENT
BEGIN:VEVENT
DTSTART;TZID=America/Chicago:20250205T193000
DTEND;TZID=America/Chicago:20250205T210000
DTSTAMP:20260421T192033
CREATED:20240828T202245Z
LAST-MODIFIED:20240903T164905Z
UID:10006456-1738783800-1738789200@faithatfirst.org
SUMMARY:Chancel Choir Rehearsal
DESCRIPTION:Adults and high school youth rehearse music for worship. No audition is required. Email Dr. Brian Schoettler for more information.
URL:https://faithatfirst.org/event/chancel-choir-rehearsal-139/2025-02-05/
LOCATION:Choir Room
ORGANIZER;CN="Brian Schoettler":MAILTO:brian@faithatfirst.com
END:VEVENT
BEGIN:VEVENT
DTSTART;TZID=America/Chicago:20250206T100000
DTEND;TZID=America/Chicago:20250206T130000
DTSTAMP:20260421T192033
CREATED:20250121T183301Z
LAST-MODIFIED:20250121T183301Z
UID:10008536-1738836000-1738846800@faithatfirst.org
SUMMARY:Audio Review and Changes
DESCRIPTION:
URL:https://faithatfirst.org/event/audio-review-and-changes/
END:VEVENT
BEGIN:VEVENT
DTSTART;TZID=America/Chicago:20250206T130000
DTEND;TZID=America/Chicago:20250206T143000
DTSTAMP:20260421T192033
CREATED:20250124T164052Z
LAST-MODIFIED:20250124T164052Z
UID:10008540-1738846800-1738852200@faithatfirst.org
SUMMARY:Bundled Blessings Diaper Packing Event
DESCRIPTION:Staff from Goldfish Swim School will be coming to pack diapers
URL:https://faithatfirst.org/event/bundled-blessings-diaper-packing-event/
END:VEVENT
BEGIN:VEVENT
DTSTART;TZID=UTC:20250206T173000
DTEND;TZID=UTC:20250206T190000
DTSTAMP:20260421T192033
CREATED:20230714T003533Z
LAST-MODIFIED:20230714T003711Z
UID:10004136-1738863000-1738868400@faithatfirst.org
SUMMARY:Soup Kitchen
DESCRIPTION:As part of Interfaith Action of Evanston\, First Church hosts a weekly soup kitchen each Thursday evening.  A host team of First Church volunteers is needed each week\, and 5-6 times a year we also need cooking teams.   Interested in helping?  Please contact Dave Koester (davekoester57@gmail.com) about current scheduling needs.
URL:https://faithatfirst.org/event/soup-kitchen/2025-02-06/
LOCATION:Dining Room
ORGANIZER;CN="Dave Koester":MAILTO:davekoester57@gmail.com
END:VEVENT
BEGIN:VEVENT
DTSTART;TZID=America/Chicago:20250208T110000
DTEND;TZID=America/Chicago:20250208T120000
DTSTAMP:20260421T192033
CREATED:20241204T181024Z
LAST-MODIFIED:20241204T181024Z
UID:10008102-1739012400-1739016000@faithatfirst.org
SUMMARY:Memorial Service
DESCRIPTION:
URL:https://faithatfirst.org/event/memorial-service/
END:VEVENT
BEGIN:VEVENT
DTSTART;TZID=America/Chicago:20250209T080000
DTEND;TZID=America/Chicago:20250209T090000
DTSTAMP:20260421T192033
CREATED:20250128T175136Z
LAST-MODIFIED:20250525T170746Z
UID:10008557-1739088000-1739091600@faithatfirst.org
SUMMARY:Men's Fellowship Gathering
DESCRIPTION:The men’s fellowship group meets on the second Sunday of each month in the dining room for a light breakfast\, fellowship and often a short program.  Contact Jim Hagedorn (jehdvm@gmail.com) for more information or to be added to our contact list.
URL:https://faithatfirst.org/event/mens-fellowship-gathering-2/2025-02-09/
LOCATION:Dining Room
END:VEVENT
BEGIN:VEVENT
DTSTART;TZID=America/Chicago:20250209T080000
DTEND;TZID=America/Chicago:20250209T170000
DTSTAMP:20260421T192033
CREATED:20250130T180732Z
LAST-MODIFIED:20250130T180827Z
UID:10008563-1739088000-1739120400@faithatfirst.org
SUMMARY:Sunday School for Preschool-6th Grade
DESCRIPTION:
URL:https://faithatfirst.org/event/sunday-school-for-preschool-6th-grade/2025-02-09/
LOCATION:2nd Floor Classrooms
END:VEVENT
BEGIN:VEVENT
DTSTART;TZID=America/Chicago:20250209T091500
DTEND;TZID=America/Chicago:20250209T101500
DTSTAMP:20260421T192033
CREATED:20240813T145144Z
LAST-MODIFIED:20240829T163149Z
UID:10006071-1739092500-1739096100@faithatfirst.org
SUMMARY:Sunday School
DESCRIPTION:Sunday School takes place before Worship from 9:15-10:15 a.m. from mid-September through May\, with an emphasis on learning and responding to stories in the Bible through reading\, conversation\, and play. Sunday School is offered for children ages Pre-K-6th grade. Classroom locations are posted throughout the building.
URL:https://faithatfirst.org/event/sunday-school-8/2025-02-09/
END:VEVENT
BEGIN:VEVENT
DTSTART;TZID=America/Chicago:20250209T091500
DTEND;TZID=America/Chicago:20250209T101500
DTSTAMP:20260421T192033
CREATED:20250103T185314Z
LAST-MODIFIED:20250103T185314Z
UID:10008519-1739092500-1739096100@faithatfirst.org
SUMMARY:Social Justice Intersections: The Legacy of the Great Lakes with guest speaker Susan Prout\, Counsel for the EPA
DESCRIPTION:
URL:https://faithatfirst.org/event/social-justice-intersections-the-legacy-of-the-great-lakes-with-guest-speaker-susan-prout-counsel-for-the-epa/
LOCATION:Dining Room
END:VEVENT
BEGIN:VEVENT
DTSTART;TZID=America/Chicago:20250209T104500
DTEND;TZID=America/Chicago:20250209T113000
DTSTAMP:20260421T192033
CREATED:20240829T163541Z
LAST-MODIFIED:20240829T163541Z
UID:10006908-1739097900-1739100600@faithatfirst.org
SUMMARY:Connect456
DESCRIPTION:Connect456 is designed to help children in grades 4-6 connect to the church community as older elementary and middle school students preparing to make their own way at First Church. Each week features a unique means of connecting\, including serving in leadership with younger children\, learning about our church history and United Methodist identity\, observing worship and more!
URL:https://faithatfirst.org/event/connect456-10/2025-02-09/
END:VEVENT
BEGIN:VEVENT
DTSTART;TZID=America/Chicago:20250209T104500
DTEND;TZID=America/Chicago:20250209T113000
DTSTAMP:20260421T192033
CREATED:20240829T163813Z
LAST-MODIFIED:20250130T181827Z
UID:10006935-1739097900-1739100600@faithatfirst.org
SUMMARY:Children's Chapel
DESCRIPTION:Children’s Chapel seeks to excite and build confidence in children’s experience of worship and sense of belonging at First Church. Children ages three through 3rd grade are invited to experience the wonder of worship and joy of service in a lively\, child-friendly setting. Throughout the program year\, children take part in the seasons of the Christian year\, exploring rituals\, sacraments\, and songs of our worship tradition as well as hands-on aspects of our church mission that children might shape and help share the story of our faith.
URL:https://faithatfirst.org/event/childrens-chapel-38/2025-02-09/
END:VEVENT
BEGIN:VEVENT
DTSTART;TZID=America/Chicago:20250209T113000
DTEND;TZID=America/Chicago:20250209T120000
DTSTAMP:20260421T192033
CREATED:20240828T194036Z
LAST-MODIFIED:20240828T194036Z
UID:10006283-1739100600-1739102400@faithatfirst.org
SUMMARY:Eucharist Service
DESCRIPTION:
URL:https://faithatfirst.org/event/eucharist-service/2025-02-09/
LOCATION:Tittle Chapel
END:VEVENT
BEGIN:VEVENT
DTSTART;TZID=America/Chicago:20250209T120000
DTEND;TZID=America/Chicago:20250209T130000
DTSTAMP:20260421T192033
CREATED:20250209T165145Z
LAST-MODIFIED:20250209T165145Z
UID:10008610-1739102400-1739106000@faithatfirst.org
SUMMARY:Children's Council
DESCRIPTION:
URL:https://faithatfirst.org/event/childrens-council-3/
LOCATION:Glenna Hall
END:VEVENT
BEGIN:VEVENT
DTSTART;TZID=America/Chicago:20250210T193000
DTEND;TZID=America/Chicago:20250210T204500
DTSTAMP:20260421T192033
CREATED:20240828T222052Z
LAST-MODIFIED:20240828T222539Z
UID:10006889-1739215800-1739220300@faithatfirst.org
SUMMARY:Communications Committee Meeting
DESCRIPTION:The 2024-25 Communications Commitee meets monthly on the second Monday of each month at 7:30pm online.   Questions?  Please reach out to committee chair Andy Shotwell at ashotwell@gmail.com.
URL:https://faithatfirst.org/event/communications-committee-meeting-10/2025-02-10/
LOCATION:Zoom
ORGANIZER;CN="Andy Shotwell":MAILTO:ashotwell@gmail.com
END:VEVENT
BEGIN:VEVENT
DTSTART;TZID=America/Chicago:20250211T140000
DTEND;TZID=America/Chicago:20250211T153000
DTSTAMP:20260421T192033
CREATED:20240828T203725Z
LAST-MODIFIED:20240828T203725Z
UID:10006607-1739282400-1739287800@faithatfirst.org
SUMMARY:Archives Committee
DESCRIPTION:
URL:https://faithatfirst.org/event/archives-committee-2/2025-02-11/
LOCATION:Archives-Room 37
END:VEVENT
BEGIN:VEVENT
DTSTART;TZID=America/Chicago:20250211T183000
DTEND;TZID=America/Chicago:20250211T203000
DTSTAMP:20260421T192033
CREATED:20250128T175404Z
LAST-MODIFIED:20250128T175404Z
UID:10008558-1739298600-1739305800@faithatfirst.org
SUMMARY:Mom's Night Out
DESCRIPTION:Mom’s NIght Out! Tues Feb 11th AND Reserve Women’s Club Mar 13th!\n​MOM’s NIGHT OUT!!! Tues Feb 11th – 6:30-8:30 pm \nNancy Brown Host with Marianne Griebler Cohost \nRSVP to Nandbrown@comcast.net OR 847-271-1712 \nCome Join Us for Lively Conversation and Delicious Snacks!​ Moms of every age are Welcome! Bring a Friend? If you wish\, bring a snack to share but no guilt! \n​RESERVE NOW – Join us for the Woman’s Club of Evanston Revue\, “Life is But a Meme​!” benefiting the Ted Fund. Ladies night is Thursday\, March 13 at 8 PM. Doors open at 7:30 at the WCE clubhouse\, 1702 Chicago Ave. \nTickets are $50 each. Evelyn McGowan reserved a table for us. The first 12 people to send payment to Evelyn will get seats at the table. Otherwise\, we will try for seats nearby. You can pay via cash\, check\, venmo or paypal- no refunds- it’s a donation! Contact Evenlyn for rsvp at em4mail@gmail.com
URL:https://faithatfirst.org/event/moms-night-out-20/
END:VEVENT
BEGIN:VEVENT
DTSTART;TZID=America/Chicago:20250211T190000
DTEND;TZID=America/Chicago:20250211T203000
DTSTAMP:20260421T192033
CREATED:20240828T200726Z
LAST-MODIFIED:20240828T200726Z
UID:10006418-1739300400-1739305800@faithatfirst.org
SUMMARY:Church Council Meeting
DESCRIPTION:
URL:https://faithatfirst.org/event/church-council-meeting-2/2025-02-11/
LOCATION:Glenna Hall
END:VEVENT
BEGIN:VEVENT
DTSTART;TZID=UTC:20250212T100000
DTEND;TZID=UTC:20250212T110000
DTSTAMP:20260421T192033
CREATED:20230908T024328Z
LAST-MODIFIED:20241121T185340Z
UID:10003772-1739354400-1739358000@faithatfirst.org
SUMMARY:Coffee\, Conversation\, and Friends
DESCRIPTION:This group of women “of a certain age” meet on the second and fourth Wednesday of the month from 10:00 to 11:00 am. Year round we gather at LePeep in Evanston for informal conversations on a wide variety of topics: books\, the news\, restaurants\, grandchildren\, and places to visit. No matter what’s on the table\, we are all ears. Come join the conversation and make some new friends.
URL:https://faithatfirst.org/event/coffee-conversation-and-friends-6-2/2025-02-12/
END:VEVENT
BEGIN:VEVENT
DTSTART;TZID=America/Chicago:20250212T120000
DTEND;TZID=America/Chicago:20250212T130000
DTSTAMP:20260421T192033
CREATED:20250226T025253Z
LAST-MODIFIED:20250226T025254Z
UID:10008543-1739361600-1739365200@faithatfirst.org
SUMMARY:Canceled for Feb. 26th-Lunch Break with Mr. Colin!
DESCRIPTION:Lunch Break with Mr. Colin is canceled for February 26th. \nThis February\, Children’s Ministry invites you to get out and warm up with stories and songs on Wednesdays at noon beginning February 12. Bring a lunch and settle in for live guitar\, action songs and sing-alongs\, and resonant stories of wonder\, followed by a take-home activity and devotion. Open to all but especially suited for families with children ages 0-6. No registration required.
URL:https://faithatfirst.org/event/lunch-break-with-mr-colin-3/
END:VEVENT
BEGIN:VEVENT
DTSTART;TZID=America/Chicago:20250212T180000
DTEND;TZID=America/Chicago:20250212T191500
DTSTAMP:20260421T192033
CREATED:20250209T152739Z
LAST-MODIFIED:20250209T152739Z
UID:10008609-1739383200-1739387700@faithatfirst.org
SUMMARY:3R's Rehearsal
DESCRIPTION:
URL:https://faithatfirst.org/event/3rs-rehearsal/
LOCATION:Great Hall
END:VEVENT
BEGIN:VEVENT
DTSTART;TZID=America/Chicago:20250212T190000
DTEND;TZID=America/Chicago:20250212T220000
DTSTAMP:20260421T192033
CREATED:20241216T170911Z
LAST-MODIFIED:20241216T170911Z
UID:10008381-1739386800-1739397600@faithatfirst.org
SUMMARY:Stare at the Sun Choral Rehearsal
DESCRIPTION:
URL:https://faithatfirst.org/event/stare-at-the-sun-choral-rehearsal/
LOCATION:Sanctuary
END:VEVENT
BEGIN:VEVENT
DTSTART;VALUE=DATE:20250215
DTEND;VALUE=DATE:20250217
DTSTAMP:20260421T192033
CREATED:20241017T202844Z
LAST-MODIFIED:20241216T192705Z
UID:10007428-1739577600-1739750399@faithatfirst.org
SUMMARY:Rainbows\, Resistance and Reconciliation (R3)
DESCRIPTION:A Celebration of our Intersectional Pride \nIn the month of our 11th Anniversary as a \nReconciling Ministry Network (RMN) Congregation \nBlack History Month \nFirst United Methodist Church of Evanston \nREGISTER HERE \n\nSaturday/Sunday\, February 15-16th\, 2025 \nFirst United Methodist Church in Evanston (FUMCE) is celebrating it’s eleventh anniversary as a reconciling congregation that seeks justice and dignity for all LGBTQIA+ persons. The event for February 15-16th is a time to revisit our commitment and move into the future in these difficult times. \nOur focus is on Intersectional pride and justice.  FUMCE is a welcoming Christian community of the United Methodist Church (UMC) that offers hospitality\, congregational care\, and fellowship to all. We embrace individuals and families of all gender identities\, sexual orientations\, ethnicities\, races\, and economic backgrounds.  We are a community of faith seeking the transformation of the world through Jesus’ courageous love. \nOn the 11th anniversary of joining the RMN fellowship\, we are celebrating this milestone with an event called “Rainbows\, Resistance and Reconciliation (R3)”.  Our desire is to bring the Reconciling community and prospective congregations in Evanston\, our district area and Conference together in the spirit of love and fellowship. \nThese types of events in Northern Illinois Conference of the United Methodist Church have not happened since before the beginning of the COVID epidemic. \nOn Saturday\, February 15th at the Anniversary Celebration we will welcome a national speaker. There will be local clergy and lay leaders participating in a panel on “What Next post UM General Conference and post Election 2024”\, Rev. Dr. Pamela Lightsey is the preacher for the Anniversary Worship Service on Sunday\, February 16\, and will lead us in reflections on what is to come as we move forward together. There will be workshops focusing on various topics\, including intersectional justice\, queer and trans issues\, being allies and biblical interpretation that heals not harms. \nIn this event we seek to: \n\nProvide opportunities for healing and hope:  Build Community\nVision faithful movement forward. Strategize about what people and churches need for this work.\nIdentify ambassadors for LGBTQIA+ justice and advocacy (as RMN names them)\nAddress issues facing us now like ongoing prejudice and the many hateful laws restricting gender affirming care.\nStrategize to take action against violence inflicted on members of the community\,\, especially transgender folk\nAddress issues of mental health as relates to homophobic Christian teachings and societal attitudes and seek to reduce high suicide rates (ie mental health )\nEmbrace Queer folk who because of cultural structural context (color) may still feel a need  to be closeted\n\nPlease visit the event site for more details. 
URL:https://faithatfirst.org/event/winter-warming-tentative/
LOCATION:Sanctuary\, Chapel\, Glenna\, Dining Room\, Third Floor rooms\, basement rooms\, Great Hall
END:VEVENT
BEGIN:VEVENT
DTSTART;TZID=America/Chicago:20250215T100000
DTEND;TZID=America/Chicago:20250215T120000
DTSTAMP:20260421T192033
CREATED:20240917T183404Z
LAST-MODIFIED:20240917T183404Z
UID:10007246-1739613600-1739620800@faithatfirst.org
SUMMARY:Styrofoam Collection
DESCRIPTION:The Earth Care Committee holds its monthly Styrofoam collection time at First UMC Evanston on the third Saturday of the month at the Church Street entrance between 10am and Noon. Material to be collected includes all clean No. 6 plastic foam. Acceptable items include disposable coffee cups; take out containers (such as clamshells); plastic plates\, bowls and cutlery; meat and poultry foam trays and packing foam. When recycled\, these items can be processed into a material used to make park benches\, picture frames\, and other items. Recycling these items helps keep this harmful plastic\, which cannot be processed locally\, out of the waste stream.
URL:https://faithatfirst.org/event/styrofoam-collection/2025-02-15/
END:VEVENT
BEGIN:VEVENT
DTSTART;TZID=America/Chicago:20250216T093000
DTEND;TZID=America/Chicago:20250216T120000
DTSTAMP:20260421T192033
CREATED:20250210T174828Z
LAST-MODIFIED:20250210T174900Z
UID:10008617-1739698200-1739707200@faithatfirst.org
SUMMARY:Styrofoam Collection
DESCRIPTION:Bring your Styrofoam to Church to be Recycled!\nEvery 3rd Saturday of the month\, 10 am to 12 noon\, at the Church Street entrance.\nAnd now every the 3rd Sunday of the month\, near the front office.
URL:https://faithatfirst.org/event/styrofoam-collection-2/2025-02-16/
END:VEVENT
BEGIN:VEVENT
DTSTART;TZID=UTC:20250216T113000
DTEND;TZID=UTC:20250216T120000
DTSTAMP:20260421T192033
CREATED:20240409T173024Z
LAST-MODIFIED:20241001T181329Z
UID:10007340-1739705400-1739707200@faithatfirst.org
SUMMARY:Earth Care Lending Library
DESCRIPTION:Looking for a place to continue growing in your understanding of environmental justice and how to care for God’s creation? \nVisit the Earth Care Lending Library\, which is open every 2nd Sunday after worship in Great Hall. A small lending library with books for readers of all ages\, the titles were curated by the Earth Care Committee and include Newbery Award-winning children’s  books\, as well as titles by leading voices from the spiritual and scientific communities.
URL:https://faithatfirst.org/event/earth-care-lending-library-2/2025-02-16/
LOCATION:Great Hall
END:VEVENT
BEGIN:VEVENT
DTSTART;TZID=America/Chicago:20250216T113000
DTEND;TZID=America/Chicago:20250216T123000
DTSTAMP:20260421T192033
CREATED:20250209T180019Z
LAST-MODIFIED:20250209T180019Z
UID:10008611-1739705400-1739709000@faithatfirst.org
SUMMARY:Focus Group
DESCRIPTION:Members of the 2024 Winter Inquirers Class are invited to participate in a focus group after worship on February 16 to provide input to the Membership Committee about how to more effectively connect and engage newer members. Questions? Please contact David Smith or Mary Taylor-Johnson.
URL:https://faithatfirst.org/event/focus-group/
LOCATION:Dining Room
END:VEVENT
BEGIN:VEVENT
DTSTART;TZID=America/Chicago:20250216T143000
DTEND;TZID=America/Chicago:20250216T173000
DTSTAMP:20260421T192033
CREATED:20241216T171202Z
LAST-MODIFIED:20241216T171202Z
UID:10008382-1739716200-1739727000@faithatfirst.org
SUMMARY:Stare at the Sun Choral Concert
DESCRIPTION:
URL:https://faithatfirst.org/event/stare-at-the-sun-choral-concert/
LOCATION:Sanctuary
END:VEVENT
END:VCALENDAR