BEGIN:VCALENDAR
VERSION:2.0
PRODID:-//First United Methodist Church of Evanston, IL - ECPv6.15.20//NONSGML v1.0//EN
CALSCALE:GREGORIAN
METHOD:PUBLISH
X-ORIGINAL-URL:https://faithatfirst.org
X-WR-CALDESC:Events for First United Methodist Church of Evanston, IL
REFRESH-INTERVAL;VALUE=DURATION:PT1H
X-Robots-Tag:noindex
X-PUBLISHED-TTL:PT1H
BEGIN:VTIMEZONE
TZID:America/Chicago
BEGIN:DAYLIGHT
TZOFFSETFROM:-0600
TZOFFSETTO:-0500
TZNAME:CDT
DTSTART:20240310T080000
END:DAYLIGHT
BEGIN:STANDARD
TZOFFSETFROM:-0500
TZOFFSETTO:-0600
TZNAME:CST
DTSTART:20241103T070000
END:STANDARD
BEGIN:DAYLIGHT
TZOFFSETFROM:-0600
TZOFFSETTO:-0500
TZNAME:CDT
DTSTART:20250309T080000
END:DAYLIGHT
BEGIN:STANDARD
TZOFFSETFROM:-0500
TZOFFSETTO:-0600
TZNAME:CST
DTSTART:20251102T070000
END:STANDARD
BEGIN:DAYLIGHT
TZOFFSETFROM:-0600
TZOFFSETTO:-0500
TZNAME:CDT
DTSTART:20260308T080000
END:DAYLIGHT
BEGIN:STANDARD
TZOFFSETFROM:-0500
TZOFFSETTO:-0600
TZNAME:CST
DTSTART:20261101T070000
END:STANDARD
END:VTIMEZONE
BEGIN:VTIMEZONE
TZID:UTC
BEGIN:STANDARD
TZOFFSETFROM:+0000
TZOFFSETTO:+0000
TZNAME:UTC
DTSTART:20240101T000000
END:STANDARD
END:VTIMEZONE
BEGIN:VEVENT
DTSTART;TZID=America/Chicago:20251019T093000
DTEND;TZID=America/Chicago:20251019T101500
DTSTAMP:20260420T232214
CREATED:20250213T170657Z
LAST-MODIFIED:20250718T190816Z
UID:10008727-1760866200-1760868900@faithatfirst.org
SUMMARY:Chancel Choir Rehearsal
DESCRIPTION:Adults and high school youth rehearse music for worship in the Chancel at the front of the Sanctuary. No audition required. Email Dr. Brian Schoettler for more information.
URL:https://faithatfirst.org/event/chancel-choir-rehearsal-143/2025-10-19/
LOCATION:Choir Room
ORGANIZER;CN="Brian Schoettler":MAILTO:brian@faithatfirst.com
END:VEVENT
BEGIN:VEVENT
DTSTART;TZID=America/Chicago:20251019T093000
DTEND;TZID=America/Chicago:20251019T120000
DTSTAMP:20260420T232214
CREATED:20250210T174828Z
LAST-MODIFIED:20250210T174900Z
UID:10008625-1760866200-1760875200@faithatfirst.org
SUMMARY:Styrofoam Collection
DESCRIPTION:Bring your Styrofoam to Church to be Recycled!\nEvery 3rd Saturday of the month\, 10 am to 12 noon\, at the Church Street entrance.\nAnd now every the 3rd Sunday of the month\, near the front office.
URL:https://faithatfirst.org/event/styrofoam-collection-2/2025-10-19/
END:VEVENT
BEGIN:VEVENT
DTSTART;TZID=America/Chicago:20251019T103000
DTEND;TZID=America/Chicago:20251019T120000
DTSTAMP:20260420T232214
CREATED:20250213T171632Z
LAST-MODIFIED:20250213T171702Z
UID:10008779-1760869800-1760875200@faithatfirst.org
SUMMARY:Worship in the Sanctuary
DESCRIPTION:Please find up to date information about this Sunday here.
URL:https://faithatfirst.org/event/worship-in-the-sanctuary-3/2025-10-19/
LOCATION:Sanctuary
END:VEVENT
BEGIN:VEVENT
DTSTART;TZID=UTC:20251019T113000
DTEND;TZID=UTC:20251019T120000
DTSTAMP:20260420T232214
CREATED:20240409T173024Z
LAST-MODIFIED:20241001T181329Z
UID:10007348-1760873400-1760875200@faithatfirst.org
SUMMARY:Earth Care Lending Library
DESCRIPTION:Looking for a place to continue growing in your understanding of environmental justice and how to care for God’s creation? \nVisit the Earth Care Lending Library\, which is open every 2nd Sunday after worship in Great Hall. A small lending library with books for readers of all ages\, the titles were curated by the Earth Care Committee and include Newbery Award-winning children’s  books\, as well as titles by leading voices from the spiritual and scientific communities.
URL:https://faithatfirst.org/event/earth-care-lending-library-2/2025-10-19/
LOCATION:Great Hall
END:VEVENT
BEGIN:VEVENT
DTSTART;TZID=America/Chicago:20251019T113000
DTEND;TZID=America/Chicago:20251019T123000
DTSTAMP:20260420T232214
CREATED:20241209T180901Z
LAST-MODIFIED:20241209T180901Z
UID:10008161-1760873400-1760877000@faithatfirst.org
SUMMARY:Church Offering Counting
DESCRIPTION:
URL:https://faithatfirst.org/event/church-offering-counting/2025-10-19/
LOCATION:Conference Room
END:VEVENT
BEGIN:VEVENT
DTSTART;TZID=America/Chicago:20251020T100000
DTEND;TZID=America/Chicago:20251020T113000
DTSTAMP:20260420T232214
CREATED:20250529T174400Z
LAST-MODIFIED:20250529T174400Z
UID:10009438-1760954400-1760959800@faithatfirst.org
SUMMARY:Finance Ad Hoc Committee on Designated Funds
DESCRIPTION:
URL:https://faithatfirst.org/event/finance-ad-hoc-committee-on-designated-funds/2025-10-20/
END:VEVENT
BEGIN:VEVENT
DTSTART;TZID=America/Chicago:20251020T193000
DTEND;TZID=America/Chicago:20251020T203000
DTSTAMP:20260420T232214
CREATED:20251020T171043Z
LAST-MODIFIED:20251020T171043Z
UID:10011082-1760988600-1760992200@faithatfirst.org
SUMMARY:Adult Education Council Meeting
DESCRIPTION:
URL:https://faithatfirst.org/event/adult-education-council-meeting-2/
LOCATION:Glenna Hall
END:VEVENT
BEGIN:VEVENT
DTSTART;TZID=America/Chicago:20251021T140000
DTEND;TZID=America/Chicago:20251021T153000
DTSTAMP:20260420T232214
CREATED:20240828T203725Z
LAST-MODIFIED:20240828T203725Z
UID:10006625-1761055200-1761060600@faithatfirst.org
SUMMARY:Archives Committee
DESCRIPTION:
URL:https://faithatfirst.org/event/archives-committee-2/2025-10-21/
LOCATION:Archives-Room 37
END:VEVENT
BEGIN:VEVENT
DTSTART;TZID=America/Chicago:20251021T190000
DTEND;TZID=America/Chicago:20251021T200000
DTSTAMP:20260420T232214
CREATED:20250711T184301Z
LAST-MODIFIED:20250711T184301Z
UID:10009562-1761073200-1761076800@faithatfirst.org
SUMMARY:Faith Formation Council Meeting
DESCRIPTION:
URL:https://faithatfirst.org/event/faith-formation-council-meeting-2/2025-10-21/
END:VEVENT
BEGIN:VEVENT
DTSTART;TZID=America/Chicago:20251021T193000
DTEND;TZID=America/Chicago:20251021T203000
DTSTAMP:20260420T232214
CREATED:20250919T163432Z
LAST-MODIFIED:20250919T163432Z
UID:10010869-1761075000-1761078600@faithatfirst.org
SUMMARY:Communications Committee Meeting
DESCRIPTION:
URL:https://faithatfirst.org/event/communications-committee-meeting-11/2025-10-21/
LOCATION:Conference Room
END:VEVENT
BEGIN:VEVENT
DTSTART;TZID=UTC:20251022T100000
DTEND;TZID=UTC:20251022T110000
DTSTAMP:20260420T232214
CREATED:20230608T002343Z
LAST-MODIFIED:20250922T182943Z
UID:10003840-1761127200-1761130800@faithatfirst.org
SUMMARY:Coffee\, Conversation\, and Friends
DESCRIPTION:This group of women “of a certain age” meet on the second and fourth Wednesday of the month from 10:00 to 11:00 am. We meet at Le Peep in Evanston for informal conversations on a wide variety of topics: books\, the news\, restaurants\, grandchildren\, and places to visit. No matter what’s on the table\, we are all ears. Come join the conversation and make some new friends.
URL:https://faithatfirst.org/event/coffee-conversation-and-friends-7/2025-10-22/
END:VEVENT
BEGIN:VEVENT
DTSTART;TZID=America/Chicago:20251022T100000
DTEND;TZID=America/Chicago:20251022T120000
DTSTAMP:20260420T232214
CREATED:20250905T015327Z
LAST-MODIFIED:20250905T015512Z
UID:10009828-1761127200-1761134400@faithatfirst.org
SUMMARY:Wednesday Bible Study- Online
DESCRIPTION:The Wednesday Bible Study is a longstanding group that meets online every Wednesday 10-11:30am with the exception of a short break in the summer. \nPlease contact Janet Lutz at janetatl@aol.com with any questions. \nRealm Registration Event. 
URL:https://faithatfirst.org/event/wednesday-bible-study-online/2025-10-22/
LOCATION:online
ORGANIZER;CN="Janet Lutz":MAILTO:janetatl@aol.com
END:VEVENT
BEGIN:VEVENT
DTSTART;TZID=America/Chicago:20251022T110000
DTEND;TZID=America/Chicago:20251022T123000
DTSTAMP:20260420T232214
CREATED:20240904T190639Z
LAST-MODIFIED:20240904T190639Z
UID:10006993-1761130800-1761136200@faithatfirst.org
SUMMARY:Staff Meeting
DESCRIPTION:
URL:https://faithatfirst.org/event/staff-meeting-62/2025-10-22/
LOCATION:Conference Room
ORGANIZER;CN="Pastor Britt Cox":MAILTO:britt@faithatfirst.com
END:VEVENT
BEGIN:VEVENT
DTSTART;TZID=America/Chicago:20251022T170000
DTEND;TZID=America/Chicago:20251022T193000
DTSTAMP:20260420T232214
CREATED:20250916T153843Z
LAST-MODIFIED:20250916T153843Z
UID:10010859-1761152400-1761161400@faithatfirst.org
SUMMARY:Harvest Soup (Total Child families)
DESCRIPTION:
URL:https://faithatfirst.org/event/harvest-soup-total-child-families/
LOCATION:Dining Hall
END:VEVENT
BEGIN:VEVENT
DTSTART;TZID=America/Chicago:20251022T171500
DTEND;TZID=America/Chicago:20251022T180000
DTSTAMP:20260420T232214
CREATED:20250213T165808Z
LAST-MODIFIED:20250213T165808Z
UID:10008648-1761153300-1761156000@faithatfirst.org
SUMMARY:Children's Choir Rehearsal
DESCRIPTION:Children in grades 1-6 rehearse weekly and sing in worship monthly. No audition is required and new singers are welcome throughout the year. For more information\, email Dr. Brian Schoettler.
URL:https://faithatfirst.org/event/childrens-choir-rehearsal-64/2025-10-22/
LOCATION:Choir Room
ORGANIZER;CN="Brian Schoettler":MAILTO:brian@faithatfirst.com
END:VEVENT
BEGIN:VEVENT
DTSTART;TZID=America/Chicago:20251022T183000
DTEND;TZID=America/Chicago:20251022T191500
DTSTAMP:20260420T232214
CREATED:20250213T170353Z
LAST-MODIFIED:20250213T170353Z
UID:10008690-1761157800-1761160500@faithatfirst.org
SUMMARY:Handbell Choir Rehearsal
DESCRIPTION:The Handbell Choir plays in worship seasonally. Basic music reading skills required (instrumentalists are especially welcome). Open to adults and youth in grades 6-12. New members are welcome throughout the year – email Dr. Brian Schoettler for more information.
URL:https://faithatfirst.org/event/handbell-choir-rehearsal-33/2025-10-22/
LOCATION:Choir Room
ORGANIZER;CN="Brian Schoettler":MAILTO:brian@faithatfirst.com
END:VEVENT
BEGIN:VEVENT
DTSTART;TZID=America/Chicago:20251022T190000
DTEND;TZID=America/Chicago:20251022T203000
DTSTAMP:20260420T232214
CREATED:20250905T023701Z
LAST-MODIFIED:20250905T023701Z
UID:10010293-1761159600-1761165000@faithatfirst.org
SUMMARY:Holy Hurt Book Group
DESCRIPTION:Holy Hurt – Healing from Religious Trauma \nWednesdays 7pm-8:30pm | Starting the week of Oct. 8th  through November 12th | Glenna Hall  \nLed by Rev. Britt Cox and shared weekly facilitation with group participants  \nMany of us carry invisible wounds from faith communities that once promised love\, belonging\, or truth—but instead delivered shame\, fear\, or harm. In Holy Hurt\, therapist and theologian Dr. Hillary McBride gently guides readers through the complex terrain of religious trauma with compassion\, insight\, and hope. \nThis class will be a space for honest reflection\, guided discussion\, and spiritual care as we explore themes like: \n\nNaming and understanding religious trauma\nReclaiming your body\, story\, and relationship with the Divine\nGrieving what was lost—and holding onto what still gives life\nFinding new ways of connecting with God\, others\, and yourself\n\nWhether you are deconstructing\, rebuilding\, or simply curious\, this class offers tools for healing\, language for your journey\, and community for the road. All are welcome\, especially those carrying questions or wounds from past faith experiences. \nClass will be capped at 15 people and we ask that folks register ahead of time here on realm. Purchase the book and read through chapter 1 prior to the first class.  \nRegister here at the Realm Registration Event. 
URL:https://faithatfirst.org/event/holy-hurt-book-group/2025-10-22/
LOCATION:Glenna Hall
ORGANIZER;CN="Pastor Britt Cox":MAILTO:britt@faithatfirst.com
END:VEVENT
BEGIN:VEVENT
DTSTART;TZID=America/Chicago:20251022T190000
DTEND;TZID=America/Chicago:20251022T203000
DTSTAMP:20260420T232214
CREATED:20250922T185655Z
LAST-MODIFIED:20250922T185655Z
UID:10010927-1761159600-1761165000@faithatfirst.org
SUMMARY:Membership Committee Meeting
DESCRIPTION:The Membership Committee meets monthly to discuss ideas and work on strategies to encourage member and visitor engagement in First Church worship\, programs\, and other opportunities. Please address any questions about this committee and its work to Lynelle Diener\, Chair.
URL:https://faithatfirst.org/event/membership-committee-meeting-7/2025-10-22/
LOCATION:Conference Room
END:VEVENT
BEGIN:VEVENT
DTSTART;TZID=America/Chicago:20251022T193000
DTEND;TZID=America/Chicago:20251022T201500
DTSTAMP:20260420T232214
CREATED:20250718T184738Z
LAST-MODIFIED:20250718T184738Z
UID:10009626-1761161400-1761164100@faithatfirst.org
SUMMARY:Festival Choir Rehearsal
DESCRIPTION:Adults and high school youth from the congregation and the community rehearse in preparation of Mozart’s Requiem for the Festival Choir Concert on November 21\, 2025. No audition is required.
URL:https://faithatfirst.org/event/festival-choir-rehearsal/2025-10-22/
LOCATION:Choir Room
END:VEVENT
BEGIN:VEVENT
DTSTART;TZID=America/Chicago:20251022T193000
DTEND;TZID=America/Chicago:20251022T210000
DTSTAMP:20260420T232214
CREATED:20250213T165531Z
LAST-MODIFIED:20250718T185940Z
UID:10009690-1761161400-1761166800@faithatfirst.org
SUMMARY:Chancel Choir Rehearsal
DESCRIPTION:Adults and high school youth rehearse music for worship in the Chancel at the front of the Sanctuary. No audition required. Email Dr. Brian Schoettler for more information. \nMeets in Choir Room!
URL:https://faithatfirst.org/event/chancel-choir-rehearsal-142/2025-10-22/
LOCATION:Choir Room
ORGANIZER;CN="Brian Schoettler":MAILTO:brian@faithatfirst.com
END:VEVENT
BEGIN:VEVENT
DTSTART;TZID=America/Chicago:20251023T080000
DTEND;TZID=America/Chicago:20251023T170000
DTSTAMP:20260420T232214
CREATED:20251023T194231Z
LAST-MODIFIED:20251023T194231Z
UID:10011091-1761206400-1761238800@faithatfirst.org
SUMMARY:Nov. 1 Diaper Packing and Breakfast
DESCRIPTION:On Saturday morning\, Nov. 1\, Inquirers and other First Church folks are invited to gather at the church to pack diapers in preparation for the monthly diaper pickup day when our social service agency partners come to pick up the diapers for the families in their networks. \nBreakfast 9-9:30am \nDiaper Packing 9:30-11am \nThank you!
URL:https://faithatfirst.org/event/nov-1-diaper-packing-and-breakfast/
END:VEVENT
BEGIN:VEVENT
DTSTART;TZID=America/Chicago:20251023T130000
DTEND;TZID=America/Chicago:20251023T140000
DTSTAMP:20260420T232214
CREATED:20250905T015759Z
LAST-MODIFIED:20250905T015759Z
UID:10009918-1761224400-1761228000@faithatfirst.org
SUMMARY:Progressive Christianity Reading Group- Online
DESCRIPTION:First Church’s Progressive Christians Reading Group invites new and former participants to participate as the group gathers each Thursday 1:00-2:00pm online to discuss and reflect on selected books\, typically one book per month. \nInterested? Email Christie at cecook.phd@gmail.com for the current/upcoming reading and the Zoom link. \nRealm Registration Event. 
URL:https://faithatfirst.org/event/progressive-christianity-reading-group-online/2025-10-23/
LOCATION:online
ORGANIZER;CN="Christie Cook":MAILTO:cecook.phd@gmail.com
END:VEVENT
BEGIN:VEVENT
DTSTART;TZID=UTC:20251023T173000
DTEND;TZID=UTC:20251023T190000
DTSTAMP:20260420T232214
CREATED:20230714T003533Z
LAST-MODIFIED:20230714T003711Z
UID:10004173-1761240600-1761246000@faithatfirst.org
SUMMARY:Soup Kitchen
DESCRIPTION:As part of Interfaith Action of Evanston\, First Church hosts a weekly soup kitchen each Thursday evening.  A host team of First Church volunteers is needed each week\, and 5-6 times a year we also need cooking teams.   Interested in helping?  Please contact Dave Koester (davekoester57@gmail.com) about current scheduling needs.
URL:https://faithatfirst.org/event/soup-kitchen/2025-10-23/
LOCATION:Dining Room
ORGANIZER;CN="Dave Koester":MAILTO:davekoester57@gmail.com
END:VEVENT
BEGIN:VEVENT
DTSTART;TZID=America/Chicago:20251023T183000
DTEND;TZID=America/Chicago:20251023T203000
DTSTAMP:20260420T232214
CREATED:20250916T183821Z
LAST-MODIFIED:20250916T183821Z
UID:10010866-1761244200-1761251400@faithatfirst.org
SUMMARY:Mom's Night Out
DESCRIPTION:Mom’s Night Out – Greta Connor’s HomeAsk someone to join you! \n\nNew to MNO? You’re welcome here!Email Linda Federer at Lfederer30@gmail.com for more info or to get connected.
URL:https://faithatfirst.org/event/moms-night-out-23/
END:VEVENT
BEGIN:VEVENT
DTSTART;TZID=America/Chicago:20251023T183000
DTEND;TZID=America/Chicago:20251023T203000
DTSTAMP:20260420T232214
CREATED:20250930T155210Z
LAST-MODIFIED:20250930T155210Z
UID:10010946-1761244200-1761251400@faithatfirst.org
SUMMARY:Mom's Night Out
DESCRIPTION:CANNOT WAIT TO SEE YOU! Always welcoming Moms of every age!\n\nAt Greta Connor’s home with Catharina Maerklin co-hosting.\n\nRSVP if you know you are coming to ggconnor.28@gmail.com Or 773-655-5382\n\nBring something to share IF you can- but no pressure. Come as you are!\n\n\n\nLooking Ahead:\n\nNovember 12th – WED – at Cherie Asante’s with Chris Nieuwsma co-hosting\n\nDec 4th – THURS – at Sue Hagedorn’s\n\nThank you all!\n– Linda Federer
URL:https://faithatfirst.org/event/moms-night-out-24/
END:VEVENT
BEGIN:VEVENT
DTSTART;TZID=America/Chicago:20251023T190000
DTEND;TZID=America/Chicago:20251023T203000
DTSTAMP:20260420T232214
CREATED:20250905T022040Z
LAST-MODIFIED:20250905T022040Z
UID:10010007-1761246000-1761251400@faithatfirst.org
SUMMARY:God's Story\, Our Stories Bible Study- Online
DESCRIPTION:The Lectionary Bible Study Group meets online each Thursday evening. We are a band of curious explorers\, reflecting upon the lectionary passages for the coming Sunday. We ask many questions. We have “ah ha” moments in our discussions. We attempt to unearth how these ancient stories inform our current day stories. We deeply seek to live out our best understanding of the heart of these stories week by week in the midst of our common humanity. Several group members rotate the facilitation. \nCome and join us! You may be placed on the group distribution list by contacting Bill Brown at bbrown@wwbrown-inc.com. \nRealm Registration Event. 
URL:https://faithatfirst.org/event/gods-story-our-stories-bible-study-online/2025-10-23/
LOCATION:online
ORGANIZER;CN="Bill Brown":MAILTO:bbbrown@wwbrown-inc.com
END:VEVENT
BEGIN:VEVENT
DTSTART;TZID=America/Chicago:20251026T090000
DTEND;TZID=America/Chicago:20251026T103000
DTSTAMP:20260420T232214
CREATED:20251023T190412Z
LAST-MODIFIED:20251023T190412Z
UID:10011084-1761469200-1761474600@faithatfirst.org
SUMMARY:Update: The Christian Experiment changes from Room 33 to Room31 for one week
DESCRIPTION:The Christian Experiment room change Fromm 33 to 31 for one week
URL:https://faithatfirst.org/event/update-the-christian-experiment-changes-from-room-33-to-room31-for-one-week/
END:VEVENT
BEGIN:VEVENT
DTSTART;TZID=America/Chicago:20251026T114500
DTEND;TZID=America/Chicago:20251026T133000
DTSTAMP:20260420T232214
CREATED:20250923T194602Z
LAST-MODIFIED:20250923T194602Z
UID:10010939-1761479100-1761485400@faithatfirst.org
SUMMARY:Social Justice Intersections Planning Meeting
DESCRIPTION:
URL:https://faithatfirst.org/event/social-justice-intersections-planning-meeting/
LOCATION:Dining Hall
END:VEVENT
BEGIN:VEVENT
DTSTART;TZID=America/Chicago:20251026T114500
DTEND;TZID=America/Chicago:20251026T140000
DTSTAMP:20260420T232214
CREATED:20251023T191142Z
LAST-MODIFIED:20251023T191142Z
UID:10011090-1761479100-1761487200@faithatfirst.org
SUMMARY:Social Justice Intersections Fall 25 Planning Meeting
DESCRIPTION:
URL:https://faithatfirst.org/event/social-justice-intersections-fall-25-planning-meeting/
LOCATION:Dining Hall
END:VEVENT
BEGIN:VEVENT
DTSTART;TZID=America/Chicago:20251026T173000
DTEND;TZID=America/Chicago:20251026T183000
DTSTAMP:20260420T232214
CREATED:20250808T191609Z
LAST-MODIFIED:20250808T191609Z
UID:10009785-1761499800-1761503400@faithatfirst.org
SUMMARY:Interfaith Action Vision Keepers Dinner
DESCRIPTION:Interfaith Action of Evanston cordially invites you to its\nAnnual Fundraising Dinner honoring Vision Keepers from our community.\n\nSunday\, October 26\, 2025\, 5:30 pm\nHilton Orrington Hotel\, Grand Ballroom 1710 Orrington Ave\, Evanston\, IL\n\nFirst Church’s 2025 Vision Keeper is Dave Koester. We will joyfully celebrate the ministry of the weekly Soup Kitchen and Dave’s leadership in its outreach and impact.\n\nProceeds from the Vision Keepers Dinner support Interfaith Action’s programs: winter overnight shelter and warming center\, Hospitality Center for the Homeless\, and local soup kitchens\nRSVP by Wednesday\, October 1\, 2025.\n$90 per person: https://onrealm.org/faithatfirst/PublicRegistrations/Event?linkString=NDQ5YjM5NzAtMTk5Yi00MDQ1LTlkMzEtYjMyZjAxMWZhNWY4\n\nAll reservations must be accompanied by payment. Our preference is that payment is made through Realm\, but if you need an alternative\, please contact britt@faithatfirst.com.
URL:https://faithatfirst.org/event/interfaith-action-vision-keepers-dinner/
LOCATION:Hilton Orrington Hotel\, Grand Ballroom 1710 Orrington Ave\, Evanston\, IL
ORGANIZER;CN="Pastor Britt Cox":MAILTO:britt@faithatfirst.com
END:VEVENT
END:VCALENDAR