BEGIN:VCALENDAR
VERSION:2.0
PRODID:-//First United Methodist Church of Evanston, IL - ECPv6.15.20//NONSGML v1.0//EN
CALSCALE:GREGORIAN
METHOD:PUBLISH
X-ORIGINAL-URL:https://faithatfirst.org
X-WR-CALDESC:Events for First United Methodist Church of Evanston, IL
REFRESH-INTERVAL;VALUE=DURATION:PT1H
X-Robots-Tag:noindex
X-PUBLISHED-TTL:PT1H
BEGIN:VTIMEZONE
TZID:America/Chicago
BEGIN:DAYLIGHT
TZOFFSETFROM:-0600
TZOFFSETTO:-0500
TZNAME:CDT
DTSTART:20240310T080000
END:DAYLIGHT
BEGIN:STANDARD
TZOFFSETFROM:-0500
TZOFFSETTO:-0600
TZNAME:CST
DTSTART:20241103T070000
END:STANDARD
BEGIN:DAYLIGHT
TZOFFSETFROM:-0600
TZOFFSETTO:-0500
TZNAME:CDT
DTSTART:20250309T080000
END:DAYLIGHT
BEGIN:STANDARD
TZOFFSETFROM:-0500
TZOFFSETTO:-0600
TZNAME:CST
DTSTART:20251102T070000
END:STANDARD
BEGIN:DAYLIGHT
TZOFFSETFROM:-0600
TZOFFSETTO:-0500
TZNAME:CDT
DTSTART:20260308T080000
END:DAYLIGHT
BEGIN:STANDARD
TZOFFSETFROM:-0500
TZOFFSETTO:-0600
TZNAME:CST
DTSTART:20261101T070000
END:STANDARD
END:VTIMEZONE
BEGIN:VTIMEZONE
TZID:UTC
BEGIN:STANDARD
TZOFFSETFROM:+0000
TZOFFSETTO:+0000
TZNAME:UTC
DTSTART:20240101T000000
END:STANDARD
END:VTIMEZONE
BEGIN:VEVENT
DTSTART;TZID=America/Chicago:20250115T183000
DTEND;TZID=America/Chicago:20250115T191500
DTSTAMP:20260420T212933
CREATED:20240828T202420Z
LAST-MODIFIED:20250213T170358Z
UID:10006492-1736965800-1736968500@faithatfirst.org
SUMMARY:Handbell Choir Rehearsal
DESCRIPTION:The Handbell Choir plays in worship seasonally. Basic music reading skills required (instrumentalists are especially welcome). Open to adults and youth in grades 6-12. New members are welcome throughout the year – email Dr. Brian Schoettler for more information.
URL:https://faithatfirst.org/event/handbell-choir-rehearsal-32/2025-01-15/
LOCATION:Choir Room
ORGANIZER;CN="Brian Schoettler":MAILTO:brian@faithatfirst.com
END:VEVENT
BEGIN:VEVENT
DTSTART;TZID=America/Chicago:20250115T190000
DTEND;TZID=America/Chicago:20250115T203000
DTSTAMP:20260420T212933
CREATED:20240828T205344Z
LAST-MODIFIED:20240828T205344Z
UID:10006807-1736967600-1736973000@faithatfirst.org
SUMMARY:Finance Committee
DESCRIPTION:
URL:https://faithatfirst.org/event/finance-committee/2025-01-15/
LOCATION:Zoom
END:VEVENT
BEGIN:VEVENT
DTSTART;TZID=America/Chicago:20250115T193000
DTEND;TZID=America/Chicago:20250115T210000
DTSTAMP:20260420T212933
CREATED:20240828T202245Z
LAST-MODIFIED:20240903T164905Z
UID:10006453-1736969400-1736974800@faithatfirst.org
SUMMARY:Chancel Choir Rehearsal
DESCRIPTION:Adults and high school youth rehearse music for worship. No audition is required. Email Dr. Brian Schoettler for more information.
URL:https://faithatfirst.org/event/chancel-choir-rehearsal-139/2025-01-15/
LOCATION:Choir Room
ORGANIZER;CN="Brian Schoettler":MAILTO:brian@faithatfirst.com
END:VEVENT
BEGIN:VEVENT
DTSTART;TZID=UTC:20250116T173000
DTEND;TZID=UTC:20250116T190000
DTSTAMP:20260420T212933
CREATED:20230714T003533Z
LAST-MODIFIED:20230714T003711Z
UID:10004133-1737048600-1737054000@faithatfirst.org
SUMMARY:Soup Kitchen
DESCRIPTION:As part of Interfaith Action of Evanston\, First Church hosts a weekly soup kitchen each Thursday evening.  A host team of First Church volunteers is needed each week\, and 5-6 times a year we also need cooking teams.   Interested in helping?  Please contact Dave Koester (davekoester57@gmail.com) about current scheduling needs.
URL:https://faithatfirst.org/event/soup-kitchen/2025-01-16/
LOCATION:Dining Room
ORGANIZER;CN="Dave Koester":MAILTO:davekoester57@gmail.com
END:VEVENT
BEGIN:VEVENT
DTSTART;TZID=America/Chicago:20250116T190000
DTEND;TZID=America/Chicago:20250116T200000
DTSTAMP:20260420T212933
CREATED:20241212T194141Z
LAST-MODIFIED:20250922T190812Z
UID:10008380-1737054000-1737057600@faithatfirst.org
SUMMARY:Third Thursday Women’s Plus Basketball at First Church
DESCRIPTION:Third Thursday Women’s Plus Basketball at First Church\n\nCalling all women and non-binary folks who want to play ball or just have a ball.\n\nWhat: Basketball for adults. Your children can watch (the way we watch their games). No skills are required. Fierce competition and great gentleness are welcome. The ultimate goals are fun and connection. Your friends who have not yet experienced First Church awesomeness are also welcome.\n\nWhen: Third Thursday of Every Month from 7:00 to 8:00 p.m.\n\nWhere: First Church Gym\nWho to Contact: Kathryn Grant-Bolton at kgrant@depaul.edu or 847-529-6256
URL:https://faithatfirst.org/event/third-thursday-womens-plus-basketball-at-first-church/2025-01-16/
LOCATION:Great Hall
END:VEVENT
BEGIN:VEVENT
DTSTART;TZID=America/Chicago:20250118T100000
DTEND;TZID=America/Chicago:20250118T120000
DTSTAMP:20260420T212933
CREATED:20240917T183404Z
LAST-MODIFIED:20240917T183404Z
UID:10007245-1737194400-1737201600@faithatfirst.org
SUMMARY:Styrofoam Collection
DESCRIPTION:The Earth Care Committee holds its monthly Styrofoam collection time at First UMC Evanston on the third Saturday of the month at the Church Street entrance between 10am and Noon. Material to be collected includes all clean No. 6 plastic foam. Acceptable items include disposable coffee cups; take out containers (such as clamshells); plastic plates\, bowls and cutlery; meat and poultry foam trays and packing foam. When recycled\, these items can be processed into a material used to make park benches\, picture frames\, and other items. Recycling these items helps keep this harmful plastic\, which cannot be processed locally\, out of the waste stream.
URL:https://faithatfirst.org/event/styrofoam-collection/2025-01-18/
END:VEVENT
BEGIN:VEVENT
DTSTART;TZID=America/Chicago:20250119T080000
DTEND;TZID=America/Chicago:20250119T170000
DTSTAMP:20260420T212933
CREATED:20250106T165242Z
LAST-MODIFIED:20250311T143715Z
UID:10008522-1737273600-1737306000@faithatfirst.org
SUMMARY:The Christian Experiment
DESCRIPTION:The Christian Experiment is participating in One Church One Book for the season of Lent. More information below.\nThe Third Day: Living the Resurrection\nMarch 9-Holy Week\nEach spring\, our church chooses a common book which everyone is invited to read. This year\, our book is Tom Berlin’s The Third Day. Dedicated teachers offer classes on various days and times during the week\, both in-person and via Zoom. \nTo guide us on our journey of reflection and preparation\, Tom Berlin’s book puts the devastating experience of Jesus’ followers after the Crucifixion. When it appeared to them that Jesus was dead\, they all faced despair. But when Jesus reappears\, they take new hope and move forward to launch a world-wide movement. In addition to exploring the biblical characters’ feelings\, the author interlaces contemporary stories of people facing hopelessness and despair and finding renewal in Christ. It offers inspiration to us in our own trying times. The book is available at the church office for $10.00 per copy or through Realm. Please email class teachers for Zoom information.
URL:https://faithatfirst.org/event/the-christian-experiment/2025-01-19/
LOCATION:Room 33
END:VEVENT
BEGIN:VEVENT
DTSTART;TZID=America/Chicago:20250119T091500
DTEND;TZID=America/Chicago:20250119T101500
DTSTAMP:20260420T212933
CREATED:20240813T145144Z
LAST-MODIFIED:20240829T163149Z
UID:10006069-1737278100-1737281700@faithatfirst.org
SUMMARY:Sunday School
DESCRIPTION:Sunday School takes place before Worship from 9:15-10:15 a.m. from mid-September through May\, with an emphasis on learning and responding to stories in the Bible through reading\, conversation\, and play. Sunday School is offered for children ages Pre-K-6th grade. Classroom locations are posted throughout the building.
URL:https://faithatfirst.org/event/sunday-school-8/2025-01-19/
END:VEVENT
BEGIN:VEVENT
DTSTART;TZID=America/Chicago:20250119T091500
DTEND;TZID=America/Chicago:20250119T101500
DTSTAMP:20260420T212933
CREATED:20240828T200508Z
LAST-MODIFIED:20241218T190848Z
UID:10006397-1737278100-1737281700@faithatfirst.org
SUMMARY:Confirmation- 7th & 8th Grade
DESCRIPTION:7th and 8th graders— it’s time for Confirmation to begin! We will meet in Room M on Rally Day morning. See y’all soon!
URL:https://faithatfirst.org/event/confirmation-7th-8th-grade/2025-01-19/
LOCATION:Room M
ORGANIZER;CN="Sydney Harkrider":MAILTO:sydney@faithatfirst.com
END:VEVENT
BEGIN:VEVENT
DTSTART;TZID=America/Chicago:20250119T091500
DTEND;TZID=America/Chicago:20250119T101500
DTSTAMP:20260420T212933
CREATED:20250103T185208Z
LAST-MODIFIED:20250106T173910Z
UID:10008518-1737278100-1737281700@faithatfirst.org
SUMMARY:Social Justice Intersections Group: The Wetlands\, Caring for our Neighbor. With guest speaker\, Paul Botts\, President and Executive Director of The Wetlands Initiative
DESCRIPTION:On January 19 during Adult Education time\, First Church will hear from Paul Botts\, executive director of The Wetlands Initiative\, about restoring marshes and other wetlands in our area. \nEven though we live beside the Great Lakes\, the greatest freshwater bodies in the world\, clean water is a precious resource. We all need to reduce our use to save clean water in a warming environment. Here are some tips to reduce your water use at home: \n• First\, take shorter showers and turn off the tap while brushing your teeth. Small changes like these add up! \n• Save and reuse water when running your faucet to get hot water. You can use this for watering plants\, for example. \n• Attach a rain barrel to your downspout and collect rainwater to use for watering outdoor plants. (Be sure the top of the barrel has a tight mesh screen over the opening to prevent mosquitoes from breeding there.) \n• Replace faucets and shower heads with low flow versions. New\, water efficient toilets also use much less water than older ones. \n• Run your washing machine only when you have a full load. \n• Maintain your appliances. Check for and repair any water leaks. \nSmall changes at home can help our region retain precious fresh water. And to learn more about the importance of water\, be sure to attend the Wetlands Initiative presentation on January 19th at 9:15 a.m.!
URL:https://faithatfirst.org/event/social-justice-interacrion-group-the-wetlands-caring-for-our-neighbor-with-guest-speaker-paul-botts-president-and-executive-director-of-the-wetlands-initiative/
LOCATION:Dining Room
END:VEVENT
BEGIN:VEVENT
DTSTART;TZID=America/Chicago:20250119T091500
DTEND;TZID=America/Chicago:20250119T103000
DTSTAMP:20260420T212933
CREATED:20241210T174534Z
LAST-MODIFIED:20241229T162116Z
UID:10008401-1737278100-1737282600@faithatfirst.org
SUMMARY:Adult Education Class- The Christian Experiment
DESCRIPTION:Ever had doubts? If you are like most\, you have. Ever had doubts about Christian faith? Many of us have. In a recent study at a leading United Methodist Church\, 95 percent of believers stated they struggle with doubt occasionally and 24 percent stated they struggle with doubt regularly. This same study also found that 44 percent believed their doubts helped them find or strengthen their faith. \nBeginning on January 5\, The Christian Experiment will discuss doubts. These doubts could be yours or someone you know. We will use some of Adam Hamilton’s work on doubt to help our discussions. You can find information about Adam Hamilton’s book Wrestling with Doubt here: https://www.youtube.com/watch?v=FsZPC_bsFcg \nWeekly Meeting Schedule\nJanuary 5 – Is There a God?\nJanuary 12 – The Good Book? Wrestling with the Bible\nJanuary 19 – Are All Non-Christians Going to Hell?\nJanuary 26 – Is Heaven Real?\nFebruary 2 – When Prayers Go Unanswered\nFebruary 9 – Why Do the Innocent Suffer? \nThe Christian Experiment meets every Sunday morning at 9:15 am in Glenna Hall. There is no required reading\, homework\, or other expectations. Feel free to come to one meeting or all over the next six weeks. We are an open and welcoming group seeking to engage one another in Christian fellowship!
URL:https://faithatfirst.org/event/adult-education-class-2/2025-01-19/
LOCATION:Room M
END:VEVENT
BEGIN:VEVENT
DTSTART;TZID=America/Chicago:20250119T091500
DTEND;TZID=America/Chicago:20250119T103000
DTSTAMP:20260420T212933
CREATED:20250101T183351Z
LAST-MODIFIED:20250501T184335Z
UID:10008993-1737278100-1737282600@faithatfirst.org
SUMMARY:Social Justice Intersections
DESCRIPTION:SOCIAL JUSTICE INTERSECTIONS GROUP MEETS SUNDAYS\, 9:15AM\, DINING ROOM\nHi First Church sisters and brothers –\nMany focus on a daily practice\, especially during Lent. This Sunday\, continues our Lenten study\,  “Anti-Racism as Daily Practice.” Our leader will be Joyce Hodel. We are using a book by the same name which adds a sub-title\, “Refuse Shame\, Change White Communities and Help Create a Just World.”  We look forward to to seeing you Sunday. \nLisa Jacob\nJoe Agne \nHere are our addition dates and leaders:\n– March 30\, Pastor Britt Cox\n– April 13\, Chris Nieuwsma\n– April 27\, Dr. Jennifer Harvey\, the book’s author and Academic Dean of Garrett-Evangelical Theological Seminary.\nWe take a break from our study on April 6 for Earth Care Sunday\, and on April 20\, Easter Sunday\, when will sing the social justice verses of our favorite Easter hymns.
URL:https://faithatfirst.org/event/social-justice-intersections-2/2025-01-19/
END:VEVENT
BEGIN:VEVENT
DTSTART;TZID=America/Chicago:20250119T093000
DTEND;TZID=America/Chicago:20250119T101500
DTSTAMP:20260420T212933
CREATED:20240828T202603Z
LAST-MODIFIED:20250213T165312Z
UID:10006527-1737279000-1737281700@faithatfirst.org
SUMMARY:Chancel Choir Rehearsal
DESCRIPTION:Adults and high school youth rehearse music for worship in the Chancel at the front of the Sanctuary. No audition required. Email Dr. Brian Schoettler for more information.
URL:https://faithatfirst.org/event/chancel-choir-rehearsal-140/2025-01-19/
LOCATION:Sanctuary
ORGANIZER;CN="Brian Schoettler":MAILTO:brian@faithatfirst.com
END:VEVENT
BEGIN:VEVENT
DTSTART;TZID=America/Chicago:20250119T103000
DTEND;TZID=America/Chicago:20250119T120000
DTSTAMP:20260420T212933
CREATED:20240828T192519Z
LAST-MODIFIED:20250213T171151Z
UID:10006152-1737282600-1737288000@faithatfirst.org
SUMMARY:Worship in the Sanctuary
DESCRIPTION:Please find up to date information about this Sunday here.
URL:https://faithatfirst.org/event/worship-in-the-sanctuary/2025-01-19/
LOCATION:Sanctuary
ATTACH;FMTTYPE=image/jpeg:https://faithatfirst.org/wp-content/uploads/2023/04/224592613_4154736301268883_1457195983166946834_n-1.jpg
END:VEVENT
BEGIN:VEVENT
DTSTART;TZID=America/Chicago:20250119T104500
DTEND;TZID=America/Chicago:20250119T113000
DTSTAMP:20260420T212933
CREATED:20240829T163541Z
LAST-MODIFIED:20240829T163541Z
UID:10006906-1737283500-1737286200@faithatfirst.org
SUMMARY:Connect456
DESCRIPTION:Connect456 is designed to help children in grades 4-6 connect to the church community as older elementary and middle school students preparing to make their own way at First Church. Each week features a unique means of connecting\, including serving in leadership with younger children\, learning about our church history and United Methodist identity\, observing worship and more!
URL:https://faithatfirst.org/event/connect456-10/2025-01-19/
END:VEVENT
BEGIN:VEVENT
DTSTART;TZID=America/Chicago:20250119T104500
DTEND;TZID=America/Chicago:20250119T113000
DTSTAMP:20260420T212933
CREATED:20240829T163813Z
LAST-MODIFIED:20250130T181827Z
UID:10006933-1737283500-1737286200@faithatfirst.org
SUMMARY:Children's Chapel
DESCRIPTION:Children’s Chapel seeks to excite and build confidence in children’s experience of worship and sense of belonging at First Church. Children ages three through 3rd grade are invited to experience the wonder of worship and joy of service in a lively\, child-friendly setting. Throughout the program year\, children take part in the seasons of the Christian year\, exploring rituals\, sacraments\, and songs of our worship tradition as well as hands-on aspects of our church mission that children might shape and help share the story of our faith.
URL:https://faithatfirst.org/event/childrens-chapel-38/2025-01-19/
END:VEVENT
BEGIN:VEVENT
DTSTART;TZID=UTC:20250119T113000
DTEND;TZID=UTC:20250119T120000
DTSTAMP:20260420T212933
CREATED:20240409T173024Z
LAST-MODIFIED:20241001T181329Z
UID:10007339-1737286200-1737288000@faithatfirst.org
SUMMARY:Earth Care Lending Library
DESCRIPTION:Looking for a place to continue growing in your understanding of environmental justice and how to care for God’s creation? \nVisit the Earth Care Lending Library\, which is open every 2nd Sunday after worship in Great Hall. A small lending library with books for readers of all ages\, the titles were curated by the Earth Care Committee and include Newbery Award-winning children’s  books\, as well as titles by leading voices from the spiritual and scientific communities.
URL:https://faithatfirst.org/event/earth-care-lending-library-2/2025-01-19/
LOCATION:Great Hall
END:VEVENT
BEGIN:VEVENT
DTSTART;TZID=America/Chicago:20250119T113000
DTEND;TZID=America/Chicago:20250119T120000
DTSTAMP:20260420T212933
CREATED:20240828T194036Z
LAST-MODIFIED:20240828T194036Z
UID:10006281-1737286200-1737288000@faithatfirst.org
SUMMARY:Eucharist Service
DESCRIPTION:
URL:https://faithatfirst.org/event/eucharist-service/2025-01-19/
LOCATION:Tittle Chapel
END:VEVENT
BEGIN:VEVENT
DTSTART;TZID=America/Chicago:20250119T113000
DTEND;TZID=America/Chicago:20250119T123000
DTSTAMP:20260420T212934
CREATED:20241209T180901Z
LAST-MODIFIED:20241209T180901Z
UID:10008122-1737286200-1737289800@faithatfirst.org
SUMMARY:Church Offering Counting
DESCRIPTION:
URL:https://faithatfirst.org/event/church-offering-counting/2025-01-19/
LOCATION:Conference Room
END:VEVENT
BEGIN:VEVENT
DTSTART;TZID=America/Chicago:20250119T113000
DTEND;TZID=America/Chicago:20250119T133000
DTSTAMP:20260420T212934
CREATED:20240813T143025Z
LAST-MODIFIED:20240912T154143Z
UID:10006043-1737286200-1737293400@faithatfirst.org
SUMMARY:Methodist Youth Fellowship
DESCRIPTION:Methodist Youth Fellowship (aka MYF) is open to all youth (7th-12th Grade). We’ll gather twice each month on Sundays 11:30-1:30pm. This is a time to have lunch and engage in music\, games\, an activity\, service project\, lesson or anything in between. This is our time to hang out as a youth group and build connections. Hope you’ll join us! \nQuestions?  Contact Sydney Harkrider at sydney@faithatfirst.com.
URL:https://faithatfirst.org/event/methodist-youth-fellowship-4/2025-01-19/
ORGANIZER;CN="Sydney Harkrider":MAILTO:sydney@faithatfirst.com
END:VEVENT
BEGIN:VEVENT
DTSTART;TZID=America/Chicago:20250119T113500
DTEND;TZID=America/Chicago:20250119T121500
DTSTAMP:20260420T212934
CREATED:20250109T164440Z
LAST-MODIFIED:20250109T164440Z
UID:10008530-1737286500-1737288900@faithatfirst.org
SUMMARY:Drop-In Q&A about Inquirers Class
DESCRIPTION:A casual drop-in time for persons who are considering the Inquirers Class to ask questions and learn more about the experience. The next Inquirers Class begins January 26 and meets weekly on Sundays 9:15-19:15am through March 2. Contact person: Mary Taylor-Johnson\, 847-864-6182
URL:https://faithatfirst.org/event/drop-in-qa-about-inquirers-class-2/
LOCATION:Glenna Hall
END:VEVENT
BEGIN:VEVENT
DTSTART;TZID=America/Chicago:20250119T130000
DTEND;TZID=America/Chicago:20250119T140000
DTSTAMP:20260420T212934
CREATED:20250108T185134Z
LAST-MODIFIED:20250108T185134Z
UID:10008527-1737291600-1737295200@faithatfirst.org
SUMMARY:Music Ministry
DESCRIPTION:
URL:https://faithatfirst.org/event/music-ministry-27/
LOCATION:Sanctuary
END:VEVENT
BEGIN:VEVENT
DTSTART;TZID=America/Chicago:20250119T173000
DTEND;TZID=America/Chicago:20250119T210000
DTSTAMP:20260420T212934
CREATED:20240828T195516Z
LAST-MODIFIED:20241105T161149Z
UID:10006314-1737307800-1737320400@faithatfirst.org
SUMMARY:Young Adult Potluck
DESCRIPTION:All young adults are invited to our potluck! Whether you are new around here\, or looking for other adults to befriend— you are welcome here! We gather at the Bailey’s home\, and all bring dishes to share. Contact Sydney for the address\, and hope to see you there!
URL:https://faithatfirst.org/event/young-adult-potluck-5/2025-01-19/
ORGANIZER;CN="Sydney Harkrider":MAILTO:sydney@faithatfirst.com
END:VEVENT
BEGIN:VEVENT
DTSTART;TZID=America/Chicago:20250120T090000
DTEND;TZID=America/Chicago:20250120T130000
DTSTAMP:20260420T212934
CREATED:20241104T191111Z
LAST-MODIFIED:20250114T235759Z
UID:10007609-1737363600-1737378000@faithatfirst.org
SUMMARY:Walk for Warmth
DESCRIPTION:Walk for Warmth is an Interfaith Action\, community-wide event that raises funds for the overnight shelters and celebrates the legacy of Martin Luther King. Funds will be used to support staff\, laundry\, and supplies for the shelters at the nine faith communities throughout the winter months. Set-up will begin at 9am\, with doors opening at 10:30am. \nCheck out the Interfaith Action website for details on the walk\, registration (free and required)\, and the option to make a financial donation for the overnight shelters.
URL:https://faithatfirst.org/event/walk-for-warmth-4/
LOCATION:Sanctuary
END:VEVENT
BEGIN:VEVENT
DTSTART;TZID=America/Chicago:20250120T190000
DTEND;TZID=America/Chicago:20250120T200000
DTSTAMP:20260420T212934
CREATED:20240828T205905Z
LAST-MODIFIED:20240828T205905Z
UID:10006820-1737399600-1737403200@faithatfirst.org
SUMMARY:Adult Education Council Meeting
DESCRIPTION:Monthly Adult Education Council Meeting\nThird Monday of each month from 7:00-8:00pm\nJan Womack\, Vice Chair Womack.jan@gmail.com
URL:https://faithatfirst.org/event/adult-education-council-meeting/2025-01-20/
LOCATION:Glenna Hall
END:VEVENT
BEGIN:VEVENT
DTSTART;TZID=America/Chicago:20250121T190000
DTEND;TZID=America/Chicago:20250121T200000
DTSTAMP:20260420T212934
CREATED:20240828T203437Z
LAST-MODIFIED:20240828T203437Z
UID:10006590-1737486000-1737489600@faithatfirst.org
SUMMARY:Faith Formation Council Monthly Meeting
DESCRIPTION:The Faith Formation Council will meet monthly by ZOOM. Attendees will receive the ZOOM link in advance. Any questions contact Tom Scott or Lee Rader.
URL:https://faithatfirst.org/event/faith-formation-council-monthly-meeting/2025-01-21/
LOCATION:Zoom
END:VEVENT
BEGIN:VEVENT
DTSTART;TZID=UTC:20250122T100000
DTEND;TZID=UTC:20250122T110000
DTSTAMP:20260420T212934
CREATED:20230608T002343Z
LAST-MODIFIED:20250922T182943Z
UID:10003831-1737540000-1737543600@faithatfirst.org
SUMMARY:Coffee\, Conversation\, and Friends
DESCRIPTION:This group of women “of a certain age” meet on the second and fourth Wednesday of the month from 10:00 to 11:00 am. We meet at Le Peep in Evanston for informal conversations on a wide variety of topics: books\, the news\, restaurants\, grandchildren\, and places to visit. No matter what’s on the table\, we are all ears. Come join the conversation and make some new friends.
URL:https://faithatfirst.org/event/coffee-conversation-and-friends-7/2025-01-22/
END:VEVENT
BEGIN:VEVENT
DTSTART;TZID=America/Chicago:20250122T183000
DTEND;TZID=America/Chicago:20250122T203000
DTSTAMP:20260420T212934
CREATED:20250105T150904Z
LAST-MODIFIED:20250105T150904Z
UID:10008520-1737570600-1737577800@faithatfirst.org
SUMMARY:Mom's Night Out
DESCRIPTION:Mom’s Night Out- Wed Jan 22nd – A New Year! \nWEDNESDAY JANUARY 22\, 2025! 6:30-8:30 pm \nCaroline Wagner’s Upstairs Kitchen (with Meg Hagenah and Liz Blackwell as Cohosts) \nPlease RSVP to carolinehwagner@gmail.com Or Caroline’s phone 646-271-0727 \nYou can bring something to share but no pressure!
URL:https://faithatfirst.org/event/moms-night-out-19/
END:VEVENT
BEGIN:VEVENT
DTSTART;TZID=America/Chicago:20250126T091500
DTEND;TZID=America/Chicago:20250126T101500
DTSTAMP:20260420T212934
CREATED:20241023T180132Z
LAST-MODIFIED:20241212T173641Z
UID:10007528-1737882900-1737886500@faithatfirst.org
SUMMARY:Winter 2025 Inquirers Class
DESCRIPTION:The Inquirers Class is an intentional exploration of the people and ministries of First Church\, the United Methodist Church (theology\, structure\, current issues)\, and an opportunity to reflect on our individual and collective faith journeys. The class\, which is primarily led by Pastor Grace Imathiu and Mary Taylor-Johnson\, is interactive in nature\, as we believe building community among those present is as important as the “content.” \nIn 2025\, the Inquirers Class will be offered twice:\nWinter Class\nJanuary 26-March 2\, 9:15-10:15am \nSpring Class\nApril 27-June 1\, 11:45am-1:30pm\nLunch provided. No class Memorial Day weekend. \nFeel free to contact Mary Taylor-Johnson at mary@faithatfirst.com with any questions.
URL:https://faithatfirst.org/event/winter-2025-inquirers-class/2025-01-26/
LOCATION:Glenna Hall
END:VEVENT
BEGIN:VEVENT
DTSTART;TZID=America/Chicago:20250126T113000
DTEND;TZID=America/Chicago:20250126T123000
DTSTAMP:20260420T212934
CREATED:20241209T181024Z
LAST-MODIFIED:20241209T181024Z
UID:10008378-1737891000-1737894600@faithatfirst.org
SUMMARY:Chili Cook Off
DESCRIPTION:Our annual Chili Cook Off is Sunday\, January 26th following worship. This is an event you cannot miss! Please come for tasting or register and enter your chili for the contest. Multiple categories fo choose from: vegetarian\, white chili\, kids\, etc. First five registrants recieve a Penzeys Spices gift card! Questions? Please contact the Fellowship Committee Chair\, Cherie Asante at cherie.asante@gmail.com
URL:https://faithatfirst.org/event/chili-cook-off-2/
LOCATION:Great Hall
END:VEVENT
END:VCALENDAR