BEGIN:VCALENDAR
VERSION:2.0
PRODID:-//First United Methodist Church of Evanston, IL - ECPv6.15.20//NONSGML v1.0//EN
CALSCALE:GREGORIAN
METHOD:PUBLISH
X-ORIGINAL-URL:https://faithatfirst.org
X-WR-CALDESC:Events for First United Methodist Church of Evanston, IL
REFRESH-INTERVAL;VALUE=DURATION:PT1H
X-Robots-Tag:noindex
X-PUBLISHED-TTL:PT1H
BEGIN:VTIMEZONE
TZID:UTC
BEGIN:STANDARD
TZOFFSETFROM:+0000
TZOFFSETTO:+0000
TZNAME:UTC
DTSTART:20220101T000000
END:STANDARD
END:VTIMEZONE
BEGIN:VEVENT
DTSTART;TZID=UTC:20231019T130000
DTEND;TZID=UTC:20231019T140000
DTSTAMP:20260425T212651
CREATED:20231011T225347Z
LAST-MODIFIED:20231011T225349Z
UID:10005378-1697720400-1697724000@faithatfirst.org
SUMMARY:Progressive Christianity Reading Group
DESCRIPTION:On Thursdays October 5th\, 12th\, 18th\, and 25th\, the Progressive Christians Reading Group will delve into “The Elephant is Running: Process and Open and Relational Theologies and Religious Pluralism” by Bruce Epperly. Epperly believes that God invites us to affirm religious pluralism while remaining faithful to the way of Jesus and the prophetic spirit of Christianity. “The Elephant is Running” integrates theological reflection\, encounters with the wisdom world’s spiritual traditions\, the author’s personal experience as a spiritual adventurer\, and inspirational and innovative spiritual practices. The author will join us on October 5th! \nThis group meets on Zoom every Thursday at 1pm. \nInterested?  Contact Blaine Rader at raderbb@aol.com or Bonnie Beckonchrist at bbeckonchrist@gmail.com.
URL:https://faithatfirst.org/event/progressive-christianity-reading-group-44-2/2023-10-19/
LOCATION:Zoom
ORGANIZER;CN="Bonnie Beckonchrist":MAILTO:bbeckonchrist@gmail.com
END:VEVENT
BEGIN:VEVENT
DTSTART;TZID=UTC:20231019T173000
DTEND;TZID=UTC:20231019T190000
DTSTAMP:20260425T212652
CREATED:20230714T003533Z
LAST-MODIFIED:20230714T003711Z
UID:10004068-1697736600-1697742000@faithatfirst.org
SUMMARY:Soup Kitchen
DESCRIPTION:As part of Interfaith Action of Evanston\, First Church hosts a weekly soup kitchen each Thursday evening.  A host team of First Church volunteers is needed each week\, and 5-6 times a year we also need cooking teams.   Interested in helping?  Please contact Dave Koester (davekoester57@gmail.com) about current scheduling needs.
URL:https://faithatfirst.org/event/soup-kitchen/2023-10-19/
LOCATION:Dining Room
ORGANIZER;CN="Dave Koester":MAILTO:davekoester57@gmail.com
END:VEVENT
BEGIN:VEVENT
DTSTART;TZID=UTC:20231019T190000
DTEND;TZID=UTC:20231019T203000
DTSTAMP:20260425T212652
CREATED:20230929T050554Z
LAST-MODIFIED:20231130T023256Z
UID:10005054-1697742000-1697747400@faithatfirst.org
SUMMARY:God's Story\, Our Stories (Bible Study Group)
DESCRIPTION:God’s Story\, Our Stories – Lectionary Bible Study Group\nYOU Are Invited! \nThe Lectionary Bible Study Group meets via zoom every Thursday night mid-September through mid-June from 7 – 8:30 p.m. We are a band of curious explorers\, reflecting upon the lectionary passages for the coming Sunday. We ask many questions. We have “ah ha” moments in our discussions. We attempt to unearth how these ancient stories inform our current day stories. We deeply seek to live out our best understanding of the heart of these stories week by week in the midst of our common humanity. Several group members rotate the facilitation. \nCome and join us! You may be placed on the group distribution list by contacting Bill Brown at bbrown@wwbrown-inc.com .
URL:https://faithatfirst.org/event/gods-story-our-story-bible-study-group-2-2/2023-10-19/
ORGANIZER;CN="Bill Brown":MAILTO:bbbrown@wwbrown-inc.com
END:VEVENT
BEGIN:VEVENT
DTSTART;TZID=UTC:20231020T193000
DTEND;TZID=UTC:20231020T203000
DTSTAMP:20260425T212652
CREATED:20230616T001019Z
LAST-MODIFIED:20231017T051935Z
UID:10003877-1697830200-1697833800@faithatfirst.org
SUMMARY:Brass & Organ Concert
DESCRIPTION:First Church’s Music Ministry presents a concert of music for brass and organ featuring the Gaudete Brass Quintet and Minister of Music & Organist Dr. Brian Schoettler. The program includes classics by J. S. Bach and Marcel Dupré alongside works by living composers including works by local composers Ephraim Champion and Brian Schoettler. Founded in 2004\, the Gaudete Brass has recorded four albums and presents concerts and educational programs throughout the United States. \nThe 7:30pm concert is free and open to the public.
URL:https://faithatfirst.org/event/brass-organ-concert/
LOCATION:Sanctuary
ORGANIZER;CN="Brian Schoettler":MAILTO:brian@faithatfirst.com
END:VEVENT
BEGIN:VEVENT
DTSTART;TZID=UTC:20231021T100000
DTEND;TZID=UTC:20231021T120000
DTSTAMP:20260425T212652
CREATED:20231017T234252Z
LAST-MODIFIED:20240403T224949Z
UID:10005469-1697882400-1697889600@faithatfirst.org
SUMMARY:Monthly Styrofoam Collection
DESCRIPTION:The Earth Care Committee holds its monthly Styrofoam collection time at First UMC Evanston on the third Saturday of the month at the Church Street entrance between 10am and Noon. Material to be collected includes all clean No. 6 plastic foam. Acceptable items include disposable coffee cups; take out containers (such as clamshells); plastic plates\, bowls and cutlery; meat and poultry foam trays and packing foam. Note: Items must be foam and marked with the No.6 symbol. \nWhen recycled\, these items can be processed into a material used to make park benches\, picture frames\, and other items. Recycling these items helps keep this harmful plastic\, which cannot be processed locally\, out of the waste stream.
URL:https://faithatfirst.org/event/monthly-styrofoam-collection/2023-10-21/
ORGANIZER;CN="Paula Scholl":MAILTO:scholl.paula2@gmail.com
END:VEVENT
BEGIN:VEVENT
DTSTART;TZID=UTC:20231021T170000
DTEND;TZID=UTC:20231021T190000
DTSTAMP:20260425T212652
CREATED:20231017T233820Z
LAST-MODIFIED:20231019T001148Z
UID:10005467-1697907600-1697914800@faithatfirst.org
SUMMARY:Memorial Service for Adolphine Kikonde Lukube\, Pauline Omboko Shongo's Mother
DESCRIPTION:
URL:https://faithatfirst.org/event/memorial-service-for-pauline-omboko-shongos-mother/
LOCATION:Tittle Chapel
END:VEVENT
BEGIN:VEVENT
DTSTART;TZID=UTC:20231021T180000
DTEND;TZID=UTC:20231021T190000
DTSTAMP:20260425T212652
CREATED:20231017T233914Z
LAST-MODIFIED:20231019T001220Z
UID:10005468-1697911200-1697914800@faithatfirst.org
SUMMARY:Adolphine Kikonde Lukube's Memorial Service Reception
DESCRIPTION:
URL:https://faithatfirst.org/event/pauline-omboko-shongo-mothers-memorial-service-reception/
LOCATION:Dining Room
END:VEVENT
BEGIN:VEVENT
DTSTART;TZID=UTC:20231022T091500
DTEND;TZID=UTC:20231022T101500
DTSTAMP:20260425T212652
CREATED:20230907T000848Z
LAST-MODIFIED:20231122T001742Z
UID:10005679-1697966100-1697969700@faithatfirst.org
SUMMARY:Abide
DESCRIPTION:Abide provides ongoing space for spiritual connection to God\, mutual support in community\, and faith formation in the ways that lead to life. This gathering is open to all who seek to abide with Jesus through the Spirit in the company of friends. Abide meets Sunday mornings in person and via Zoom. To learn more about the class\, you can email Mari Leonard at mari.leonard@comcast.net.
URL:https://faithatfirst.org/event/abide-2/2023-10-22/
LOCATION:Room J
END:VEVENT
BEGIN:VEVENT
DTSTART;TZID=UTC:20231022T091500
DTEND;TZID=UTC:20231022T101500
DTSTAMP:20260425T212652
CREATED:20230907T001552Z
LAST-MODIFIED:20230928T232523Z
UID:10005045-1697966100-1697969700@faithatfirst.org
SUMMARY:Homelessness in Evanston
DESCRIPTION:Homelessness in Evanston – Oct. 1\, 8\, 15 & 22 at 9:15am\nFirst United Methodist Church is a community of faith seeking the transformation of the world through Jesus’ courageous love.  — First Church Vision Statement\nJoin us as we challenge ourselves to put our faith into action through this series of interactive discussions of homelessness in Evanston.  Come learn more about housing and food insecurity\, services currently offered\, and our individual and collective response as a faith community. \n\nHow do people find themselves without housing?\nHow should you respond to panhandlers?\nWho is doing what in Evanston for people who are homeless or hungry?\nHow did we/the nation get into this situation of masses of people experiencing homelessness?\nHow can we put our faith into action around this pressing issue?\n\nOct 1st:  Homelessness in Evanston: An overview of the causes of homelessness\, who is impacted\, and the available services and volunteer opportunities in our community. \nOct. 8th:  Interfaith Action’s Response to Homelessness:  Executive Director Sue Murphy will join us to share about current services offered by the interfaith community. \nOct. 15th:  Connections for the Homeless’s Response to Homelessness: Manager of Advocacy for Affordable Housing Sue Loellbach will join us to share the status of affordable housing. \nOct. 22nd: FUMC’s Faith in Action: How can we respond to the Homelessness crisis in Evanston individually and as a faith community? \nDiscussion LeadersAnn Weatherhead\, FMC Interfaith Action Delegate\, Affordable Housing AdvocateMelissa Appelt\, Interfaith Action Board Chair \n\nRegistration is helpful and drop-ins are always welcome.  https://onrealm.org/faithatfirst/PublicRegistrations/Event?linkString=Yzc1NTczODYtODg1OS00YjYwLWI2NmItYjA3NDAxMjMyN2Yw
URL:https://faithatfirst.org/event/homelessness-in-evanston/2023-10-22/
LOCATION:Room 33
ORGANIZER;CN="Allison Greer":MAILTO:allison_greer@sbcglobal.net
END:VEVENT
BEGIN:VEVENT
DTSTART;TZID=UTC:20231022T091500
DTEND;TZID=UTC:20231022T101500
DTSTAMP:20260425T212652
CREATED:20230907T003158Z
LAST-MODIFIED:20231222T024345Z
UID:10005305-1697966100-1697969700@faithatfirst.org
SUMMARY:Faith & Parenting
DESCRIPTION:Faith & Parenting offers a weekly space for parents of children at all stages to share and reflect on how their personal and familial faith journeys are nurtured and challenged through the vocation of parenting. Brief guided reflections based on scriptures shared in Children’s Sunday school will accompany each session.
URL:https://faithatfirst.org/event/faith-parenting/2023-10-22/
LOCATION:Room 24
END:VEVENT
BEGIN:VEVENT
DTSTART;TZID=UTC:20231022T091500
DTEND;TZID=UTC:20231022T101500
DTSTAMP:20260425T212652
CREATED:20230908T220529Z
LAST-MODIFIED:20230908T220529Z
UID:10005127-1697966100-1697969700@faithatfirst.org
SUMMARY:Sunday School
DESCRIPTION:Sunday School takes place weekly before worship from 9:15-10:15 a.m. with an emphasis on sharing and responding to stories in the Bible through multisensory activities\, spiritual practices\, guided reflection\, and play. Sunday School is offered for children ages Pre-K-6th grade with “Messy Church” offered on the first Sunday of every month for the entire family.
URL:https://faithatfirst.org/event/sunday-school-6/2023-10-22/
END:VEVENT
BEGIN:VEVENT
DTSTART;TZID=UTC:20231022T093000
DTEND;TZID=UTC:20231022T101500
DTSTAMP:20260425T212652
CREATED:20230616T001758Z
LAST-MODIFIED:20230616T001758Z
UID:10003923-1697967000-1697969700@faithatfirst.org
SUMMARY:Chancel Choir Rehearsal
DESCRIPTION:Adults and high school youth rehearse music for worship in the Chancel at the front of the Sanctuary. No audition required. Email Dr. Brian Schoettler for more information.
URL:https://faithatfirst.org/event/chancel-choir-rehearsal-103/2023-10-22/
LOCATION:Sanctuary
END:VEVENT
BEGIN:VEVENT
DTSTART;TZID=UTC:20231022T103000
DTEND;TZID=UTC:20231022T113000
DTSTAMP:20260425T212652
CREATED:20230901T005921Z
LAST-MODIFIED:20230901T005921Z
UID:10004420-1697970600-1697974200@faithatfirst.org
SUMMARY:10:30 Worship in the Sanctuary
DESCRIPTION:All are welcome to 10:30 worship in our Sactuary. \nDetails each Sunday can be found at https://faithatfirst.org/gather/worship-services/worship-this-sunday/ 
URL:https://faithatfirst.org/event/1030-worship-in-the-sanctuary/2023-10-22/
LOCATION:Sanctuary
END:VEVENT
BEGIN:VEVENT
DTSTART;TZID=UTC:20231022T104500
DTEND;TZID=UTC:20231022T113000
DTSTAMP:20260425T212652
CREATED:20230908T220915Z
LAST-MODIFIED:20230908T220915Z
UID:10005157-1697971500-1697974200@faithatfirst.org
SUMMARY:Children's Chapel
DESCRIPTION:Children’s Chapel seeks to excite and build confidence in children’s experience of worship and sense of belonging at First Church. Children ages three through 3rd grade are invited to experience the wonder of worship and joy of service in a lively\, child-friendly setting. Throughout the program year\, children take part in the seasons of the Christian year\, exploring rituals\, sacraments\, and songs of our worship tradition as well as hands-on aspects of our church mission that children might shape and help share the story of our faith.
URL:https://faithatfirst.org/event/childrens-chapel-37/2023-10-22/
END:VEVENT
BEGIN:VEVENT
DTSTART;TZID=UTC:20231022T104500
DTEND;TZID=UTC:20231022T113000
DTSTAMP:20260425T212652
CREATED:20230908T221353Z
LAST-MODIFIED:20230908T221353Z
UID:10005185-1697971500-1697974200@faithatfirst.org
SUMMARY:Connect456
DESCRIPTION:Connect456 is designed to help children in grades 4-6 connect to the church community as older elementary and middle school students preparing to make their own way at First Church. Each week features a unique means of connecting\, including serving in leadership with younger children\, learning about our church history and United Methodist identity\, observing worship and more!
URL:https://faithatfirst.org/event/connect456-9/2023-10-22/
END:VEVENT
BEGIN:VEVENT
DTSTART;TZID=UTC:20231022T113000
DTEND;TZID=UTC:20231022T133000
DTSTAMP:20260425T212652
CREATED:20230901T011644Z
LAST-MODIFIED:20230901T011644Z
UID:10004578-1697974200-1697981400@faithatfirst.org
SUMMARY:Methodist Youth Fellowship
DESCRIPTION:It’s time to start up Youth Ministry again! All youth are invited to come at Methodist Youth Fellowship every 1st and 3rd Sunday right after service from 11:30-1:30 pm starting on September 17th. We will have lunch\, play games\, and have time to gather to talk about where we are at in life. This will be our main time to gather as youth to get to know one another. I urge all youth to come hang out and be part of this community! Contact Sydney for more information.
URL:https://faithatfirst.org/event/methodist-youth-fellowship/2023-10-22/
LOCATION:Room M
END:VEVENT
BEGIN:VEVENT
DTSTART;TZID=UTC:20231024T140000
DTEND;TZID=UTC:20231024T153000
DTSTAMP:20260425T212652
CREATED:20230818T201831Z
LAST-MODIFIED:20230818T201831Z
UID:10004364-1698156000-1698161400@faithatfirst.org
SUMMARY:Archives Committee
DESCRIPTION:
URL:https://faithatfirst.org/event/archives-committee/2023-10-24/
END:VEVENT
BEGIN:VEVENT
DTSTART;TZID=UTC:20231025T100000
DTEND;TZID=UTC:20231025T110000
DTSTAMP:20260425T212652
CREATED:20230608T002343Z
LAST-MODIFIED:20250922T182943Z
UID:10003816-1698228000-1698231600@faithatfirst.org
SUMMARY:Coffee\, Conversation\, and Friends
DESCRIPTION:This group of women “of a certain age” meet on the second and fourth Wednesday of the month from 10:00 to 11:00 am. We meet at Le Peep in Evanston for informal conversations on a wide variety of topics: books\, the news\, restaurants\, grandchildren\, and places to visit. No matter what’s on the table\, we are all ears. Come join the conversation and make some new friends.
URL:https://faithatfirst.org/event/coffee-conversation-and-friends-7/2023-10-25/
END:VEVENT
BEGIN:VEVENT
DTSTART;TZID=UTC:20231025T170000
DTEND;TZID=UTC:20231025T190000
DTSTAMP:20260425T212652
CREATED:20231019T001548Z
LAST-MODIFIED:20231019T001548Z
UID:10005484-1698253200-1698260400@faithatfirst.org
SUMMARY:Spooky Story Night and ESCCA Clothing Drive
DESCRIPTION:Spooky Story Night and ESCCA Clothing Drive\, Wednesday\, October 25\, 2023. Come in costume for family-friendly\, faith-affirming spooky stories\, stay for trick or treating! Bring gently used children;s clothes to donate to ESCCA \nPlease register: https://onrealm.org/faithatfirst/PublicRegistrations/Event?linkString=NzE0YjA3NTUtYTQ3OC00NjFmLWE3YjUtYjA5NTAwMGRhNDc5
URL:https://faithatfirst.org/event/spooky-story-night-and-escca-clothing-drive/
END:VEVENT
BEGIN:VEVENT
DTSTART;TZID=UTC:20231026T183000
DTEND;TZID=UTC:20231026T203000
DTSTAMP:20260425T212652
CREATED:20231007T013950Z
LAST-MODIFIED:20231018T235901Z
UID:10005455-1698345000-1698352200@faithatfirst.org
SUMMARY:Mom's Night Out
DESCRIPTION:FUMC Mom’s Night Out – Thurs Oct 26th 6:30 – 8:30 pm\nCOME AS YOU ARE!! – in your sweats\, office clothes\, or yoga pants! \nCherie Asante – Host and Jess Radcliffe Co-Host\nPlease RSVP to cherie.asante@gmail.com \nThis is intended for Every Mom of kids of every age.\nWe snack\, talk and laugh! No agenda! All are welcome!\nBring a snack IF you wish – but no guilt!
URL:https://faithatfirst.org/event/moms-night-out-8/
END:VEVENT
BEGIN:VEVENT
DTSTART;TZID=UTC:20231028T160000
DTEND;TZID=UTC:20231028T230000
DTSTAMP:20260425T212652
CREATED:20231011T013253Z
LAST-MODIFIED:20231011T013253Z
UID:10005456-1698508800-1698534000@faithatfirst.org
SUMMARY:Pumpkin Carving and Bonfire
DESCRIPTION:You are invited to the 4th annual Limitless Pumpkin carving and weenie roast/bonfire Saturday 10/28 starting at 4:00pm at the home of Matt and Stephanie Peters in the backyard. Bring your own pumpkin. \nPumpkin carving supplies\, hotdogs\, buns\, and fixings\, hot cider and water will be provided. Please bring a side to share. RSVP to Stephanie Peters at stephdeloney@gmail.com
URL:https://faithatfirst.org/event/pumpkin-carving-and-bonfire/
END:VEVENT
BEGIN:VEVENT
DTSTART;TZID=UTC:20231028T183000
DTEND;TZID=UTC:20231028T210000
DTSTAMP:20260425T212652
CREATED:20231012T195012Z
LAST-MODIFIED:20231017T060705Z
UID:10005458-1698517800-1698526800@faithatfirst.org
SUMMARY:Couples Salon Fall Gathering
DESCRIPTION:Come join Couples Salon for an evening of food and fellowship on Saturday\, October 28th\, beginning at 6:30 pm at the Evanston home of Steve and Susan Prout.  New participants are welcome!   Please RSVP to Susan at swprout@comcast.net to let her know you are coming\, and whether you are bringing an appetizer\, side dish or dessert to share.
URL:https://faithatfirst.org/event/couples-salon-fall-gathering/
END:VEVENT
BEGIN:VEVENT
DTSTART;TZID=UTC:20231029T091500
DTEND;TZID=UTC:20231029T101500
DTSTAMP:20260425T212652
CREATED:20230907T001956Z
LAST-MODIFIED:20230908T234242Z
UID:10005046-1698570900-1698574500@faithatfirst.org
SUMMARY:Theology\, Identity\, and Me: An Affirming Study of Gender\, Sex\, and Human Sexuality
DESCRIPTION:As First Church embarks on its 10th year as a Reconciling Congregation\, we invite the congregation into a deep exploration of Christian thought\, natural sciences\, and Church history in relation to gender\, sex\, and human sexuality. Using a three-part video course and discussion questions from the Reconciling Ministries Network\, we will seek to understand gender expression and sexual identity in connection to our faith as well as seek ways to practice radical hospitality and grow as a welcoming and affirming community of faith. \n“When we seek to understand each person’s sacred worth\, we can better honor the beauty of God’s creation and our kin.” – Reconciling Ministries Network \nVideo presenters: Liam M. Hooper\, M.Div.\, (He/Him)\, Rev. Quest Hunter (They/Them)\, Rev. H.N. Gibson (They/Them/Theirs)\, Ophelia Hu Kinney (She/Her)\, and Rev. Anjie Peek Woodworth (She/Her) \nFirst Church Facilitator: B.J. Birkhahn-Rommelfanger \nPlease register here: https://onrealm.org/faithatfirst/PublicRegistrations/Event?linkString=OWM5ZWI0ZTUtNGYyNS00YTJlLWE4MjYtYjA3NDAxMjUzZjVi
URL:https://faithatfirst.org/event/theology-identity-and-me-an-affirming-study-of-gender-sex-and-human-sexuality/2023-10-29/
LOCATION:Room 33
END:VEVENT
BEGIN:VEVENT
DTSTART;TZID=UTC:20231029T114500
DTEND;TZID=UTC:20231029T130000
DTSTAMP:20260425T212652
CREATED:20231026T004721Z
LAST-MODIFIED:20231026T004721Z
UID:10005543-1698579900-1698584400@faithatfirst.org
SUMMARY:Nominations & Leadership Dev. Committee Meeting
DESCRIPTION:The Nominations & Leadership Development Committee is led by Pastor Grace Imathiu (chair) and Mike Bergmann (vice chair).
URL:https://faithatfirst.org/event/nominations-leadership-dev-committee-meeting/
LOCATION:Conference Room
END:VEVENT
BEGIN:VEVENT
DTSTART;TZID=UTC:20231101T180000
DTEND;TZID=UTC:20231101T190000
DTSTAMP:20260425T212652
CREATED:20231019T002015Z
LAST-MODIFIED:20231031T035620Z
UID:10005485-1698861600-1698865200@faithatfirst.org
SUMMARY:First Wednesday Potluck
DESCRIPTION:Wednesday\, November 1\, 2023\, 6:00- p.m. – 7:00 p.m. \nBring a side or dessert to share and join your church family for good food and fellowship this fall on the first Wednesday of every month! On the menu this month\, a First UMC Soup Kitchen favorite\, Cheesy Meatball Bake. \nPlease register to aid in preparations\, noting any dietary restrictions or food allergies in the memo field.
URL:https://faithatfirst.org/event/first-wednesday-potluck/
LOCATION:Dining Room
ORGANIZER;CN="Colin McDonald":MAILTO:colin@faithatfirst.com
END:VEVENT
BEGIN:VEVENT
DTSTART;TZID=UTC:20231102T130000
DTEND;TZID=UTC:20231102T140000
DTSTAMP:20260425T212652
CREATED:20231019T003728Z
LAST-MODIFIED:20231019T003809Z
UID:10005486-1698930000-1698933600@faithatfirst.org
SUMMARY:Progressive Christianity Reading Group
DESCRIPTION:Join Progressive Christian Reading Group as they explore Karen Armstrong’s “Twelve Steps to a Compassionate Life” on Thursdays during November via ZOOM from 1pm to 2pm. One of the most original thinkers on the role of religion in the modern world\, Armstrong believes that while compassion is intrinsic in all human beings\, each of us needs to work diligently to cultivate and expand our capacity for compassion. Christie Cooke\, PhD will facilitate our discussions. Contact Bonnie Beckonchrist at Bbeckonchrist@gmail.com for ZOOM info. ALL are welcome.
URL:https://faithatfirst.org/event/progressive-christianity-reading-group-45/2023-11-02/
END:VEVENT
BEGIN:VEVENT
DTSTART;TZID=UTC:20231105T090000
DTEND;TZID=UTC:20231105T101500
DTSTAMP:20260425T212652
CREATED:20231026T224922Z
LAST-MODIFIED:20231026T224924Z
UID:10005096-1699174800-1699179300@faithatfirst.org
SUMMARY:Messy Church!
DESCRIPTION:Messy Church is Christ-centered. Messy Church is creative. Messy Church is for all ages. Messy Church is where YOU belong! \nLife is rarely neat and tidy. But God isn’t afraid to enter the mess. \nMessy Church is an opportunity for children\, families\, and adults to engage in hands-on creative activities\, celebratory worship\, and time together in community. Join us for a different kind of Sunday School for children and adults on the first Sunday of each month from 9:00-10:15 a.m. in Great Hall\, through May. \nPlease register for any sessions you plan to attend to aid in estimating food and materials.
URL:https://faithatfirst.org/event/messy-church-3-2/2023-11-05/
LOCATION:Great Hall
END:VEVENT
BEGIN:VEVENT
DTSTART;TZID=UTC:20231105T113000
DTEND;TZID=UTC:20231105T133000
DTSTAMP:20260425T212652
CREATED:20230901T011742Z
LAST-MODIFIED:20230901T011742Z
UID:10004833-1699183800-1699191000@faithatfirst.org
SUMMARY:Methodist Youth Fellowship
DESCRIPTION:It’s time to start up Youth Ministry again! All youth are invited to come at Methodist Youth Fellowship every 1st and 3rd Sunday right after service from 11:30-1:30pm starting on September 17th. We will have lunch\, play games\, and have time to gather to talk about where we are at in life. This will be our main time to gather as youth to get to know one another. I urge all youth to come hang out and be part of this community! Contact Sydney for more information.
URL:https://faithatfirst.org/event/methodist-youth-fellowship-2/2023-11-05/
LOCATION:Room M
END:VEVENT
BEGIN:VEVENT
DTSTART;TZID=UTC:20231105T140000
DTEND;TZID=UTC:20231105T150000
DTSTAMP:20260425T212652
CREATED:20231018T035423Z
LAST-MODIFIED:20231018T040743Z
UID:10004396-1699192800-1699196400@faithatfirst.org
SUMMARY:Covenant Hike Group
DESCRIPTION:“I love to think of nature as an unlimited broadcasting station\, through which God speaks to us every hour\, if we will only tune in.” – George Washington Carver \nThe Covenant Hike Group invites all who have a wonder of the natural world to share nature immersion with each other through 3 seasons while experiencing the presence of God. The format is simple. We begin with a brief reading (scripture or poem)\, hike along while sharing joys and concerns\, and appreciate 5 minutes of silence at mid-point. Each hike concludes with an optional\, brief time of sharing about our experiences on the hike\, closing prayer\, and a cool or hot drink! All ages are welcomed! \nOn the First Sunday of each month (October through May) we will meet at a designated location at 2 p.m.\, hiking various paths in our area for about an hour at a comfortable pace for everyone. The group will meet each first Sunday through May and participants may join in as schedules allow. \nAll who participate are welcomed to share in ownership. The wonder of the natural world and God’s presence in it is limitless. \nFacilitators: Jim Johnson and Lee Rader. If interested\, please contact Jim at jjohnso@luc.edu to be placed on the distribution list.
URL:https://faithatfirst.org/event/covenant-hike-group-2/2023-11-05/
END:VEVENT
BEGIN:VEVENT
DTSTART;TZID=UTC:20231105T170000
DTEND;TZID=UTC:20231105T190000
DTSTAMP:20260425T212652
CREATED:20231017T235500Z
LAST-MODIFIED:20231017T235500Z
UID:10005478-1699203600-1699210800@faithatfirst.org
SUMMARY:Faith Around The Table
DESCRIPTION:Are you hungry for deeper discussion with members of your First Church community that goes beyond the usual Sunday morning chit chat (as lovely as that may be)? This new group is for you! Once a month\, we’ll gather for a potluck dinner and discuss a topic or prompt relating to faith and spirituality. We may explore a question or theme from a recent sermon\, or try answering John Wesley’s favorite question: “How is it with your soul?” Topics will vary based on the group’s input. Andrew and Amy Schumacher will lead the group and host the first meeting with potential for others to host subsequent dinners or use church space. All are welcome\, this is NOT a couples group. Monthly dinners will be on first Sundays from 5pm to 7pm with the first meeting on Nov. 5th. The group will commit to six months and then reassess. Please email Andrew (andrew.r.schumacher@gmail.com) with questions or to sign up. Due to nature of the group\, we’ll limit to six or seven additional participants. Come join us for good food and real honest discussion!
URL:https://faithatfirst.org/event/faith-around-the-table/2023-11-05/
END:VEVENT
END:VCALENDAR