BEGIN:VCALENDAR
VERSION:2.0
PRODID:-//First United Methodist Church of Evanston, IL - ECPv6.15.20//NONSGML v1.0//EN
CALSCALE:GREGORIAN
METHOD:PUBLISH
X-ORIGINAL-URL:https://faithatfirst.org
X-WR-CALDESC:Events for First United Methodist Church of Evanston, IL
REFRESH-INTERVAL;VALUE=DURATION:PT1H
X-Robots-Tag:noindex
X-PUBLISHED-TTL:PT1H
BEGIN:VTIMEZONE
TZID:America/Chicago
BEGIN:DAYLIGHT
TZOFFSETFROM:-0600
TZOFFSETTO:-0500
TZNAME:CDT
DTSTART:20250309T080000
END:DAYLIGHT
BEGIN:STANDARD
TZOFFSETFROM:-0500
TZOFFSETTO:-0600
TZNAME:CST
DTSTART:20251102T070000
END:STANDARD
BEGIN:DAYLIGHT
TZOFFSETFROM:-0600
TZOFFSETTO:-0500
TZNAME:CDT
DTSTART:20260308T080000
END:DAYLIGHT
BEGIN:STANDARD
TZOFFSETFROM:-0500
TZOFFSETTO:-0600
TZNAME:CST
DTSTART:20261101T070000
END:STANDARD
BEGIN:DAYLIGHT
TZOFFSETFROM:-0600
TZOFFSETTO:-0500
TZNAME:CDT
DTSTART:20270314T080000
END:DAYLIGHT
BEGIN:STANDARD
TZOFFSETFROM:-0500
TZOFFSETTO:-0600
TZNAME:CST
DTSTART:20271107T070000
END:STANDARD
END:VTIMEZONE
BEGIN:VEVENT
DTSTART;TZID=America/Chicago:20260415T183000
DTEND;TZID=America/Chicago:20260415T203000
DTSTAMP:20260423T031911
CREATED:20260319T163059Z
LAST-MODIFIED:20260319T163059Z
UID:10011788-1776277800-1776285000@faithatfirst.org
SUMMARY:Mom's Night Out
DESCRIPTION:Wed April 15th – Jen Wolfe’s home with Jackie Owens Co-host. 6:30-8:30 pm\n\nRSVP to jenwalker03@gmail.com or 740-416-1360\n\nMoms of all ages welcome! Bring a treat to share if it works for you. See you there!
URL:https://faithatfirst.org/event/moms-night-out-26/
END:VEVENT
BEGIN:VEVENT
DTSTART;TZID=America/Chicago:20260415T183000
DTEND;TZID=America/Chicago:20260415T203000
DTSTAMP:20260423T031911
CREATED:20260324T175514Z
LAST-MODIFIED:20260324T175514Z
UID:10011789-1776277800-1776285000@faithatfirst.org
SUMMARY:Mom's Night Out
DESCRIPTION:Wed April 15th – Jen Wolfe’s home with Jackie Owens Co-host.  6:30-8:30 pm \nRSVP to jenwalker03@gmail.com or 740-416-1360 \nMoms of all ages welcome! Bring a treat to share if it works for you. See you there!
URL:https://faithatfirst.org/event/moms-night-out-27/
END:VEVENT
BEGIN:VEVENT
DTSTART;TZID=America/Chicago:20260416T190000
DTEND;TZID=America/Chicago:20260416T213000
DTSTAMP:20260423T031911
CREATED:20260308T141904Z
LAST-MODIFIED:20260313T184623Z
UID:10011644-1776366000-1776375000@faithatfirst.org
SUMMARY:Opera Rehearsal
DESCRIPTION:
URL:https://faithatfirst.org/event/opera-recital-3/
LOCATION:Tittle Chapel
END:VEVENT
BEGIN:VEVENT
DTSTART;TZID=America/Chicago:20260418T100000
DTEND;TZID=America/Chicago:20260418T120000
DTSTAMP:20260423T031911
CREATED:20260326T153635Z
LAST-MODIFIED:20260326T153635Z
UID:10011795-1776506400-1776513600@faithatfirst.org
SUMMARY:Craft Day
DESCRIPTION:
URL:https://faithatfirst.org/event/craft-day-2/
LOCATION:Dining Hall
END:VEVENT
BEGIN:VEVENT
DTSTART;TZID=America/Chicago:20260418T100000
DTEND;TZID=America/Chicago:20260418T120000
DTSTAMP:20260423T031911
CREATED:20260408T152006Z
LAST-MODIFIED:20260408T152006Z
UID:10011858-1776506400-1776513600@faithatfirst.org
SUMMARY:Bundled Blessings Diaper Packing with Harrison Neighbors
DESCRIPTION:
URL:https://faithatfirst.org/event/bundled-blessings-diaper-packing-with-harrison-neighbors/
END:VEVENT
BEGIN:VEVENT
DTSTART;TZID=America/Chicago:20260418T150000
DTEND;TZID=America/Chicago:20260418T190000
DTSTAMP:20260423T031911
CREATED:20260319T161614Z
LAST-MODIFIED:20260319T161614Z
UID:10011783-1776524400-1776538800@faithatfirst.org
SUMMARY:Pastor Grace Farewell Celebration
DESCRIPTION:Celebration of Gratitude for Sr. Pastor Grace Imathiu\, Sat. April 18\, 2026 at Sanctuary and Great Hall. Food and Beverages will be served. Please bring a ready-to-serve appetizer or dessert (one or two dozen pieces) to the church kitchen at 330pm. We would like to have snacks and desserts for 300 people. \nTo plan in advance\, please email Carol Barnett at: hhdorsey1911@gmail.com to let us know the item and quantity you’ll bring to share. \nAll are welcome!
URL:https://faithatfirst.org/event/pastor-grace-farewell-celebration/
LOCATION:Sanctuary ;Great Hall
END:VEVENT
BEGIN:VEVENT
DTSTART;TZID=America/Chicago:20260418T190000
DTEND;TZID=America/Chicago:20260418T213000
DTSTAMP:20260423T031911
CREATED:20251106T165024Z
LAST-MODIFIED:20251106T165024Z
UID:10011099-1776538800-1776547800@faithatfirst.org
SUMMARY:Opera Recital
DESCRIPTION:
URL:https://faithatfirst.org/event/opera-recital-2/
LOCATION:Tittle Chapel
END:VEVENT
BEGIN:VEVENT
DTSTART;TZID=America/Chicago:20260419T121500
DTEND;TZID=America/Chicago:20260419T131500
DTSTAMP:20260423T031911
CREATED:20260408T152319Z
LAST-MODIFIED:20260408T152319Z
UID:10011862-1776600900-1776604500@faithatfirst.org
SUMMARY:Lay Care Visitors Meeting
DESCRIPTION:
URL:https://faithatfirst.org/event/lay-care-visitors-meeting/
END:VEVENT
BEGIN:VEVENT
DTSTART;TZID=America/Chicago:20260420T190000
DTEND;TZID=America/Chicago:20260420T203000
DTSTAMP:20260423T031911
CREATED:20260419T160013Z
LAST-MODIFIED:20260419T160013Z
UID:10012216-1776711600-1776717000@faithatfirst.org
SUMMARY:Adult Christian Education Council Meeting
DESCRIPTION:
URL:https://faithatfirst.org/event/adult-christian-education-council-meeting/2026-04-20/
LOCATION:Glenna Hall
END:VEVENT
BEGIN:VEVENT
DTSTART;TZID=America/Chicago:20260423T190000
DTEND;TZID=America/Chicago:20260423T203000
DTSTAMP:20260423T031911
CREATED:20260324T180608Z
LAST-MODIFIED:20260324T180608Z
UID:10011793-1776970800-1776976200@faithatfirst.org
SUMMARY:Spring Gathering - "Organizations Making a Difference" Beth Emet\, the Free Synagogue
DESCRIPTION:Thurs. April 23rd – Save the Date – Spring Gathering – “Organizations Making a Difference” Beth Emet\, the Free Synagogue\, 7:00 p.m. – 8:30 p.m.
URL:https://faithatfirst.org/event/spring-gathering-organizations-making-a-difference-beth-emet-the-free-synagogue/
END:VEVENT
BEGIN:VEVENT
DTSTART;TZID=America/Chicago:20260423T190000
DTEND;TZID=America/Chicago:20260423T203000
DTSTAMP:20260423T031911
CREATED:20260408T152849Z
LAST-MODIFIED:20260408T152849Z
UID:10011865-1776970800-1776976200@faithatfirst.org
SUMMARY:Interfaith Action: Spring Gathering
DESCRIPTION:Thurs. April 23rd – IAE Spring Gathering – “Organizations Making a Difference”\, We are fortunate to have many nonprofit organizations that are engaged in work that improves the community for all. We invited five of these organizations to share their program details with our member communities and the public. \nTheir purposes cover a wide range from food insecurity to interfaith dialogue/understanding to legal rights. Our format includes table talk opportunities. We welcome you as delegates to join us or forward this event information to others in your community! \nPlease register – so we can plan. Light refreshments will be served. Flyer attached. Thurs\, April 23rd – “Organizations Making a Difference” – 7:00 p.m. – 8:30 p.m. – Beth Emet\, the Free Synagogue\, 1224 Dempster Street\, Evanston\, IL 60202. \n  \nRegistration site: https://tinyurl.com/organdiffer
URL:https://faithatfirst.org/event/interfaith-action-spring-gathering/
END:VEVENT
BEGIN:VEVENT
DTSTART;TZID=America/Chicago:20260425T100000
DTEND;TZID=America/Chicago:20260425T120000
DTSTAMP:20260423T031911
CREATED:20260408T152109Z
LAST-MODIFIED:20260408T152109Z
UID:10011859-1777111200-1777118400@faithatfirst.org
SUMMARY:Bundled Blessings Diaper Bank
DESCRIPTION:
URL:https://faithatfirst.org/event/bundled-blessings-diaper-bank/
END:VEVENT
BEGIN:VEVENT
DTSTART;TZID=America/Chicago:20260425T120000
DTEND;TZID=America/Chicago:20260425T140000
DTSTAMP:20260423T031911
CREATED:20260324T175720Z
LAST-MODIFIED:20260324T175720Z
UID:10011790-1777118400-1777125600@faithatfirst.org
SUMMARY:Lake North United Methodist Men Organizational Meeting
DESCRIPTION:
URL:https://faithatfirst.org/event/lake-north-united-methodist-men-organizational-meeting/
LOCATION:Dining Hall
END:VEVENT
BEGIN:VEVENT
DTSTART;TZID=America/Chicago:20260426T113000
DTEND;TZID=America/Chicago:20260426T140000
DTSTAMP:20260423T031911
CREATED:20260408T153239Z
LAST-MODIFIED:20260408T153239Z
UID:10011867-1777203000-1777212000@faithatfirst.org
SUMMARY:ASP Training
DESCRIPTION:
URL:https://faithatfirst.org/event/asp-training-8/2026-04-26/
LOCATION:Dining Hall
END:VEVENT
BEGIN:VEVENT
DTSTART;TZID=America/Chicago:20260426T120000
DTEND;TZID=America/Chicago:20260426T140000
DTSTAMP:20260423T031911
CREATED:20260210T194830Z
LAST-MODIFIED:20260210T194830Z
UID:10011561-1777204800-1777212000@faithatfirst.org
SUMMARY:ASP Training
DESCRIPTION:
URL:https://faithatfirst.org/event/asp-training-7/2026-04-26/
LOCATION:Dining Hall
END:VEVENT
BEGIN:VEVENT
DTSTART;TZID=America/Chicago:20260426T130000
DTEND;TZID=America/Chicago:20260426T143000
DTSTAMP:20260423T031911
CREATED:20260408T152158Z
LAST-MODIFIED:20260408T152158Z
UID:10011860-1777208400-1777213800@faithatfirst.org
SUMMARY:Bundled Blessings Diaper Packing with Skokie Rotary
DESCRIPTION:
URL:https://faithatfirst.org/event/bundled-blessings-diaper-packing-with-skokie-rotary/
END:VEVENT
BEGIN:VEVENT
DTSTART;TZID=America/Chicago:20260426T150000
DTEND;TZID=America/Chicago:20260426T170000
DTSTAMP:20260423T031911
CREATED:20260308T154249Z
LAST-MODIFIED:20260308T154249Z
UID:10011649-1777215600-1777222800@faithatfirst.org
SUMMARY:Prayer and Action for Earth Day
DESCRIPTION:
URL:https://faithatfirst.org/event/prayer-and-action-for-earth-day/
END:VEVENT
BEGIN:VEVENT
DTSTART;TZID=America/Chicago:20260426T150000
DTEND;TZID=America/Chicago:20260426T170000
DTSTAMP:20260423T031911
CREATED:20260324T180716Z
LAST-MODIFIED:20260324T180716Z
UID:10011794-1777215600-1777222800@faithatfirst.org
SUMMARY:Prayer & Action for Earth Day - sponsored by IAE - Climate Change & Justice Interest Group\,
DESCRIPTION:Sun. April 26th – Prayer & Action for Earth Day – sponsored by IAE – Climate Change & Justice Interest Group\, Evanston Ecology Center 3:00 p.m. – 5:00 p.m.
URL:https://faithatfirst.org/event/prayer-action-for-earth-day-sponsored-by-iae-climate-change-justice-interest-group/
END:VEVENT
BEGIN:VEVENT
DTSTART;TZID=America/Chicago:20260426T150000
DTEND;TZID=America/Chicago:20260426T170000
DTSTAMP:20260423T031911
CREATED:20260408T153115Z
LAST-MODIFIED:20260408T153115Z
UID:10011866-1777215600-1777222800@faithatfirst.org
SUMMARY:Action and Prayer for the Planet at Evanston Ecology Center
DESCRIPTION:Sun. April 26th – Action and Prayer for the Planet at Evanston Ecology Center\, 3:00 p.m. – 5:00 p.m. Sponsored by the IAE Working Group on Climate Change and Justice. Prayer and music that honor the planet and Earth Day. Pop-Up choir and service project. Attendees may take part in a clean up project of the canal. Flyer attached.\n\nWe hope to see many of you later this month. Questions\, contact any member of the committee. Take care.\n\nPeace\,\nInterfaith Action of Evanston – Faith Community Relations Committee\nJoyce Davidson – ved755@gmail.com\nMargaret “Peg” Hanrahan – docpeg9496@gmail.com\nMike Sehr – bigmike9700@gmail.com\nRhonda Stein – rhondastein@gmail.com\nSue Murphy Berube\, Executive Director – ia@interfaithactionofevanston.org\nDonna Richardson\, chair – dlynnrich322@gmail.com
URL:https://faithatfirst.org/event/action-and-prayer-for-the-planet-at-evanston-ecology-center/
END:VEVENT
BEGIN:VEVENT
DTSTART;TZID=America/Chicago:20260428T100000
DTEND;TZID=America/Chicago:20260428T113000
DTSTAMP:20260423T031911
CREATED:20260408T152232Z
LAST-MODIFIED:20260408T152232Z
UID:10011861-1777370400-1777375800@faithatfirst.org
SUMMARY:Bundled Blessings Diaper Packing
DESCRIPTION:
URL:https://faithatfirst.org/event/bundled-blessings-diaper-packing-7/
END:VEVENT
BEGIN:VEVENT
DTSTART;TZID=America/Chicago:20260502T100000
DTEND;TZID=America/Chicago:20260502T150000
DTSTAMP:20260423T031911
CREATED:20260420T185100Z
LAST-MODIFIED:20260420T185100Z
UID:10012219-1777716000-1777734000@faithatfirst.org
SUMMARY:World Labyrinth Day Celebration
DESCRIPTION:World Labyrinth Day Celebration \nJoin us for a day of reflection and peace \nSaturday\, May 2 | 10:00 a.m. – 3:00 p.m. \nHosted by the Faith Formation Committee\, this event welcomes our neighbors from across Evanston as we celebrate a global symbol of peace. \nWe need your help! \nVolunteer for a shift (1–2 hours). We’re looking for 3–4 people per time slot to support the day. \n📱Click the link on this page to sign up! \nQuestions? Contact Mari Leonard at fumclabyrinth@gmail.com
URL:https://faithatfirst.org/event/world-labyrinth-day-celebration/
END:VEVENT
BEGIN:VEVENT
DTSTART;TZID=America/Chicago:20260503T091500
DTEND;TZID=America/Chicago:20260503T101500
DTSTAMP:20260423T031911
CREATED:20260210T194913Z
LAST-MODIFIED:20260210T194913Z
UID:10011563-1777799700-1777803300@faithatfirst.org
SUMMARY:Confirmation Breakfast
DESCRIPTION:
URL:https://faithatfirst.org/event/confirmation-breakfast-2/
END:VEVENT
BEGIN:VEVENT
DTSTART;TZID=America/Chicago:20260503T091500
DTEND;TZID=America/Chicago:20260503T101500
DTSTAMP:20260423T031911
CREATED:20260329T151418Z
LAST-MODIFIED:20260329T151418Z
UID:10011843-1777799700-1777803300@faithatfirst.org
SUMMARY:Messy Church
DESCRIPTION:Messy Church is an opportunity for children\, youth\, and adults to engage in hands-on creative activities\, celebratory worship\, and time together in community. Join us for a different kind of Sunday School on the first Sunday of each month! / 9:15-10:15 a.m. In Great Hall
URL:https://faithatfirst.org/event/messy-church-7/
LOCATION:Great Hall
END:VEVENT
BEGIN:VEVENT
DTSTART;TZID=America/Chicago:20260506T124500
DTEND;TZID=America/Chicago:20260506T134500
DTSTAMP:20260423T031911
CREATED:20260408T152519Z
LAST-MODIFIED:20260408T152730Z
UID:10011864-1778071500-1778075100@faithatfirst.org
SUMMARY:Staff Appreciation Lunch: Total Child
DESCRIPTION:
URL:https://faithatfirst.org/event/staff-appreciation-lunch/
LOCATION:Dining Room
END:VEVENT
BEGIN:VEVENT
DTSTART;TZID=America/Chicago:20260509T130000
DTEND;TZID=America/Chicago:20260509T170000
DTSTAMP:20260423T031911
CREATED:20260305T170831Z
LAST-MODIFIED:20260305T170831Z
UID:10011577-1778331600-1778346000@faithatfirst.org
SUMMARY:Memorial Service- Rosita Thompson
DESCRIPTION:
URL:https://faithatfirst.org/event/memorial-service-rosita-thompson/
LOCATION:Sanctuary ;Glenna Hall ;Dining Hall
END:VEVENT
BEGIN:VEVENT
DTSTART;TZID=America/Chicago:20260515T193000
DTEND;TZID=America/Chicago:20260515T203000
DTSTAMP:20260423T031911
CREATED:20260110T032238Z
LAST-MODIFIED:20260110T032238Z
UID:10011483-1778873400-1778877000@faithatfirst.org
SUMMARY:Haydn's Mass in Time of Distress
DESCRIPTION:On Friday\, May 15th\, the Festival Choir and Orchestra of First United Methodist Church of Evanston presents Haydn’s Mass in Time of Distress (Missa in angustiis) also known as the Nelson Mass. The program will be conducted by Brian Schoettler with soloists Kari Sorenson\, Christine Ebeling Mando\, William Johnson\, and Joshua Green. The 7:30pm concert is free and open to the public.
URL:https://faithatfirst.org/event/haydns-mass-in-time-of-distress/
LOCATION:Sanctuary ;Glenna Hall ;Dining Hall
END:VEVENT
BEGIN:VEVENT
DTSTART;TZID=America/Chicago:20260517T080000
DTEND;TZID=America/Chicago:20260517T090000
DTSTAMP:20260423T031912
CREATED:20260408T163342Z
LAST-MODIFIED:20260408T163342Z
UID:10011873-1779004800-1779008400@faithatfirst.org
SUMMARY:Men's Fellowship
DESCRIPTION:
URL:https://faithatfirst.org/event/mens-fellowship-8/
LOCATION:Dining Hall
END:VEVENT
BEGIN:VEVENT
DTSTART;TZID=America/Chicago:20260517T113000
DTEND;TZID=America/Chicago:20260517T120000
DTSTAMP:20260423T031912
CREATED:20260421T184450Z
LAST-MODIFIED:20260421T184450Z
UID:10012225-1779017400-1779019200@faithatfirst.org
SUMMARY:The Great First Church Bake Off
DESCRIPTION:The GREAT FIRST CHURCH BAKE OFF – Sun May 17th – “Cookie Hour” after Church\n\nBARS and COOKIES- PRIZES!!! Church members will vote for BEST Bar and BEST Cookie!\n\nOur “judges” will vote for best…\n\nUNDER 11 yrs of age\, best 11-18\, and best > 19 year old!\n\nBake cookies or bars but please cut them into small pieces or little cookies so that everyone can have a taste. Name your baked goods or have a theme – “To Sugar and beyond!” “Sweetness and Light”\n\nPRIZES! PRIZES! PRIZES! PRIZES!\n\nSign up with Cherie Asante (cherie.asante@gmail.com) for what you will bring\n\n\n*All extra baked goods will be donated to the soup kitchen
URL:https://faithatfirst.org/event/the-great-first-church-bake-off-2/
LOCATION:Great Hall
END:VEVENT
BEGIN:VEVENT
DTSTART;TZID=America/Chicago:20260518T190000
DTEND;TZID=America/Chicago:20260518T203000
DTSTAMP:20260423T031912
CREATED:20250817T202006Z
LAST-MODIFIED:20250817T202006Z
UID:10009805-1779130800-1779136200@faithatfirst.org
SUMMARY:Adult Education meeting
DESCRIPTION:Monthly meeting of Adult Education Council
URL:https://faithatfirst.org/event/adult-education-meeting/2026-05-18/
LOCATION:Glenna Hall
END:VEVENT
BEGIN:VEVENT
DTSTART;TZID=America/Chicago:20260520T180000
DTEND;TZID=America/Chicago:20260520T210000
DTSTAMP:20260423T031912
CREATED:20260421T182954Z
LAST-MODIFIED:20260421T182954Z
UID:10012220-1779300000-1779310800@faithatfirst.org
SUMMARY:(NU) THUNK a cappella group
DESCRIPTION:
URL:https://faithatfirst.org/event/nu-thunk-a-cappella-group/2026-05-20/
LOCATION:Tittle Chapel
END:VEVENT
END:VCALENDAR