BEGIN:VCALENDAR
VERSION:2.0
PRODID:-//First United Methodist Church of Evanston, IL - ECPv6.15.20//NONSGML v1.0//EN
CALSCALE:GREGORIAN
METHOD:PUBLISH
X-ORIGINAL-URL:https://faithatfirst.org
X-WR-CALDESC:Events for First United Methodist Church of Evanston, IL
REFRESH-INTERVAL;VALUE=DURATION:PT1H
X-Robots-Tag:noindex
X-PUBLISHED-TTL:PT1H
BEGIN:VTIMEZONE
TZID:America/Chicago
BEGIN:DAYLIGHT
TZOFFSETFROM:-0600
TZOFFSETTO:-0500
TZNAME:CDT
DTSTART:20230312T080000
END:DAYLIGHT
BEGIN:STANDARD
TZOFFSETFROM:-0500
TZOFFSETTO:-0600
TZNAME:CST
DTSTART:20231105T070000
END:STANDARD
BEGIN:DAYLIGHT
TZOFFSETFROM:-0600
TZOFFSETTO:-0500
TZNAME:CDT
DTSTART:20240310T080000
END:DAYLIGHT
BEGIN:STANDARD
TZOFFSETFROM:-0500
TZOFFSETTO:-0600
TZNAME:CST
DTSTART:20241103T070000
END:STANDARD
BEGIN:DAYLIGHT
TZOFFSETFROM:-0600
TZOFFSETTO:-0500
TZNAME:CDT
DTSTART:20250309T080000
END:DAYLIGHT
BEGIN:STANDARD
TZOFFSETFROM:-0500
TZOFFSETTO:-0600
TZNAME:CST
DTSTART:20251102T070000
END:STANDARD
END:VTIMEZONE
BEGIN:VTIMEZONE
TZID:UTC
BEGIN:STANDARD
TZOFFSETFROM:+0000
TZOFFSETTO:+0000
TZNAME:UTC
DTSTART:20230101T000000
END:STANDARD
END:VTIMEZONE
BEGIN:VEVENT
DTSTART;VALUE=DATE:20241202
DTEND;VALUE=DATE:20241203
DTSTAMP:20260420T163420
CREATED:20241106T193739Z
LAST-MODIFIED:20241204T162613Z
UID:10007643-1733097600-1733183999@faithatfirst.org
SUMMARY:Star Tree -- Gifts for YOU
DESCRIPTION:Star Tree is support for 100 children thru YOU who need holiday gifts. Please be prepared to spend $50 on the gift. Gifts are due on or before 12/8 at First Church.
URL:https://faithatfirst.org/event/star-tree-gifts-for-you/2024-12-02/
LOCATION:Fountain Foyer
END:VEVENT
BEGIN:VEVENT
DTSTART;TZID=America/Chicago:20241202T203000
DTEND;TZID=America/Chicago:20241202T210000
DTSTAMP:20260420T163420
CREATED:20241108T200222Z
LAST-MODIFIED:20241108T200256Z
UID:10007622-1733171400-1733173200@faithatfirst.org
SUMMARY:Invitation to Advent Prayer
DESCRIPTION:The Faith Formation Committee invites all to participate in an evening Advent prayer series. These 30-minute scripture-prayer times offer an opportunity for sharing and reflection apart from the busyness of the season. The sessions will be led by Mary Cauble and Bonny Roth and will be by ZOOM from 8:30 to 9:00 on Mondays\, December 2\, 9 and 16. Come and allow the Spirit to move within and among us as you enter into a peaceful end to your day.\n.\nFor questions and to be added to the weekly distribution of the Zoom link and order of service\, contact Tom Scott\, tom.scott.goblue@msn.com.
URL:https://faithatfirst.org/event/invitation-to-advent-prayer/2024-12-02/
LOCATION:Zoom
END:VEVENT
BEGIN:VEVENT
DTSTART;TZID=America/Chicago:20241203T140000
DTEND;TZID=America/Chicago:20241203T153000
DTSTAMP:20260420T163420
CREATED:20240828T203725Z
LAST-MODIFIED:20240828T203725Z
UID:10006602-1733234400-1733239800@faithatfirst.org
SUMMARY:Archives Committee
DESCRIPTION:
URL:https://faithatfirst.org/event/archives-committee-2/2024-12-03/
LOCATION:Archives-Room 37
END:VEVENT
BEGIN:VEVENT
DTSTART;TZID=America/Chicago:20241203T183000
DTEND;TZID=America/Chicago:20241203T203000
DTSTAMP:20260420T163420
CREATED:20241115T164354Z
LAST-MODIFIED:20241115T164354Z
UID:10008076-1733250600-1733257800@faithatfirst.org
SUMMARY:Mom's Night Out
DESCRIPTION:CALLING ALL MOMs for a NIGHT OUT!!\nEvery age of Mom is welcome! Come for the first time or Come back if we have not seen you!\nYou can bring something to share but no pressure! \nTues. Dec 3rd 6:30-8:30pm – Greta Connor (with Sue Henderson) \nWant to Cohost? Cohosts help bring food\, answer the door\, and clean up the kitchen at 8:30. Most of all they are a “friend” so that the host is not alone!
URL:https://faithatfirst.org/event/moms-night-out-18/
LOCATION:Greta Corner
END:VEVENT
BEGIN:VEVENT
DTSTART;TZID=America/Chicago:20241204T103000
DTEND;TZID=America/Chicago:20241204T120000
DTSTAMP:20260420T163420
CREATED:20241105T155452Z
LAST-MODIFIED:20241105T155452Z
UID:10007614-1733308200-1733313600@faithatfirst.org
SUMMARY:Bundled Blessings Committee Meeting
DESCRIPTION:
URL:https://faithatfirst.org/event/bundled-blessings-committee-meeting-10/
LOCATION:Glenna Hall
END:VEVENT
BEGIN:VEVENT
DTSTART;TZID=America/Chicago:20241204T110000
DTEND;TZID=America/Chicago:20241204T123000
DTSTAMP:20260420T163420
CREATED:20240904T190639Z
LAST-MODIFIED:20240904T190639Z
UID:10006957-1733310000-1733315400@faithatfirst.org
SUMMARY:Staff Meeting
DESCRIPTION:
URL:https://faithatfirst.org/event/staff-meeting-62/2024-12-04/
LOCATION:Conference Room
ORGANIZER;CN="Pastor Britt Cox":MAILTO:britt@faithatfirst.com
END:VEVENT
BEGIN:VEVENT
DTSTART;TZID=America/Chicago:20241204T170000
DTEND;TZID=America/Chicago:20241204T183000
DTSTAMP:20260420T163420
CREATED:20241120T192705Z
LAST-MODIFIED:20241120T192705Z
UID:10008077-1733331600-1733337000@faithatfirst.org
SUMMARY:Bundled Blessings Diaper Packing with Endeavor Perinatal Team
DESCRIPTION:Bundled Blessings will host Endeavor Perinatal Team for a tour and diaper packing on Wed. Dec. 4\, 5-6:30 pm. Contact Nancy Brown\, 847-271-1712 or nandbrown@comcast.net.
URL:https://faithatfirst.org/event/bundled-blessings-diaper-packing-with-endeavor-perinatal-team/
LOCATION:Room M
END:VEVENT
BEGIN:VEVENT
DTSTART;TZID=America/Chicago:20241204T171500
DTEND;TZID=America/Chicago:20241204T180000
DTSTAMP:20260420T163420
CREATED:20240828T203010Z
LAST-MODIFIED:20250213T165623Z
UID:10006560-1733332500-1733335200@faithatfirst.org
SUMMARY:Children's Choir Rehearsal
DESCRIPTION:Children in grades 1-6 rehearse weekly and sing in worship monthly. No audition is required and new singers are welcome throughout the year. For more information\, email Dr. Brian Schoettler.
URL:https://faithatfirst.org/event/childrens-choir-rehearsal-62/2024-12-04/
LOCATION:Choir Room
ORGANIZER;CN="Brian Schoettler":MAILTO:brian@faithatfirst.com
END:VEVENT
BEGIN:VEVENT
DTSTART;TZID=America/Chicago:20241204T173000
DTEND;TZID=America/Chicago:20241204T190000
DTSTAMP:20260420T163420
CREATED:20240922T201141Z
LAST-MODIFIED:20240922T201141Z
UID:10007311-1733333400-1733338800@faithatfirst.org
SUMMARY:First Wednesday Potluck
DESCRIPTION:Bring a side or dessert to share and join your church family for good food and fellowship on the first Wednesday of each month! \nPlease register to aid in preparations\, noting any dietary restrictions or food allergies in the memo field.
URL:https://faithatfirst.org/event/first-wednesday-potluck-8/
LOCATION:Dining Room and Kitchen
ORGANIZER;CN="Colin McDonald":MAILTO:colin@faithatfirst.com
END:VEVENT
BEGIN:VEVENT
DTSTART;TZID=America/Chicago:20241204T183000
DTEND;TZID=America/Chicago:20241204T191500
DTSTAMP:20260420T163420
CREATED:20240828T202420Z
LAST-MODIFIED:20250213T170358Z
UID:10006486-1733337000-1733339700@faithatfirst.org
SUMMARY:Handbell Choir Rehearsal
DESCRIPTION:The Handbell Choir plays in worship seasonally. Basic music reading skills required (instrumentalists are especially welcome). Open to adults and youth in grades 6-12. New members are welcome throughout the year – email Dr. Brian Schoettler for more information.
URL:https://faithatfirst.org/event/handbell-choir-rehearsal-32/2024-12-04/
LOCATION:Choir Room
ORGANIZER;CN="Brian Schoettler":MAILTO:brian@faithatfirst.com
END:VEVENT
BEGIN:VEVENT
DTSTART;TZID=America/Chicago:20241204T183000
DTEND;TZID=America/Chicago:20241204T200000
DTSTAMP:20260420T163420
CREATED:20241120T192853Z
LAST-MODIFIED:20241120T192853Z
UID:10008078-1733337000-1733342400@faithatfirst.org
SUMMARY:Bundled Blessings Diaper Packing with Beth Emet volunteers
DESCRIPTION:Bundled Blessings will host Beth Emet volunteers for a tour and diaper packing on Wed. Dec. 4\, 6:30-8 pm. Contact Nancy Brown\, 847-271-1712 or nandbrown@comcast.net.
URL:https://faithatfirst.org/event/bundled-blessings-diaper-packing-with-beth-emet-volunteers/
LOCATION:Room M
END:VEVENT
BEGIN:VEVENT
DTSTART;TZID=America/Chicago:20241204T193000
DTEND;TZID=America/Chicago:20241204T210000
DTSTAMP:20260420T163420
CREATED:20240828T202245Z
LAST-MODIFIED:20240903T164905Z
UID:10006447-1733340600-1733346000@faithatfirst.org
SUMMARY:Chancel Choir Rehearsal
DESCRIPTION:Adults and high school youth rehearse music for worship. No audition is required. Email Dr. Brian Schoettler for more information.
URL:https://faithatfirst.org/event/chancel-choir-rehearsal-139/2024-12-04/
LOCATION:Choir Room
ORGANIZER;CN="Brian Schoettler":MAILTO:brian@faithatfirst.com
END:VEVENT
BEGIN:VEVENT
DTSTART;TZID=UTC:20241205T173000
DTEND;TZID=UTC:20241205T190000
DTSTAMP:20260420T163420
CREATED:20230714T003533Z
LAST-MODIFIED:20230714T003711Z
UID:10004127-1733419800-1733425200@faithatfirst.org
SUMMARY:Soup Kitchen
DESCRIPTION:As part of Interfaith Action of Evanston\, First Church hosts a weekly soup kitchen each Thursday evening.  A host team of First Church volunteers is needed each week\, and 5-6 times a year we also need cooking teams.   Interested in helping?  Please contact Dave Koester (davekoester57@gmail.com) about current scheduling needs.
URL:https://faithatfirst.org/event/soup-kitchen/2024-12-05/
LOCATION:Dining Room
ORGANIZER;CN="Dave Koester":MAILTO:davekoester57@gmail.com
END:VEVENT
BEGIN:VEVENT
DTSTART;TZID=America/Chicago:20241205T173000
DTEND;TZID=America/Chicago:20241205T190000
DTSTAMP:20260420T163420
CREATED:20241120T193114Z
LAST-MODIFIED:20241120T193114Z
UID:10008079-1733419800-1733425200@faithatfirst.org
SUMMARY:Bundled Blessings Diaper Packing with Sherman Methodist volunteers
DESCRIPTION:Bundled Blessings will host Sherman Methodist volunteers for a tour and diaper packing on Thurs. Dec. 5\, 5:30-7 pm. Contact Nancy Brown\, 847-271-1712 or nandbrown@comcast.net.
URL:https://faithatfirst.org/event/bundled-blessings-diaper-packing-with-sherman-methodist-volunteers/
LOCATION:Room M
END:VEVENT
BEGIN:VEVENT
DTSTART;TZID=America/Chicago:20241208T080000
DTEND;TZID=America/Chicago:20241208T090000
DTSTAMP:20260420T163420
CREATED:20241108T164814Z
LAST-MODIFIED:20241204T180820Z
UID:10007620-1733644800-1733648400@faithatfirst.org
SUMMARY:Men's Fellowship Gathering
DESCRIPTION:On December 8\, the Men’s Fellowship group will meet at 8 am in the dining room. \nCoffee and bagels offered. \nAfter a short prayer circle…Martha Rudy\, chair of trustees\, will give a short program on the Northern Illinois Conference’s Repair the Harm initiative.  This was introduced last Sunday in worship. \nQuestions…email Jim Hagedorn…jehdvm@gmail.com \nsee you there!
URL:https://faithatfirst.org/event/mens-fellowship-gathering/
LOCATION:Dining Room
END:VEVENT
BEGIN:VEVENT
DTSTART;TZID=America/Chicago:20241208T091500
DTEND;TZID=America/Chicago:20241208T101500
DTSTAMP:20260420T163420
CREATED:20240813T145144Z
LAST-MODIFIED:20240829T163149Z
UID:10006064-1733649300-1733652900@faithatfirst.org
SUMMARY:Sunday School
DESCRIPTION:Sunday School takes place before Worship from 9:15-10:15 a.m. from mid-September through May\, with an emphasis on learning and responding to stories in the Bible through reading\, conversation\, and play. Sunday School is offered for children ages Pre-K-6th grade. Classroom locations are posted throughout the building.
URL:https://faithatfirst.org/event/sunday-school-8/2024-12-08/
END:VEVENT
BEGIN:VEVENT
DTSTART;TZID=America/Chicago:20241208T091500
DTEND;TZID=America/Chicago:20241208T101500
DTSTAMP:20260420T163420
CREATED:20240828T200508Z
LAST-MODIFIED:20241218T190848Z
UID:10006391-1733649300-1733652900@faithatfirst.org
SUMMARY:Confirmation- 7th & 8th Grade
DESCRIPTION:7th and 8th graders— it’s time for Confirmation to begin! We will meet in Room M on Rally Day morning. See y’all soon!
URL:https://faithatfirst.org/event/confirmation-7th-8th-grade/2024-12-08/
LOCATION:Room M
ORGANIZER;CN="Sydney Harkrider":MAILTO:sydney@faithatfirst.com
END:VEVENT
BEGIN:VEVENT
DTSTART;TZID=America/Chicago:20241208T091500
DTEND;TZID=America/Chicago:20241208T101500
DTSTAMP:20260420T163420
CREATED:20240922T195752Z
LAST-MODIFIED:20241111T171551Z
UID:10006784-1733649300-1733652900@faithatfirst.org
SUMMARY:Adult Education- Methodism 101
DESCRIPTION:Methodism 101 looks at religion and religious practices and the unique contributions of John Wesley and of Methodism to the understanding and practice of Christianity as a whole. It does this from a historical perspective looking at the development of the Methodist church in England as well as America. \nSunday November 17…American Methodism…beginnings\nSunday November 24…Methodist Family Tree\nSunday Dec 1…TBD (“Come thou long-expected Jesus” Paul Chilcote’s)\nDec. 8\,15\,22…Advent and Christmas  with Charles Wesley…\nDec 29 and Jan 5…Holiday break
URL:https://faithatfirst.org/event/adult-education-2-2/2024-12-08/
LOCATION:Room 33
END:VEVENT
BEGIN:VEVENT
DTSTART;TZID=America/Chicago:20241208T091500
DTEND;TZID=America/Chicago:20241208T101500
DTSTAMP:20260420T163420
CREATED:20240922T201952Z
LAST-MODIFIED:20240930T164109Z
UID:10007335-1733649300-1733652900@faithatfirst.org
SUMMARY:Faith in Action Virtual Adult Education Class
DESCRIPTION:Meets monthly on the second Sunday\, September-December. \nUsing Compass podcasts produced by the UMC\, the class will walk through spiritual practices and meditations and explore conversations with special guests about who they are encountering spirituality in surprising ways. The goal is to transform ourselves through listening\, learning and asking the questions\, “How is it with your soul?” \nParticipants are asked to listen to an assigned podcast (approximately 40 mins) prior to each class. For further information and the Zoom link\, contact facilitators Mary Cauble\, mcauble50@gmail.com\, and Bonny Roth\, bsrcom@yahoo.com.
URL:https://faithatfirst.org/event/faith-in-action-virtual-adult-education-class/2024-12-08/
END:VEVENT
BEGIN:VEVENT
DTSTART;TZID=America/Chicago:20241208T091500
DTEND;TZID=America/Chicago:20241208T101500
DTSTAMP:20260420T163420
CREATED:20241115T161251Z
LAST-MODIFIED:20241220T194205Z
UID:10008098-1733649300-1733652900@faithatfirst.org
SUMMARY:Countering Christian Nationalism
DESCRIPTION:COUNTERING CHRISTIAN NATIONALISM\nThroughout December\, the Social Justice Intersections group is focusing on Countering Christian Nationalism. The Christian Nationalism movement endangers our right to freedom of religion established in the First Amendment. To educate ourselves about this movement in the context of our Christian faith\, the class has chosen to read and discuss Amanda Tyler’s book How to End Christian Nationalism (Broadleaf Books\, 2024). The book is divided into 8 steps for Christians to learn what we can about the movement\, its history\, and impact\, and take actions to counter it. Join us in the Dining Room at 9:15 a.m. to discuss the steps as follows\n· Dec 8 (our second session): Step 3—Denounce Violence and Step 4—Commit to the Separation of Church and State. Leader Tom Butler.\n· Dec. 15: Step 5—Take on Christian Nationalism Close to Home and Step 6—Organize for Change. Leader Rev Richard Mosley\n· Dec. 22: Step 7–Protect Religious Freedom in Public Schools and Step 8—Take Your Place in the Public Square. Leader Linda Boardman\n· Dec. 29: Join together to sing the social justice verses of our traditional carols\nThe book is available in several area libraries and can be purchased in various formats or ordered from your favorite local bookstore.
URL:https://faithatfirst.org/event/social-justice-intersections-countering-christian-nationalism/2024-12-08/
LOCATION:Dining Room
END:VEVENT
BEGIN:VEVENT
DTSTART;TZID=America/Chicago:20241208T091500
DTEND;TZID=America/Chicago:20241208T103000
DTSTAMP:20260420T163420
CREATED:20240828T204245Z
LAST-MODIFIED:20241009T142434Z
UID:10006739-1733649300-1733653800@faithatfirst.org
SUMMARY:Adult Education Class- The Christian Experiment
DESCRIPTION:A weekly gathering that creates community and explores faith-based questions. More. Led by Matt Rader and Kristi Hubbard.
URL:https://faithatfirst.org/event/adult-education-class/2024-12-08/
LOCATION:Glenna Hall
END:VEVENT
BEGIN:VEVENT
DTSTART;TZID=America/Chicago:20241208T093000
DTEND;TZID=America/Chicago:20241208T101500
DTSTAMP:20260420T163420
CREATED:20240828T202603Z
LAST-MODIFIED:20250213T165312Z
UID:10006521-1733650200-1733652900@faithatfirst.org
SUMMARY:Chancel Choir Rehearsal
DESCRIPTION:Adults and high school youth rehearse music for worship in the Chancel at the front of the Sanctuary. No audition required. Email Dr. Brian Schoettler for more information.
URL:https://faithatfirst.org/event/chancel-choir-rehearsal-140/2024-12-08/
LOCATION:Sanctuary
ORGANIZER;CN="Brian Schoettler":MAILTO:brian@faithatfirst.com
END:VEVENT
BEGIN:VEVENT
DTSTART;TZID=America/Chicago:20241208T103000
DTEND;TZID=America/Chicago:20241208T120000
DTSTAMP:20260420T163420
CREATED:20240828T192519Z
LAST-MODIFIED:20250213T171151Z
UID:10006146-1733653800-1733659200@faithatfirst.org
SUMMARY:Worship in the Sanctuary
DESCRIPTION:Please find up to date information about this Sunday here.
URL:https://faithatfirst.org/event/worship-in-the-sanctuary/2024-12-08/
LOCATION:Sanctuary
ATTACH;FMTTYPE=image/jpeg:https://faithatfirst.org/wp-content/uploads/2023/04/224592613_4154736301268883_1457195983166946834_n-1.jpg
END:VEVENT
BEGIN:VEVENT
DTSTART;TZID=America/Chicago:20241208T104500
DTEND;TZID=America/Chicago:20241208T113000
DTSTAMP:20260420T163420
CREATED:20240829T163541Z
LAST-MODIFIED:20240829T163541Z
UID:10006903-1733654700-1733657400@faithatfirst.org
SUMMARY:Connect456
DESCRIPTION:Connect456 is designed to help children in grades 4-6 connect to the church community as older elementary and middle school students preparing to make their own way at First Church. Each week features a unique means of connecting\, including serving in leadership with younger children\, learning about our church history and United Methodist identity\, observing worship and more!
URL:https://faithatfirst.org/event/connect456-10/2024-12-08/
END:VEVENT
BEGIN:VEVENT
DTSTART;TZID=America/Chicago:20241208T104500
DTEND;TZID=America/Chicago:20241208T113000
DTSTAMP:20260420T163420
CREATED:20240829T163813Z
LAST-MODIFIED:20250130T181827Z
UID:10006930-1733654700-1733657400@faithatfirst.org
SUMMARY:Children's Chapel
DESCRIPTION:Children’s Chapel seeks to excite and build confidence in children’s experience of worship and sense of belonging at First Church. Children ages three through 3rd grade are invited to experience the wonder of worship and joy of service in a lively\, child-friendly setting. Throughout the program year\, children take part in the seasons of the Christian year\, exploring rituals\, sacraments\, and songs of our worship tradition as well as hands-on aspects of our church mission that children might shape and help share the story of our faith.
URL:https://faithatfirst.org/event/childrens-chapel-38/2024-12-08/
END:VEVENT
BEGIN:VEVENT
DTSTART;TZID=America/Chicago:20241208T113000
DTEND;TZID=America/Chicago:20241208T120000
DTSTAMP:20260420T163420
CREATED:20240828T194036Z
LAST-MODIFIED:20240828T194036Z
UID:10006276-1733657400-1733659200@faithatfirst.org
SUMMARY:Eucharist Service
DESCRIPTION:
URL:https://faithatfirst.org/event/eucharist-service/2024-12-08/
LOCATION:Tittle Chapel
END:VEVENT
BEGIN:VEVENT
DTSTART;TZID=America/Chicago:20241208T113000
DTEND;TZID=America/Chicago:20241208T123000
DTSTAMP:20260420T163420
CREATED:20241115T163625Z
LAST-MODIFIED:20241115T163625Z
UID:10008075-1733657400-1733661000@faithatfirst.org
SUMMARY:Congregational Care Xmas bag preparation
DESCRIPTION:Congregational Care Xmas bag preparation: Congregational Care will be putting Xmas bags for seniors. Congregational Care members only will be present at the event. Sunday\, 12/8\, 11:30 am -12.30 pm. Contact person is Glynis Doyle\, dleedoyle@gmail.com\, 847-341-2536
URL:https://faithatfirst.org/event/congregational-care-xmas-bag-preparation/
LOCATION:Dining Room
END:VEVENT
BEGIN:VEVENT
DTSTART;TZID=America/Chicago:20241208T113000
DTEND;TZID=America/Chicago:20241208T133000
DTSTAMP:20260420T163420
CREATED:20240813T143025Z
LAST-MODIFIED:20240912T154143Z
UID:10006040-1733657400-1733664600@faithatfirst.org
SUMMARY:Methodist Youth Fellowship
DESCRIPTION:Methodist Youth Fellowship (aka MYF) is open to all youth (7th-12th Grade). We’ll gather twice each month on Sundays 11:30-1:30pm. This is a time to have lunch and engage in music\, games\, an activity\, service project\, lesson or anything in between. This is our time to hang out as a youth group and build connections. Hope you’ll join us! \nQuestions?  Contact Sydney Harkrider at sydney@faithatfirst.com.
URL:https://faithatfirst.org/event/methodist-youth-fellowship-4/2024-12-08/
ORGANIZER;CN="Sydney Harkrider":MAILTO:sydney@faithatfirst.com
END:VEVENT
BEGIN:VEVENT
DTSTART;TZID=America/Chicago:20241208T120000
DTEND;TZID=America/Chicago:20241208T130000
DTSTAMP:20260420T163420
CREATED:20241018T001633Z
LAST-MODIFIED:20241018T001633Z
UID:10007438-1733659200-1733662800@faithatfirst.org
SUMMARY:Children's Council
DESCRIPTION:Children’s Council acts as both a work committee and an advisory board to the Director of Children’s Ministry. The Children’s Council focuses on formulating and supporting the vision of our various children’s ministries. We consult with the Director of Children’s Ministries to plan the yearlong calendar. Under the umbrella of Children’s Ministries are the following programs: Sunday School\, Chapel\, Connect 456\, Nursery\, Summer Camps (Creation Camp\, VBS\, Family Camp)\, Fellowship Groups (Jump and Club 123)\, Pageant\, and holiday celebrations (e.g\, Advent\, Lent\, Easter).
URL:https://faithatfirst.org/event/childrens-council-2/2024-12-08/
LOCATION:Conference Room
ORGANIZER;CN="Colin McDonald":MAILTO:colin@faithatfirst.com
END:VEVENT
BEGIN:VEVENT
DTSTART;TZID=America/Chicago:20241208T163000
DTEND;TZID=America/Chicago:20241208T180000
DTSTAMP:20260420T163420
CREATED:20241104T190350Z
LAST-MODIFIED:20241204T164758Z
UID:10007608-1733675400-1733680800@faithatfirst.org
SUMMARY:2024 Annual Meeting and Report
DESCRIPTION:Here is the FUMC Evanston 2024 Annual Report\nClick here or on the image below to open. \nWe encourage all members to read the report and join us for the Annual Meeting on Sunday\, December 8th\, beginning at 4:30pm. Information regarding the availability of a zoom option will follow. We will also welcome our District Superintendent\, Rev. Victor Melad who will lead the meeting. All members of the congregation have a vote. \nOn Sunday\, December 1st\, The Chairperson of the Finance Committee\, Rich Grodsky\, will be available at community hour following worship to answer any questions about the budget portion of the Annual Report.
URL:https://faithatfirst.org/event/church-conference-3/
LOCATION:Dining Room
END:VEVENT
END:VCALENDAR