BEGIN:VCALENDAR
VERSION:2.0
PRODID:-//First United Methodist Church of Evanston, IL - ECPv6.15.20//NONSGML v1.0//EN
CALSCALE:GREGORIAN
METHOD:PUBLISH
X-ORIGINAL-URL:https://faithatfirst.org
X-WR-CALDESC:Events for First United Methodist Church of Evanston, IL
REFRESH-INTERVAL;VALUE=DURATION:PT1H
X-Robots-Tag:noindex
X-PUBLISHED-TTL:PT1H
BEGIN:VTIMEZONE
TZID:America/Chicago
BEGIN:DAYLIGHT
TZOFFSETFROM:-0600
TZOFFSETTO:-0500
TZNAME:CDT
DTSTART:20230312T080000
END:DAYLIGHT
BEGIN:STANDARD
TZOFFSETFROM:-0500
TZOFFSETTO:-0600
TZNAME:CST
DTSTART:20231105T070000
END:STANDARD
BEGIN:DAYLIGHT
TZOFFSETFROM:-0600
TZOFFSETTO:-0500
TZNAME:CDT
DTSTART:20240310T080000
END:DAYLIGHT
BEGIN:STANDARD
TZOFFSETFROM:-0500
TZOFFSETTO:-0600
TZNAME:CST
DTSTART:20241103T070000
END:STANDARD
BEGIN:DAYLIGHT
TZOFFSETFROM:-0600
TZOFFSETTO:-0500
TZNAME:CDT
DTSTART:20250309T080000
END:DAYLIGHT
BEGIN:STANDARD
TZOFFSETFROM:-0500
TZOFFSETTO:-0600
TZNAME:CST
DTSTART:20251102T070000
END:STANDARD
END:VTIMEZONE
BEGIN:VTIMEZONE
TZID:UTC
BEGIN:STANDARD
TZOFFSETFROM:+0000
TZOFFSETTO:+0000
TZNAME:UTC
DTSTART:20230101T000000
END:STANDARD
END:VTIMEZONE
BEGIN:VEVENT
DTSTART;VALUE=DATE:20240527
DTEND;VALUE=DATE:20240608
DTSTAMP:20260423T030005
CREATED:20240404T170014Z
LAST-MODIFIED:20240404T170014Z
UID:10005852-1716768000-1717804799@faithatfirst.org
SUMMARY:Diaper Days -- A Two-Week Community Diaper Drive sponsored by Bundled Blessings Diaper Bank
DESCRIPTION:
URL:https://faithatfirst.org/event/diaper-days-a-two-week-community-diaper-drive-sponsored-by-bundled-blessings-diaper-bank/
END:VEVENT
BEGIN:VEVENT
DTSTART;TZID=America/Chicago:20240608T090000
DTEND;TZID=America/Chicago:20240608T153000
DTSTAMP:20260423T030005
CREATED:20240528T200140Z
LAST-MODIFIED:20240528T200140Z
UID:10005867-1717837200-1717860600@faithatfirst.org
SUMMARY:Men's Retreat on Bridging the Generational Divide
DESCRIPTION:Men of all ages and life stages are invited to the first men’s retreat in recent First Church history! Our Retreat Leader Rodric Smith will facilitate reflection and conversation around the topic “Bridging the Generational Divide.” Our time together is an opportunity to grow in our relationships with those that we know and don’t yet know. We also expect to explore what separates us and how we can join together\, and to enjoy each other’s company. \n$20 registration fee covers lunch and expenses. Register now. Questions? Please contact Tom Butler at theo1033@comcast.net. \nRetreat Leader Rodric Smith\, PhD studies the role of love in leadership development systems. He retired from the US Air Force as a Lieutenant Colonel after 24 years. During his time in service\, he led undergraduate and graduate leadership development efforts in classroom\, mentoring\, coaching\, facilitation\, consulting\, seminar\, and conference settings at the United States Air Force Academy.
URL:https://faithatfirst.org/event/mens-retreat-on-bridging-the-generational-divide/
END:VEVENT
BEGIN:VEVENT
DTSTART;VALUE=DATE:20240609
DTEND;VALUE=DATE:20240610
DTSTAMP:20260423T030005
CREATED:20240606T184613Z
LAST-MODIFIED:20240606T184613Z
UID:10005872-1717891200-1717977599@faithatfirst.org
SUMMARY:"I've Been Meaning to Ask..." Sermon Series
DESCRIPTION:Join us for summer worship at our 9:00 am outdoor service or the 10:30 am service in Tittle Chapel. This summer\, our two services will be very distinct in format. 9:00 am will be conversational and reflection focused. 10:30 am will look more traditional with a sermon. \nOur first sermon series will begin on June 9th and we invite you to join us!\nDuring the month of June we will focus on questions that begin with “I’ve been meaning to ask…”\nIn essence\, this question also implies the following statements: “I’ve been thinking about you and I’ve been wanting to check in… You’ve been on my mind… I haven’t known how to have this conversation\, but I’m getting started with a question.” \nThe ellipses symbolize the main objective of this series: to cultivate courageous conversations—and to keep having them\, even if we need to pause. And provide us a starting point to ask questions such as: “where are you from?” “where does it hurt?” and “what do you need?” \nThese weekly sub-themes provide a trajectory for going deeper. As you can see\, these questions aren’t surface level; they invite us to share our pain and seek ways to care for one another. May this series help us to behold each other as images of the divine. May it help us strengthen our capacity for empathy and compassion. May it remind us of the power of asking unassuming questions. May it show us that courage is rooted in the heart. Through vulnerability and authenticity\, may our courageous conversations lead us to glimpse hope\, joy\, and beauty—and to become the community God created us to be.
URL:https://faithatfirst.org/event/ive-been-meaning-to-ask-sermon-series/2024-06-09/
END:VEVENT
BEGIN:VEVENT
DTSTART;VALUE=DATE:20240609
DTEND;VALUE=DATE:20240909
DTSTAMP:20260423T030005
CREATED:20240606T191814Z
LAST-MODIFIED:20240606T191814Z
UID:10005878-1717891200-1725839999@faithatfirst.org
SUMMARY:Summer Office Hours
DESCRIPTION:Summer Office Hours\nBeginning on June 10th\, the church office will be closed on Mondays and Fridays. If you have church business in the building\, the office will be open as they usually are between 10am-4pm on Tuesdays\, Wednesdays\, Thursdays and from 8am-12pm on Sundays. Staff will be working remotely on Mondays or Fridays\, depending on which of those days they take for sabbath. We will resume program year hours beginning September 3rd.
URL:https://faithatfirst.org/event/summer-office-hours/
END:VEVENT
BEGIN:VEVENT
DTSTART;TZID=America/Chicago:20240609T090000
DTEND;TZID=America/Chicago:20240609T094500
DTSTAMP:20260423T030005
CREATED:20240613T200810Z
LAST-MODIFIED:20240613T200810Z
UID:10005899-1717923600-1717926300@faithatfirst.org
SUMMARY:9:00 am Summer Outdoor Worship
DESCRIPTION:Join us for a new\, conversation and connection-based take on our Summer Worship service. Now in the Memorial Garden! \nCome as you are\, and bring a blanket or chair if you have one! \n 
URL:https://faithatfirst.org/event/900-am-summer-outdoor-worship/2024-06-09/
END:VEVENT
BEGIN:VEVENT
DTSTART;TZID=America/Chicago:20240609T101000
DTEND;TZID=America/Chicago:20240609T102500
DTSTAMP:20260423T030005
CREATED:20240613T201240Z
LAST-MODIFIED:20240613T201240Z
UID:10005925-1717927800-1717928700@faithatfirst.org
SUMMARY:Holy Communion
DESCRIPTION:Holy Communion on Sundays that HC is not celebrated in the main service.
URL:https://faithatfirst.org/event/holy-communion/2024-06-09/
LOCATION:Glenna Hall
END:VEVENT
BEGIN:VEVENT
DTSTART;TZID=America/Chicago:20240609T103000
DTEND;TZID=America/Chicago:20240609T113000
DTSTAMP:20260423T030005
CREATED:20240613T201021Z
LAST-MODIFIED:20240613T201021Z
UID:10005912-1717929000-1717932600@faithatfirst.org
SUMMARY:10:30 am Worship in Tittle Chapel
DESCRIPTION:In the Summer\, we move our traditional 10:30 worship service to the beautiful (and air-conditioned) Tittle Chapel!
URL:https://faithatfirst.org/event/1030-am-worship-in-tittle-chapel/2024-06-09/
LOCATION:Tittle Chapel
END:VEVENT
BEGIN:VEVENT
DTSTART;TZID=UTC:20240611T083000
DTEND;TZID=UTC:20240611T110000
DTSTAMP:20260423T030005
CREATED:20230629T032723Z
LAST-MODIFIED:20230629T032854Z
UID:10004049-1718094600-1718103600@faithatfirst.org
SUMMARY:Producemobile (Volunteers Needed)
DESCRIPTION:Interfaith Action volunteers distribute 11\,000 pounds of fresh produce\, donated by the Greater Chicago Food Depository\, to Cook County residents in need. Numbered tickets are provided to guests\, who each receive 15-25 pounds of fruits and vegetables. There is a walk-up line and distribution takes place outside\, so bring a wheeled cart and/or strong bags with handles. \nAs part of the Producemobile program\, SNAPGap collects personal hygiene and cleaning products that cannot be purchased with federal benefits and distributes them to people in need. Member church communities donate and collect different items every month\, including toilet paper\, razors\, laundry detergent\, and soap. \nThe Producemobile is co-sponsored by the Greater Chicago Food Depository\, Interfaith Action of Evanston\, and the City of Evanston.  This initiative runs largely on volunteers.  Want to help?  Please sign up here: https://www.signupgenius.com/go/4090f4bafaf23a02-evanston#/.
URL:https://faithatfirst.org/event/producemobile-volunteers-needed/2024-06-11/
ATTACH;FMTTYPE=image/jpeg:https://faithatfirst.org/wp-content/uploads/2023/06/producemobile-007-aspect-ratio-1-1-Alli-Henry.jpg
END:VEVENT
BEGIN:VEVENT
DTSTART;TZID=UTC:20240611T190000
DTEND;TZID=UTC:20240611T203000
DTSTAMP:20260423T030005
CREATED:20231003T210740Z
LAST-MODIFIED:20231003T210800Z
UID:10005441-1718132400-1718137800@faithatfirst.org
SUMMARY:Church Council Meeting
DESCRIPTION:
URL:https://faithatfirst.org/event/church-council-meeting/2024-06-11/
LOCATION:Glenna Hall
END:VEVENT
BEGIN:VEVENT
DTSTART;TZID=UTC:20240612T100000
DTEND;TZID=UTC:20240612T110000
DTSTAMP:20260423T030005
CREATED:20230908T024328Z
LAST-MODIFIED:20241121T185340Z
UID:10003764-1718186400-1718190000@faithatfirst.org
SUMMARY:Coffee\, Conversation\, and Friends
DESCRIPTION:This group of women “of a certain age” meet on the second and fourth Wednesday of the month from 10:00 to 11:00 am. Year round we gather at LePeep in Evanston for informal conversations on a wide variety of topics: books\, the news\, restaurants\, grandchildren\, and places to visit. No matter what’s on the table\, we are all ears. Come join the conversation and make some new friends.
URL:https://faithatfirst.org/event/coffee-conversation-and-friends-6-2/2024-06-12/
END:VEVENT
BEGIN:VEVENT
DTSTART;TZID=UTC:20240612T190000
DTEND;TZID=UTC:20240612T201500
DTSTAMP:20260423T030005
CREATED:20230901T202623Z
LAST-MODIFIED:20230901T202623Z
UID:10005021-1718218800-1718223300@faithatfirst.org
SUMMARY:Membership Committee Meeting
DESCRIPTION:Monthly meeting of the Membership Committee Please address questions to Mark Henry\, Chair\, at mark.g.henry@gmail.com .
URL:https://faithatfirst.org/event/membership-committee-meeting-4/2024-06-12/
LOCATION:Conference Room
END:VEVENT
BEGIN:VEVENT
DTSTART;TZID=UTC:20240613T173000
DTEND;TZID=UTC:20240613T190000
DTSTAMP:20260423T030005
CREATED:20230714T003533Z
LAST-MODIFIED:20230714T003711Z
UID:10004102-1718299800-1718305200@faithatfirst.org
SUMMARY:Soup Kitchen
DESCRIPTION:As part of Interfaith Action of Evanston\, First Church hosts a weekly soup kitchen each Thursday evening.  A host team of First Church volunteers is needed each week\, and 5-6 times a year we also need cooking teams.   Interested in helping?  Please contact Dave Koester (davekoester57@gmail.com) about current scheduling needs.
URL:https://faithatfirst.org/event/soup-kitchen/2024-06-13/
LOCATION:Dining Room
ORGANIZER;CN="Dave Koester":MAILTO:davekoester57@gmail.com
END:VEVENT
BEGIN:VEVENT
DTSTART;TZID=UTC:20240613T190000
DTEND;TZID=UTC:20240613T203000
DTSTAMP:20260423T030005
CREATED:20230929T050554Z
LAST-MODIFIED:20231130T023256Z
UID:10005088-1718305200-1718310600@faithatfirst.org
SUMMARY:God's Story\, Our Stories (Bible Study Group)
DESCRIPTION:God’s Story\, Our Stories – Lectionary Bible Study Group\nYOU Are Invited! \nThe Lectionary Bible Study Group meets via zoom every Thursday night mid-September through mid-June from 7 – 8:30 p.m. We are a band of curious explorers\, reflecting upon the lectionary passages for the coming Sunday. We ask many questions. We have “ah ha” moments in our discussions. We attempt to unearth how these ancient stories inform our current day stories. We deeply seek to live out our best understanding of the heart of these stories week by week in the midst of our common humanity. Several group members rotate the facilitation. \nCome and join us! You may be placed on the group distribution list by contacting Bill Brown at bbrown@wwbrown-inc.com .
URL:https://faithatfirst.org/event/gods-story-our-story-bible-study-group-2-2/2024-06-13/
ORGANIZER;CN="Bill Brown":MAILTO:bbbrown@wwbrown-inc.com
END:VEVENT
BEGIN:VEVENT
DTSTART;TZID=UTC:20240613T190000
DTEND;TZID=UTC:20240613T210000
DTSTAMP:20260423T030005
CREATED:20230606T203604Z
LAST-MODIFIED:20230606T203747Z
UID:10003703-1718305200-1718312400@faithatfirst.org
SUMMARY:Limitless Game Night & Conversation
DESCRIPTION:The Limitless Game Night & Conversation is a virtual gathering to talk and play online games such as Codenames\, Scattergories\, Pictionary\, and several others.  Limitless is a group of adults\, singles and couples\, that span multiple ages and life stages.  New participants are always welcome. \nIf interested\, please contact Stephanie Peters at stephdeloney@gmail.com .
URL:https://faithatfirst.org/event/limitless-game-night-conversation/2024-06-13/
LOCATION:Zoom
ORGANIZER;CN="Stephanie Peters":MAILTO:stephdeloney@gmail.com
END:VEVENT
BEGIN:VEVENT
DTSTART;TZID=UTC:20240615T100000
DTEND;TZID=UTC:20240615T120000
DTSTAMP:20260423T030005
CREATED:20231017T234252Z
LAST-MODIFIED:20240403T224949Z
UID:10005477-1718445600-1718452800@faithatfirst.org
SUMMARY:Monthly Styrofoam Collection
DESCRIPTION:The Earth Care Committee holds its monthly Styrofoam collection time at First UMC Evanston on the third Saturday of the month at the Church Street entrance between 10am and Noon. Material to be collected includes all clean No. 6 plastic foam. Acceptable items include disposable coffee cups; take out containers (such as clamshells); plastic plates\, bowls and cutlery; meat and poultry foam trays and packing foam. Note: Items must be foam and marked with the No.6 symbol. \nWhen recycled\, these items can be processed into a material used to make park benches\, picture frames\, and other items. Recycling these items helps keep this harmful plastic\, which cannot be processed locally\, out of the waste stream.
URL:https://faithatfirst.org/event/monthly-styrofoam-collection/2024-06-15/
ORGANIZER;CN="Paula Scholl":MAILTO:scholl.paula2@gmail.com
END:VEVENT
BEGIN:VEVENT
DTSTART;TZID=America/Chicago:20240615T113000
DTEND;TZID=America/Chicago:20240615T130000
DTSTAMP:20260423T030005
CREATED:20240319T192540Z
LAST-MODIFIED:20240319T192540Z
UID:10005824-1718451000-1718456400@faithatfirst.org
SUMMARY:ASP Training
DESCRIPTION:This is a training meeting for all folks who are attending ASP on July 13-20th.
URL:https://faithatfirst.org/event/asp-training-6/2024-06-15/
END:VEVENT
BEGIN:VEVENT
DTSTART;TZID=UTC:20240616T173000
DTEND;TZID=UTC:20240616T193000
DTSTAMP:20260423T030005
CREATED:20231011T081756Z
LAST-MODIFIED:20231011T081904Z
UID:10004462-1718559000-1718566200@faithatfirst.org
SUMMARY:Young Adult Potluck
DESCRIPTION:Calling all Young Adults!  We are gathering for potlucks on the 1st and 3rd Sunday of the month at 5:30pm. Feel free to bring your favorite side item or dessert! Contact Sydney Harkrider at sydney@faithatfirst.com for the location!
URL:https://faithatfirst.org/event/young-adult-potluck-2-2/2024-06-16/
END:VEVENT
BEGIN:VEVENT
DTSTART;TZID=UTC:20240618T190000
DTEND;TZID=UTC:20240618T200000
DTSTAMP:20260423T030005
CREATED:20230731T190726Z
LAST-MODIFIED:20230731T191007Z
UID:10004335-1718737200-1718740800@faithatfirst.org
SUMMARY:Faith Formation Council meeting
DESCRIPTION:The Faith Formation Council meets on the third Tuesday of each month\, 7-8pm online.   Questions may be directed to Tom Scott (tom.scott.goblue@msn.com)\, who co-chairs this committee along with Lee Rader.
URL:https://faithatfirst.org/event/faith-formation-council-meeting/2024-06-18/
LOCATION:Zoom
ORGANIZER;CN="Tom Scott":MAILTO:tom.scott.goblue@msn.com
END:VEVENT
BEGIN:VEVENT
DTSTART;TZID=UTC:20240620T190000
DTEND;TZID=UTC:20240620T203000
DTSTAMP:20260423T030005
CREATED:20231108T022253Z
LAST-MODIFIED:20231108T022253Z
UID:10005560-1718910000-1718915400@faithatfirst.org
SUMMARY:SPRC Monthly Meeting
DESCRIPTION:Monthly meeting of the Staff Parish Relations Committee. Please address questions about this group to Beth Swanick\, Chair.
URL:https://faithatfirst.org/event/sprc-monthly-meeting-2/2024-06-20/
END:VEVENT
BEGIN:VEVENT
DTSTART;TZID=America/Chicago:20240622T183000
DTEND;TZID=America/Chicago:20240622T203000
DTSTAMP:20260423T030005
CREATED:20240604T205610Z
LAST-MODIFIED:20240604T205610Z
UID:10005868-1719081000-1719088200@faithatfirst.org
SUMMARY:Summer Couples Salon
DESCRIPTION:Come join Couples Salon on June 22nd as we celebrate summer outdoors (fingers crossed!) at the Federers’ home in Evanston. Clark and Linda and Mike Bergmann and Rob Meyer are co-hosting this fun evening of good food (Green Chili Enchiladas by Rob!) and fellowship\, which will begin at 6:30 pm. \nPlease RSVP to Linda by text at 224-420-0999 or by email at Lfederer30@gmail.com to let her know you are coming\, and whether you are bringing an appetizer\, dessert or side dish to share.
URL:https://faithatfirst.org/event/summer-couples-salon/
END:VEVENT
BEGIN:VEVENT
DTSTART;VALUE=DATE:20240624
DTEND;VALUE=DATE:20240625
DTSTAMP:20260423T030005
CREATED:20240327T202418Z
LAST-MODIFIED:20240327T202418Z
UID:10005843-1719187200-1719273599@faithatfirst.org
SUMMARY:Creation Camp 2024: "Linked by Love"
DESCRIPTION:First Church’s Children’s and Youth Ministry programs are returning to Camp Wesley Woods in Williams Bay\, Wisconsin. Join us for a four-day overnight camp experience suitable for children and youth entering grades 3-8 in the fall of 2024 as together we seek to create life-giving relationships and life-changing memories. \n  \nLearn more and register at https://faithatfirst.regfox.com/creation-camp-2024.
URL:https://faithatfirst.org/event/creation-camp-2024-linked-by-love/2024-06-24/
END:VEVENT
BEGIN:VEVENT
DTSTART;TZID=UTC:20240626T100000
DTEND;TZID=UTC:20240626T110000
DTSTAMP:20260423T030005
CREATED:20230608T002343Z
LAST-MODIFIED:20250922T182943Z
UID:10003824-1719396000-1719399600@faithatfirst.org
SUMMARY:Coffee\, Conversation\, and Friends
DESCRIPTION:This group of women “of a certain age” meet on the second and fourth Wednesday of the month from 10:00 to 11:00 am. We meet at Le Peep in Evanston for informal conversations on a wide variety of topics: books\, the news\, restaurants\, grandchildren\, and places to visit. No matter what’s on the table\, we are all ears. Come join the conversation and make some new friends.
URL:https://faithatfirst.org/event/coffee-conversation-and-friends-7/2024-06-26/
END:VEVENT
BEGIN:VEVENT
DTSTART;TZID=America/Chicago:20240626T183000
DTEND;TZID=America/Chicago:20240626T203000
DTSTAMP:20260423T030005
CREATED:20240611T192425Z
LAST-MODIFIED:20240611T192425Z
UID:10005879-1719426600-1719433800@faithatfirst.org
SUMMARY:Mom's Night Out
DESCRIPTION:Happy Summer! Come celebrate with us! \nStephanie Peters Host and Jackie Owens Cohost 6:30-8:30 pm \nRSVP to Stephanie at stephdeloney@gmail.com \n(Stephanie Deloney Peters) \nThis MNO will hopefully be in Stephanie’s beautiful backyard! You can bring something to share IF you want (No guilt!) \nThank you to Mari Leonard and Debbie Zimmerman for a wonderful patio party – the charcuterie board and salads were awesome! The rain cleared and we were able to enjoy Mari’s creativity with outdoor spaces!. \nThank you to EVERY host and Cohost and Participant of MNO! It has been a wonderful year to make new friends and reconnect! \nSave the Date! \nSept at Cherie Asante’s
URL:https://faithatfirst.org/event/moms-night-out-14/
END:VEVENT
BEGIN:VEVENT
DTSTART;TZID=UTC:20240703T190000
DTEND;TZID=UTC:20240703T201500
DTSTAMP:20260423T030005
CREATED:20240130T212101Z
LAST-MODIFIED:20240130T212156Z
UID:10005737-1720033200-1720037700@faithatfirst.org
SUMMARY:Communications Committee Meeting
DESCRIPTION:Monthly meeting of the Communications Committee. Contact Chair Andy Shotwell with questions at ashotwell@gmail.com .
URL:https://faithatfirst.org/event/communications-committee-meeting-9-2/2024-07-03/
LOCATION:Zoom
END:VEVENT
BEGIN:VEVENT
DTSTART;TZID=UTC:20240707T173000
DTEND;TZID=UTC:20240707T193000
DTSTAMP:20260423T030005
CREATED:20230901T011307Z
LAST-MODIFIED:20230929T063156Z
UID:10004523-1720373400-1720380600@faithatfirst.org
SUMMARY:Young Adults Potluck
DESCRIPTION:Calling all Young Adults! We are resuming our potlucks every 1st and 3rd Sunday of the month at 5:30 pm starting on September 17th. Feel free to bring your favorite side item or dessert! Contact Sydney at sydney@faithatfirst.com for the location!
URL:https://faithatfirst.org/event/young-adult-potluck-3/2024-07-07/
END:VEVENT
BEGIN:VEVENT
DTSTART;VALUE=DATE:20240713
DTEND;VALUE=DATE:20240721
DTSTAMP:20260423T030006
CREATED:20231223T032457Z
LAST-MODIFIED:20231223T032457Z
UID:10005704-1720828800-1721519999@faithatfirst.org
SUMMARY:Appalachia Service Project
DESCRIPTION:Our youth ministry serves the Appalachia area every Summer\, and we are returning once more! We have been placed in Tennessee and it’s time to start getting our group together! Appalachia Service Project is a week of service work for youth to help in various ways. We’ve built wheelchair ramps\, painted houses\, or even just some basic home repairs. This is a week of showing God’s love in action\, and we’d love for as many youth to come with us! Contact Sydney for more details.
URL:https://faithatfirst.org/event/appalachia-service-project/
END:VEVENT
BEGIN:VEVENT
DTSTART;TZID=America/Chicago:20240717T120000
DTEND;TZID=America/Chicago:20240717T131500
DTSTAMP:20260423T030006
CREATED:20240710T003201Z
LAST-MODIFIED:20240710T003201Z
UID:10005939-1721217600-1721222100@faithatfirst.org
SUMMARY:Summer Lunch Bunch
DESCRIPTION:Our first Summer Lunch Bunch is Wednesday\, July 17\, with Pastor Britt Cox\, Colin McDonald\, and Mary Taylor-Johnson. BYO lunch and gather at Fountain Square from noon to 1:15pm to enjoy informal conversation together. (Rain location: Church dining room.)  Sign up so we know to look for you. \nYour staff misses the casual conversations of our program year potlucks and so we are planning two of three pop-up lunch gatherings between now and Rally Day (Sept. 8).  Bring your lunch or pick it up on the way and gather at a specified downtown Evanston location on selected Wednesdays. \nSign up now for July 17 and watch the E-News for future dates!
URL:https://faithatfirst.org/event/summer-lunch-bunch/
LOCATION:Fountain Square
ORGANIZER;CN="Mary Taylor-Johnson":MAILTO:mary@faithatfirst.com
END:VEVENT
BEGIN:VEVENT
DTSTART;TZID=America/Chicago:20240720T090000
DTEND;TZID=America/Chicago:20240720T110000
DTSTAMP:20260423T030006
CREATED:20240618T200701Z
LAST-MODIFIED:20240619T185648Z
UID:10005938-1721466000-1721473200@faithatfirst.org
SUMMARY:First Hands Clark Street Beach Bird Sanctuary Event
DESCRIPTION:Enjoy this beautiful setting and camaraderie as we help with weeding\, watering\,…or whatever needs to be done that day. Bring water\, a hat\, sunglasses and gardening gloves if you have. If no\, they have extras. Just north of the Clark Street Beach entrance\, between the bike path and the beach. If you’re up for it\, stick around once our shift is over for a BYO lunch/snack at a nearby picnic table. It’s our 4th (5th?) year here\, and they are happy to have us back again! Please respond to First Hands leader Rebecca Beiter via email to bob.beiter@comcast.net to sign up. Rebecca will forward the city waiver that needs to be completed annually as well as further details.  Come join us!
URL:https://faithatfirst.org/event/first-hands-clark-street-beach-bird-sanctuary-event/
END:VEVENT
BEGIN:VEVENT
DTSTART;TZID=UTC:20240728T173000
DTEND;TZID=UTC:20240728T193000
DTSTAMP:20260423T030006
CREATED:20250522T185148Z
LAST-MODIFIED:20250522T185148Z
UID:10009408-1722187800-1722195000@faithatfirst.org
SUMMARY:Young Adult Potluck
DESCRIPTION:Calling all Young Adults!  Join us for our Potlucks every other week at 5:30pm. Feel free to bring your favorite side item or dessert! Contact Sydney Harkrider at sydney@faithatfirst.com for the location!
URL:https://faithatfirst.org/event/young-adult-potluck-9/
ORGANIZER;CN="Sydney Harkrider":MAILTO:sydney@faithatfirst.com
END:VEVENT
BEGIN:VEVENT
DTSTART;TZID=America/Chicago:20240731T120000
DTEND;TZID=America/Chicago:20240731T131500
DTSTAMP:20260423T030006
CREATED:20240730T142313Z
LAST-MODIFIED:20240730T154247Z
UID:10006030-1722427200-1722431700@faithatfirst.org
SUMMARY:Summer Lunch Bunch
DESCRIPTION:Our second Summer Lunch Bunch gathering is Wednesday\, July 31\, with Pastor Britt Cox\, Colin McDonald\, and Mary Taylor-Johnson. BYO lunch and gather at Fountain Square from noon to 1:15pm to enjoy informal conversation together. (Rain location: Church dining room.)  Sign up so we know to look for you and can let you know if we are moving indoors. \nYour staff misses the casual conversations of our program year potlucks and so we have planned a few pop-up lunch gatherings before Rally Day (Sept. 8).  Bring your lunch or pick it up on the way and come as you are. \nSign up now for July 31 and watch the E-News for future dates!
URL:https://faithatfirst.org/event/summer-lunch-bunch-2/
LOCATION:Fountain Square
ORGANIZER;CN="Mary Taylor-Johnson":MAILTO:mary@faithatfirst.com
END:VEVENT
END:VCALENDAR