BEGIN:VCALENDAR
VERSION:2.0
PRODID:-//First United Methodist Church of Evanston, IL - ECPv6.15.20//NONSGML v1.0//EN
CALSCALE:GREGORIAN
METHOD:PUBLISH
X-ORIGINAL-URL:https://faithatfirst.org
X-WR-CALDESC:Events for First United Methodist Church of Evanston, IL
REFRESH-INTERVAL;VALUE=DURATION:PT1H
X-Robots-Tag:noindex
X-PUBLISHED-TTL:PT1H
BEGIN:VTIMEZONE
TZID:UTC
BEGIN:STANDARD
TZOFFSETFROM:+0000
TZOFFSETTO:+0000
TZNAME:UTC
DTSTART:20220101T000000
END:STANDARD
END:VTIMEZONE
BEGIN:VEVENT
DTSTART;TZID=UTC:20231231T091500
DTEND;TZID=UTC:20231231T221500
DTSTAMP:20260425T225558
CREATED:20231207T042626Z
LAST-MODIFIED:20231207T042626Z
UID:10005696-1704014100-1704060900@faithatfirst.org
SUMMARY:Adult Connection
DESCRIPTION:All adults welcome for coffee and conversation with First Church friends!
URL:https://faithatfirst.org/event/adult-connection/
LOCATION:Glenna Hall
END:VEVENT
BEGIN:VEVENT
DTSTART;TZID=UTC:20231231T103000
DTEND;TZID=UTC:20231231T113000
DTSTAMP:20260425T225558
CREATED:20230901T005921Z
LAST-MODIFIED:20230901T005921Z
UID:10004430-1704018600-1704022200@faithatfirst.org
SUMMARY:10:30 Worship in the Sanctuary
DESCRIPTION:All are welcome to 10:30 worship in our Sactuary. \nDetails each Sunday can be found at https://faithatfirst.org/gather/worship-services/worship-this-sunday/ 
URL:https://faithatfirst.org/event/1030-worship-in-the-sanctuary/2023-12-31/
LOCATION:Sanctuary
END:VEVENT
BEGIN:VEVENT
DTSTART;TZID=UTC:20240102T140000
DTEND;TZID=UTC:20240102T153000
DTSTAMP:20260425T225558
CREATED:20230818T201831Z
LAST-MODIFIED:20230818T201831Z
UID:10004369-1704204000-1704209400@faithatfirst.org
SUMMARY:Archives Committee
DESCRIPTION:
URL:https://faithatfirst.org/event/archives-committee/2024-01-02/
END:VEVENT
BEGIN:VEVENT
DTSTART;TZID=UTC:20240102T190000
DTEND;TZID=UTC:20240102T200000
DTSTAMP:20260425T225558
CREATED:20230818T200903Z
LAST-MODIFIED:20230818T200903Z
UID:10004352-1704222000-1704225600@faithatfirst.org
SUMMARY:Mission & Outreach Committee Meeting
DESCRIPTION:Mission & Outreach Committee Meeting. Monthly meetings are open to members of the committee. Hosted by Alli Henry\, alli.m.henry@gmail.com.
URL:https://faithatfirst.org/event/mission-outreach-committee-meeting-4/2024-01-02/
LOCATION:Conference Room
END:VEVENT
BEGIN:VEVENT
DTSTART;TZID=UTC:20240102T190000
DTEND;TZID=UTC:20240102T210000
DTSTAMP:20260425T225558
CREATED:20231223T033331Z
LAST-MODIFIED:20231223T033331Z
UID:10005707-1704222000-1704229200@faithatfirst.org
SUMMARY:First Reads Book Group
DESCRIPTION:The January book is Herland by Charlotte Gilman Perkins.\nThis book group is open to all. Contact Janet Lutz for zoom information and book calendar.
URL:https://faithatfirst.org/event/first-reads-book-group/
END:VEVENT
BEGIN:VEVENT
DTSTART;TZID=UTC:20240102T193000
DTEND;TZID=UTC:20240102T210000
DTSTAMP:20260425T225558
CREATED:20230908T215809Z
LAST-MODIFIED:20230908T215809Z
UID:10005116-1704223800-1704229200@faithatfirst.org
SUMMARY:First Books
DESCRIPTION:
URL:https://faithatfirst.org/event/first-books-2/2024-01-02/
LOCATION:Glenna Hall
END:VEVENT
BEGIN:VEVENT
DTSTART;TZID=UTC:20240102T203000
DTEND;TZID=UTC:20240102T210000
DTSTAMP:20260425T225558
CREATED:20231108T025908Z
LAST-MODIFIED:20231108T025908Z
UID:10005586-1704227400-1704229200@faithatfirst.org
SUMMARY:Compline Night Prayer Service
DESCRIPTION:On Tuesdays beginning January 2nd\, you are invited to a thirty minute Night Prayer Service to end your day in community and peace. These services from 8:30 p.m. to 9:00 p.m.\, available via Zoom\, are patterned after the ancient monastic tradition of Compline (meaning completion)–the final prayer of the day. We will follow a simple liturgical format for this service of quietness and reflection before rest. Persons of all ages are encouraged to give this spiritual practice a try. The zoom format invites participation from anywhere! We are enriched when family & friends in many locations join in. The services\, sponsored by the Faith Formation Council\, will continue through Lent\, concluding on March 19th. Participants may attend as schedules allow. Contact Tom Scott (tom.scott.goblue@msn.com) to sign up or with questions.
URL:https://faithatfirst.org/event/compline-night-prayer-service-3/2024-01-02/
END:VEVENT
BEGIN:VEVENT
DTSTART;TZID=UTC:20240103T100000
DTEND;TZID=UTC:20240103T113000
DTSTAMP:20260425T225558
CREATED:20231115T233436Z
LAST-MODIFIED:20231115T233438Z
UID:10005393-1704276000-1704281400@faithatfirst.org
SUMMARY:Wednesday Bible Study
DESCRIPTION:The Wednesday Bible Study is a longstanding group that welcomes new persons.  The group meets online every Wednesday 10-11:30am with the exception of a short break in the summer.  \nNew participants are always welcome. Please contact Janet Lutz at janetatl@aol.com if you are interested. 
URL:https://faithatfirst.org/event/wednesday-bible-study-20-2-3/
LOCATION:online
ORGANIZER;CN="Janet Lutz":MAILTO:janetatl@aol.com
END:VEVENT
BEGIN:VEVENT
DTSTART;TZID=UTC:20240103T100000
DTEND;TZID=UTC:20240103T113000
DTSTAMP:20260425T225558
CREATED:20231223T033719Z
LAST-MODIFIED:20231223T033719Z
UID:10005708-1704276000-1704281400@faithatfirst.org
SUMMARY:Wednesday Morning Bible Study
DESCRIPTION:On 1/3/2024 we will begin the 10 week study of Eve Isn’t Evil by Julie Faith Parker. It is available through Cokesbury.com or from Amazon.\nContact Janet Lutz to be added to email list.
URL:https://faithatfirst.org/event/wednesday-morning-bible-study-2/
END:VEVENT
BEGIN:VEVENT
DTSTART;TZID=UTC:20240104T173000
DTEND;TZID=UTC:20240104T190000
DTSTAMP:20260425T225558
CREATED:20230714T003533Z
LAST-MODIFIED:20230714T003711Z
UID:10004079-1704389400-1704394800@faithatfirst.org
SUMMARY:Soup Kitchen
DESCRIPTION:As part of Interfaith Action of Evanston\, First Church hosts a weekly soup kitchen each Thursday evening.  A host team of First Church volunteers is needed each week\, and 5-6 times a year we also need cooking teams.   Interested in helping?  Please contact Dave Koester (davekoester57@gmail.com) about current scheduling needs.
URL:https://faithatfirst.org/event/soup-kitchen/2024-01-04/
LOCATION:Dining Room
ORGANIZER;CN="Dave Koester":MAILTO:davekoester57@gmail.com
END:VEVENT
BEGIN:VEVENT
DTSTART;TZID=UTC:20240104T190000
DTEND;TZID=UTC:20240104T203000
DTSTAMP:20260425T225558
CREATED:20230929T050554Z
LAST-MODIFIED:20231130T023256Z
UID:10005065-1704394800-1704400200@faithatfirst.org
SUMMARY:God's Story\, Our Stories (Bible Study Group)
DESCRIPTION:God’s Story\, Our Stories – Lectionary Bible Study Group\nYOU Are Invited! \nThe Lectionary Bible Study Group meets via zoom every Thursday night mid-September through mid-June from 7 – 8:30 p.m. We are a band of curious explorers\, reflecting upon the lectionary passages for the coming Sunday. We ask many questions. We have “ah ha” moments in our discussions. We attempt to unearth how these ancient stories inform our current day stories. We deeply seek to live out our best understanding of the heart of these stories week by week in the midst of our common humanity. Several group members rotate the facilitation. \nCome and join us! You may be placed on the group distribution list by contacting Bill Brown at bbrown@wwbrown-inc.com .
URL:https://faithatfirst.org/event/gods-story-our-story-bible-study-group-2-2/2024-01-04/
ORGANIZER;CN="Bill Brown":MAILTO:bbbrown@wwbrown-inc.com
END:VEVENT
BEGIN:VEVENT
DTSTART;TZID=UTC:20240107T090000
DTEND;TZID=UTC:20240107T101500
DTSTAMP:20260425T225558
CREATED:20231026T224922Z
LAST-MODIFIED:20231026T224924Z
UID:10005098-1704618000-1704622500@faithatfirst.org
SUMMARY:Messy Church!
DESCRIPTION:Messy Church is Christ-centered. Messy Church is creative. Messy Church is for all ages. Messy Church is where YOU belong! \nLife is rarely neat and tidy. But God isn’t afraid to enter the mess. \nMessy Church is an opportunity for children\, families\, and adults to engage in hands-on creative activities\, celebratory worship\, and time together in community. Join us for a different kind of Sunday School for children and adults on the first Sunday of each month from 9:00-10:15 a.m. in Great Hall\, through May. \nPlease register for any sessions you plan to attend to aid in estimating food and materials.
URL:https://faithatfirst.org/event/messy-church-3-2/2024-01-07/
LOCATION:Great Hall
END:VEVENT
BEGIN:VEVENT
DTSTART;TZID=UTC:20240107T091500
DTEND;TZID=UTC:20240107T101500
DTSTAMP:20260425T225558
CREATED:20231108T024659Z
LAST-MODIFIED:20231213T034617Z
UID:10005571-1704618900-1704622500@faithatfirst.org
SUMMARY:Inquirers Class
DESCRIPTION:In the Inquirers Class participants will explore: \n\nFirst Church\, its people and ministries;\nMethodist theology and the United Methodist denomination\nTheir individual faith journey:  How did this journey start for me?  Where am I now\, and what questions am I wrestling with? What I do I need to nourish me as I continue on this journey?\n\nThe goal of Inquirers is to offer church visitors and friends an up close look at this faith community so that Inquirers participants can discern whether they want to take membership vows at First Church. \nSince the church community is such an important piece of discerning whether one feels a sense of belonging in a church\, the class includes interactive elements and opportunities to build community and serve together outside of Sunday mornings.   Additional details are available here. \nInterested in participating?  Want to talk further about this opportunity?  Please contact Mary Taylor-Johnson at mary@faithatfirst.com .
URL:https://faithatfirst.org/event/inquirers-class-15/
LOCATION:Glenna Hall
END:VEVENT
BEGIN:VEVENT
DTSTART;TZID=UTC:20240107T093000
DTEND;TZID=UTC:20240107T101500
DTSTAMP:20260425T225558
CREATED:20230616T001758Z
LAST-MODIFIED:20230616T001758Z
UID:10003934-1704619800-1704622500@faithatfirst.org
SUMMARY:Chancel Choir Rehearsal
DESCRIPTION:Adults and high school youth rehearse music for worship in the Chancel at the front of the Sanctuary. No audition required. Email Dr. Brian Schoettler for more information.
URL:https://faithatfirst.org/event/chancel-choir-rehearsal-103/2024-01-07/
LOCATION:Sanctuary
END:VEVENT
BEGIN:VEVENT
DTSTART;TZID=UTC:20240107T113000
DTEND;TZID=UTC:20240107T133000
DTSTAMP:20260425T225558
CREATED:20230901T011742Z
LAST-MODIFIED:20230901T011742Z
UID:10004835-1704627000-1704634200@faithatfirst.org
SUMMARY:Methodist Youth Fellowship
DESCRIPTION:It’s time to start up Youth Ministry again! All youth are invited to come at Methodist Youth Fellowship every 1st and 3rd Sunday right after service from 11:30-1:30pm starting on September 17th. We will have lunch\, play games\, and have time to gather to talk about where we are at in life. This will be our main time to gather as youth to get to know one another. I urge all youth to come hang out and be part of this community! Contact Sydney for more information.
URL:https://faithatfirst.org/event/methodist-youth-fellowship-2/2024-01-07/
LOCATION:Room M
END:VEVENT
BEGIN:VEVENT
DTSTART;TZID=UTC:20240107T140000
DTEND;TZID=UTC:20240107T150000
DTSTAMP:20260425T225558
CREATED:20231018T035423Z
LAST-MODIFIED:20231018T040743Z
UID:10004398-1704636000-1704639600@faithatfirst.org
SUMMARY:Covenant Hike Group
DESCRIPTION:“I love to think of nature as an unlimited broadcasting station\, through which God speaks to us every hour\, if we will only tune in.” – George Washington Carver \nThe Covenant Hike Group invites all who have a wonder of the natural world to share nature immersion with each other through 3 seasons while experiencing the presence of God. The format is simple. We begin with a brief reading (scripture or poem)\, hike along while sharing joys and concerns\, and appreciate 5 minutes of silence at mid-point. Each hike concludes with an optional\, brief time of sharing about our experiences on the hike\, closing prayer\, and a cool or hot drink! All ages are welcomed! \nOn the First Sunday of each month (October through May) we will meet at a designated location at 2 p.m.\, hiking various paths in our area for about an hour at a comfortable pace for everyone. The group will meet each first Sunday through May and participants may join in as schedules allow. \nAll who participate are welcomed to share in ownership. The wonder of the natural world and God’s presence in it is limitless. \nFacilitators: Jim Johnson and Lee Rader. If interested\, please contact Jim at jjohnso@luc.edu to be placed on the distribution list.
URL:https://faithatfirst.org/event/covenant-hike-group-2/2024-01-07/
END:VEVENT
BEGIN:VEVENT
DTSTART;TZID=UTC:20240107T170000
DTEND;TZID=UTC:20240107T190000
DTSTAMP:20260425T225558
CREATED:20231017T235500Z
LAST-MODIFIED:20231017T235500Z
UID:10005480-1704646800-1704654000@faithatfirst.org
SUMMARY:Faith Around The Table
DESCRIPTION:Are you hungry for deeper discussion with members of your First Church community that goes beyond the usual Sunday morning chit chat (as lovely as that may be)? This new group is for you! Once a month\, we’ll gather for a potluck dinner and discuss a topic or prompt relating to faith and spirituality. We may explore a question or theme from a recent sermon\, or try answering John Wesley’s favorite question: “How is it with your soul?” Topics will vary based on the group’s input. Andrew and Amy Schumacher will lead the group and host the first meeting with potential for others to host subsequent dinners or use church space. All are welcome\, this is NOT a couples group. Monthly dinners will be on first Sundays from 5pm to 7pm with the first meeting on Nov. 5th. The group will commit to six months and then reassess. Please email Andrew (andrew.r.schumacher@gmail.com) with questions or to sign up. Due to nature of the group\, we’ll limit to six or seven additional participants. Come join us for good food and real honest discussion!
URL:https://faithatfirst.org/event/faith-around-the-table/2024-01-07/
END:VEVENT
BEGIN:VEVENT
DTSTART;TZID=UTC:20240107T173000
DTEND;TZID=UTC:20240107T193000
DTSTAMP:20260425T225558
CREATED:20230901T011307Z
LAST-MODIFIED:20230929T063156Z
UID:10004517-1704648600-1704655800@faithatfirst.org
SUMMARY:Young Adults Potluck
DESCRIPTION:Calling all Young Adults! We are resuming our potlucks every 1st and 3rd Sunday of the month at 5:30 pm starting on September 17th. Feel free to bring your favorite side item or dessert! Contact Sydney at sydney@faithatfirst.com for the location!
URL:https://faithatfirst.org/event/young-adult-potluck-3/2024-01-07/
END:VEVENT
BEGIN:VEVENT
DTSTART;TZID=UTC:20240109T083000
DTEND;TZID=UTC:20240109T110000
DTSTAMP:20260425T225558
CREATED:20230629T032723Z
LAST-MODIFIED:20230629T032854Z
UID:10004044-1704789000-1704798000@faithatfirst.org
SUMMARY:Producemobile (Volunteers Needed)
DESCRIPTION:Interfaith Action volunteers distribute 11\,000 pounds of fresh produce\, donated by the Greater Chicago Food Depository\, to Cook County residents in need. Numbered tickets are provided to guests\, who each receive 15-25 pounds of fruits and vegetables. There is a walk-up line and distribution takes place outside\, so bring a wheeled cart and/or strong bags with handles. \nAs part of the Producemobile program\, SNAPGap collects personal hygiene and cleaning products that cannot be purchased with federal benefits and distributes them to people in need. Member church communities donate and collect different items every month\, including toilet paper\, razors\, laundry detergent\, and soap. \nThe Producemobile is co-sponsored by the Greater Chicago Food Depository\, Interfaith Action of Evanston\, and the City of Evanston.  This initiative runs largely on volunteers.  Want to help?  Please sign up here: https://www.signupgenius.com/go/4090f4bafaf23a02-evanston#/.
URL:https://faithatfirst.org/event/producemobile-volunteers-needed/2024-01-09/
ATTACH;FMTTYPE=image/jpeg:https://faithatfirst.org/wp-content/uploads/2023/06/producemobile-007-aspect-ratio-1-1-Alli-Henry.jpg
END:VEVENT
BEGIN:VEVENT
DTSTART;TZID=UTC:20240109T190000
DTEND;TZID=UTC:20240109T203000
DTSTAMP:20260425T225558
CREATED:20231003T210740Z
LAST-MODIFIED:20231003T210800Z
UID:10005436-1704826800-1704832200@faithatfirst.org
SUMMARY:Church Council Meeting
DESCRIPTION:
URL:https://faithatfirst.org/event/church-council-meeting/2024-01-09/
LOCATION:Glenna Hall
END:VEVENT
BEGIN:VEVENT
DTSTART;TZID=UTC:20240110T100000
DTEND;TZID=UTC:20240110T110000
DTSTAMP:20260425T225558
CREATED:20230908T024328Z
LAST-MODIFIED:20241121T185340Z
UID:10003759-1704880800-1704884400@faithatfirst.org
SUMMARY:Coffee\, Conversation\, and Friends
DESCRIPTION:This group of women “of a certain age” meet on the second and fourth Wednesday of the month from 10:00 to 11:00 am. Year round we gather at LePeep in Evanston for informal conversations on a wide variety of topics: books\, the news\, restaurants\, grandchildren\, and places to visit. No matter what’s on the table\, we are all ears. Come join the conversation and make some new friends.
URL:https://faithatfirst.org/event/coffee-conversation-and-friends-6-2/2024-01-10/
END:VEVENT
BEGIN:VEVENT
DTSTART;TZID=UTC:20240110T171500
DTEND;TZID=UTC:20240110T180000
DTSTAMP:20260425T225558
CREATED:20230616T001941Z
LAST-MODIFIED:20230616T001941Z
UID:10003972-1704906900-1704909600@faithatfirst.org
SUMMARY:Children's Choir Rehearsal
DESCRIPTION:Children in grades 1-6 rehearse weekly and sing in worship monthly. No audition is required and new singers are welcome throughout the year. For more information\, email Dr. Brian Schoettler.
URL:https://faithatfirst.org/event/childrens-choir-rehearsal-26/2024-01-10/
END:VEVENT
BEGIN:VEVENT
DTSTART;TZID=UTC:20240110T190000
DTEND;TZID=UTC:20240110T201500
DTSTAMP:20260425T225558
CREATED:20230901T202623Z
LAST-MODIFIED:20230901T202623Z
UID:10005016-1704913200-1704917700@faithatfirst.org
SUMMARY:Membership Committee Meeting
DESCRIPTION:Monthly meeting of the Membership Committee Please address questions to Mark Henry\, Chair\, at mark.g.henry@gmail.com .
URL:https://faithatfirst.org/event/membership-committee-meeting-4/2024-01-10/
LOCATION:Conference Room
END:VEVENT
BEGIN:VEVENT
DTSTART;TZID=UTC:20240111T190000
DTEND;TZID=UTC:20240111T210000
DTSTAMP:20260425T225558
CREATED:20230606T203604Z
LAST-MODIFIED:20230606T203747Z
UID:10003698-1704999600-1705006800@faithatfirst.org
SUMMARY:Limitless Game Night & Conversation
DESCRIPTION:The Limitless Game Night & Conversation is a virtual gathering to talk and play online games such as Codenames\, Scattergories\, Pictionary\, and several others.  Limitless is a group of adults\, singles and couples\, that span multiple ages and life stages.  New participants are always welcome. \nIf interested\, please contact Stephanie Peters at stephdeloney@gmail.com .
URL:https://faithatfirst.org/event/limitless-game-night-conversation/2024-01-11/
LOCATION:Zoom
ORGANIZER;CN="Stephanie Peters":MAILTO:stephdeloney@gmail.com
END:VEVENT
BEGIN:VEVENT
DTSTART;TZID=UTC:20240114T091500
DTEND;TZID=UTC:20240114T101500
DTSTAMP:20260425T225558
CREATED:20230907T003158Z
LAST-MODIFIED:20231222T024345Z
UID:10005314-1705223700-1705227300@faithatfirst.org
SUMMARY:Faith & Parenting
DESCRIPTION:Faith & Parenting offers a weekly space for parents of children at all stages to share and reflect on how their personal and familial faith journeys are nurtured and challenged through the vocation of parenting. Brief guided reflections based on scriptures shared in Children’s Sunday school will accompany each session.
URL:https://faithatfirst.org/event/faith-parenting/2024-01-14/
LOCATION:Room 24
END:VEVENT
BEGIN:VEVENT
DTSTART;TZID=UTC:20240114T104500
DTEND;TZID=UTC:20240114T113000
DTSTAMP:20260425T225558
CREATED:20230908T220915Z
LAST-MODIFIED:20230908T220915Z
UID:10005164-1705229100-1705231800@faithatfirst.org
SUMMARY:Children's Chapel
DESCRIPTION:Children’s Chapel seeks to excite and build confidence in children’s experience of worship and sense of belonging at First Church. Children ages three through 3rd grade are invited to experience the wonder of worship and joy of service in a lively\, child-friendly setting. Throughout the program year\, children take part in the seasons of the Christian year\, exploring rituals\, sacraments\, and songs of our worship tradition as well as hands-on aspects of our church mission that children might shape and help share the story of our faith.
URL:https://faithatfirst.org/event/childrens-chapel-37/2024-01-14/
END:VEVENT
BEGIN:VEVENT
DTSTART;TZID=UTC:20240114T104500
DTEND;TZID=UTC:20240114T113000
DTSTAMP:20260425T225558
CREATED:20230908T221353Z
LAST-MODIFIED:20230908T221353Z
UID:10005192-1705229100-1705231800@faithatfirst.org
SUMMARY:Connect456
DESCRIPTION:Connect456 is designed to help children in grades 4-6 connect to the church community as older elementary and middle school students preparing to make their own way at First Church. Each week features a unique means of connecting\, including serving in leadership with younger children\, learning about our church history and United Methodist identity\, observing worship and more!
URL:https://faithatfirst.org/event/connect456-9/2024-01-14/
END:VEVENT
BEGIN:VEVENT
DTSTART;TZID=UTC:20240114T113000
DTEND;TZID=UTC:20240114T120000
DTSTAMP:20260425T225558
CREATED:20231108T030549Z
LAST-MODIFIED:20231108T030549Z
UID:10005601-1705231800-1705233600@faithatfirst.org
SUMMARY:Earth Care Lending Library
DESCRIPTION:Earth Care Lending Library Open on November 12\nLooking for a place to continue growing in your understanding of environmental justice\nand how to care for God’s creation? Visit the Earth Care Lending Library\, which is open every 2nd Sunday after worship in Great Hall. A small lending library with books for readers of all ages\, the titles were curated by the Earth Care Committee and include Newbery Award-winning children’s\nbooks\, as well as titles by leading voices from the spiritual and scientific communities. Check it out!
URL:https://faithatfirst.org/event/earth-care-lending-library/2024-01-14/
LOCATION:Great Hall
END:VEVENT
BEGIN:VEVENT
DTSTART;TZID=UTC:20240115T105000
DTEND;TZID=UTC:20240115T123000
DTSTAMP:20260425T225559
CREATED:20230921T223204Z
LAST-MODIFIED:20240109T225330Z
UID:10005369-1705315800-1705321800@faithatfirst.org
SUMMARY:Walk For Warmth
DESCRIPTION:Join the 5th Annual Interfaith Action Walk for Warmth! \nhttps://interfaithactionofevanston.networkforgood.com/events/62092-5th-annual-walk-for-warmth \nThe family-friendly Walk for Warmth on January 15\, 2024 is hosted in honor of Martin Luther King Jr.’s Day of Service. Join us in the fight against homelessness in our community. There is no charge to register for the walk\, but advance registration is required. The 2-mile walk through central Evanston starts at 11 AM at First United Methodist Church.\n10:50am – A short kickoff program in the sanctuary. Sanctuary doors (on Hinman) open at 10:30 am.\n12:30pm – The Walk concludes at First United Methodist Church. \nNote that you need not complete the full 2 mile walk. Feel free to walk as long as you can. \n“Life’s most persistent and urgent question is\, ‘What are you doing for others?’” — Martin Luther King Jr. You can respond to Dr. King’s call to action by supporting the Walk for Warmth in the following ways: \n1. Walk with us! Gather in the First Church sanctuary and then follow the Walk route together past eight of the faith communities that host Interfaith Action’s winter shelter in rotation. Free parking is available at the public garage on Church St. just east of Chicago Ave. For everyone’s safety\, please leave your dog at home.\n2. Make a monetary donation. All donations support Interfaith Action of Evanston and help provide safe and warm spaces for our unhoused neighbors to sleep during the cold weather season. You may donate online or by check to Interfaith Action of Evanston\, PO Box 1414\, Evanston\, IL 60204. Write “Walk for Warmth” in the memo line on the check. \nLet’s carry on Dr. King’s legacy and continue his fight for economic\, social and racial justice\, and make sure no one has to sleep outside in the cold!
URL:https://faithatfirst.org/event/walk-for-warmth-3/
LOCATION:Sanctuary
END:VEVENT
BEGIN:VEVENT
DTSTART;TZID=UTC:20240116T190000
DTEND;TZID=UTC:20240116T200000
DTSTAMP:20260425T225559
CREATED:20230731T190726Z
LAST-MODIFIED:20230731T191007Z
UID:10004330-1705431600-1705435200@faithatfirst.org
SUMMARY:Faith Formation Council meeting
DESCRIPTION:The Faith Formation Council meets on the third Tuesday of each month\, 7-8pm online.   Questions may be directed to Tom Scott (tom.scott.goblue@msn.com)\, who co-chairs this committee along with Lee Rader.
URL:https://faithatfirst.org/event/faith-formation-council-meeting/2024-01-16/
LOCATION:Zoom
ORGANIZER;CN="Tom Scott":MAILTO:tom.scott.goblue@msn.com
END:VEVENT
END:VCALENDAR