BEGIN:VCALENDAR
VERSION:2.0
PRODID:-//First United Methodist Church of Evanston, IL - ECPv6.15.20//NONSGML v1.0//EN
CALSCALE:GREGORIAN
METHOD:PUBLISH
X-WR-CALNAME:First United Methodist Church of Evanston, IL
X-ORIGINAL-URL:https://faithatfirst.org
X-WR-CALDESC:Events for First United Methodist Church of Evanston, IL
REFRESH-INTERVAL;VALUE=DURATION:PT1H
X-Robots-Tag:noindex
X-PUBLISHED-TTL:PT1H
BEGIN:VTIMEZONE
TZID:America/Chicago
BEGIN:DAYLIGHT
TZOFFSETFROM:-0600
TZOFFSETTO:-0500
TZNAME:CDT
DTSTART:20230312T080000
END:DAYLIGHT
BEGIN:STANDARD
TZOFFSETFROM:-0500
TZOFFSETTO:-0600
TZNAME:CST
DTSTART:20231105T070000
END:STANDARD
BEGIN:DAYLIGHT
TZOFFSETFROM:-0600
TZOFFSETTO:-0500
TZNAME:CDT
DTSTART:20240310T080000
END:DAYLIGHT
BEGIN:STANDARD
TZOFFSETFROM:-0500
TZOFFSETTO:-0600
TZNAME:CST
DTSTART:20241103T070000
END:STANDARD
BEGIN:DAYLIGHT
TZOFFSETFROM:-0600
TZOFFSETTO:-0500
TZNAME:CDT
DTSTART:20250309T080000
END:DAYLIGHT
BEGIN:STANDARD
TZOFFSETFROM:-0500
TZOFFSETTO:-0600
TZNAME:CST
DTSTART:20251102T070000
END:STANDARD
END:VTIMEZONE
BEGIN:VTIMEZONE
TZID:UTC
BEGIN:STANDARD
TZOFFSETFROM:+0000
TZOFFSETTO:+0000
TZNAME:UTC
DTSTART:20230101T000000
END:STANDARD
END:VTIMEZONE
BEGIN:VEVENT
DTSTART;TZID=America/Chicago:20241023T100000
DTEND;TZID=America/Chicago:20241023T103000
DTSTAMP:20260423T214538
CREATED:20241017T205352Z
LAST-MODIFIED:20241017T205352Z
UID:10007435-1729677600-1729679400@faithatfirst.org
SUMMARY:Total Child Organ Demo
DESCRIPTION:Children from Total Child make their annual visit to Dr. Brian in the Sanctuary to learn about the pipe organ.
URL:https://faithatfirst.org/event/total-child-organ-demo/
LOCATION:Sanctuary
ORGANIZER;CN="Brian Schoettler":MAILTO:brian@faithatfirst.com
END:VEVENT
BEGIN:VEVENT
DTSTART;TZID=UTC:20241023T100000
DTEND;TZID=UTC:20241023T110000
DTSTAMP:20260423T214538
CREATED:20230608T002343Z
LAST-MODIFIED:20250922T182943Z
UID:10003828-1729677600-1729681200@faithatfirst.org
SUMMARY:Coffee\, Conversation\, and Friends
DESCRIPTION:This group of women “of a certain age” meet on the second and fourth Wednesday of the month from 10:00 to 11:00 am. We meet at Le Peep in Evanston for informal conversations on a wide variety of topics: books\, the news\, restaurants\, grandchildren\, and places to visit. No matter what’s on the table\, we are all ears. Come join the conversation and make some new friends.
URL:https://faithatfirst.org/event/coffee-conversation-and-friends-7/2024-10-23/
END:VEVENT
BEGIN:VEVENT
DTSTART;TZID=America/Chicago:20241023T110000
DTEND;TZID=America/Chicago:20241023T123000
DTSTAMP:20260423T214538
CREATED:20240904T190639Z
LAST-MODIFIED:20240904T190639Z
UID:10006953-1729681200-1729686600@faithatfirst.org
SUMMARY:Staff Meeting
DESCRIPTION:
URL:https://faithatfirst.org/event/staff-meeting-62/2024-10-23/
LOCATION:Conference Room
ORGANIZER;CN="Pastor Britt Cox":MAILTO:britt@faithatfirst.com
END:VEVENT
BEGIN:VEVENT
DTSTART;TZID=America/Chicago:20241023T171500
DTEND;TZID=America/Chicago:20241023T180000
DTSTAMP:20260423T214538
CREATED:20240828T203010Z
LAST-MODIFIED:20250213T165623Z
UID:10006554-1729703700-1729706400@faithatfirst.org
SUMMARY:Children's Choir Rehearsal
DESCRIPTION:Children in grades 1-6 rehearse weekly and sing in worship monthly. No audition is required and new singers are welcome throughout the year. For more information\, email Dr. Brian Schoettler.
URL:https://faithatfirst.org/event/childrens-choir-rehearsal-62/2024-10-23/
LOCATION:Choir Room
ORGANIZER;CN="Brian Schoettler":MAILTO:brian@faithatfirst.com
END:VEVENT
BEGIN:VEVENT
DTSTART;TZID=America/Chicago:20241023T183000
DTEND;TZID=America/Chicago:20241023T191500
DTSTAMP:20260423T214538
CREATED:20240828T202420Z
LAST-MODIFIED:20250213T170358Z
UID:10006480-1729708200-1729710900@faithatfirst.org
SUMMARY:Handbell Choir Rehearsal
DESCRIPTION:The Handbell Choir plays in worship seasonally. Basic music reading skills required (instrumentalists are especially welcome). Open to adults and youth in grades 6-12. New members are welcome throughout the year – email Dr. Brian Schoettler for more information.
URL:https://faithatfirst.org/event/handbell-choir-rehearsal-32/2024-10-23/
LOCATION:Choir Room
ORGANIZER;CN="Brian Schoettler":MAILTO:brian@faithatfirst.com
END:VEVENT
BEGIN:VEVENT
DTSTART;TZID=America/Chicago:20241023T193000
DTEND;TZID=America/Chicago:20241023T201500
DTSTAMP:20260423T214538
CREATED:20240828T202058Z
LAST-MODIFIED:20240828T202058Z
UID:10006430-1729711800-1729714500@faithatfirst.org
SUMMARY:Festival Choir Rehearsal
DESCRIPTION:Adults and high school youth from the congregation and the community rehearse in preparation of Handel’s “Messiah” (Part I) for the Festival Choir Concert on Nov. 22\, 2024. No audition is required.
URL:https://faithatfirst.org/event/festival-choir-rehearsal-20/2024-10-23/
LOCATION:Choir Room
ORGANIZER;CN="Brian Schoettler":MAILTO:brian@faithatfirst.com
END:VEVENT
BEGIN:VEVENT
DTSTART;TZID=America/Chicago:20241023T193000
DTEND;TZID=America/Chicago:20241023T210000
DTSTAMP:20260423T214538
CREATED:20240828T202245Z
LAST-MODIFIED:20240903T164905Z
UID:10006441-1729711800-1729717200@faithatfirst.org
SUMMARY:Chancel Choir Rehearsal
DESCRIPTION:Adults and high school youth rehearse music for worship. No audition is required. Email Dr. Brian Schoettler for more information.
URL:https://faithatfirst.org/event/chancel-choir-rehearsal-139/2024-10-23/
LOCATION:Choir Room
ORGANIZER;CN="Brian Schoettler":MAILTO:brian@faithatfirst.com
END:VEVENT
BEGIN:VEVENT
DTSTART;VALUE=DATE:20241024
DTEND;VALUE=DATE:20241028
DTSTAMP:20260423T214538
CREATED:20240828T203930Z
LAST-MODIFIED:20240828T203930Z
UID:10006726-1729728000-1730073599@faithatfirst.org
SUMMARY:Fall Adult ASP Trip
DESCRIPTION:Fall 2024 Adult ASP Trip \nASP is an organization based in Johnson City\, TN\, focused on eradicating substandard housing in Central Appalachia. Their main work area includes extremely impoverished counties in WV\, VA\, KY\, TN\, and NC. \nWe plan to gather at 6am on Thursday\, October 24th\, in the back parking lot to load up and drive down.\nWe will foster transformational relationships within the community while performing critical home repairs to make homes warmer\, safer\, and drier during the day on Friday and Saturday.\nAt night we will engage each other to strengthen our relationships as a First Church family.\nOn Sunday\, we will leave early to return home. \nIn harmony with FUMC’s summer youth ASP mission\, we invite adults to join in this opportunity to create community outside our comfortable North Shore bubble. \nFor information\, contact either Grant Bailey or Sydney Harkrider: \nGrant Bailey\n(312) 402-1251\nthegrantbailey@gmail.com \nSydney Harkrider\n(281) 948-7022\nsydney@faithatfirst.com
URL:https://faithatfirst.org/event/fall-adult-asp-trip/
END:VEVENT
BEGIN:VEVENT
DTSTART;TZID=UTC:20241024T173000
DTEND;TZID=UTC:20241024T190000
DTSTAMP:20260423T214538
CREATED:20230714T003533Z
LAST-MODIFIED:20230714T003711Z
UID:10004121-1729791000-1729796400@faithatfirst.org
SUMMARY:Soup Kitchen
DESCRIPTION:As part of Interfaith Action of Evanston\, First Church hosts a weekly soup kitchen each Thursday evening.  A host team of First Church volunteers is needed each week\, and 5-6 times a year we also need cooking teams.   Interested in helping?  Please contact Dave Koester (davekoester57@gmail.com) about current scheduling needs.
URL:https://faithatfirst.org/event/soup-kitchen/2024-10-24/
LOCATION:Dining Room
ORGANIZER;CN="Dave Koester":MAILTO:davekoester57@gmail.com
END:VEVENT
BEGIN:VEVENT
DTSTART;TZID=America/Chicago:20241027T091500
DTEND;TZID=America/Chicago:20241027T101500
DTSTAMP:20260423T214538
CREATED:20240813T145144Z
LAST-MODIFIED:20240829T163149Z
UID:10006060-1730020500-1730024100@faithatfirst.org
SUMMARY:Sunday School
DESCRIPTION:Sunday School takes place before Worship from 9:15-10:15 a.m. from mid-September through May\, with an emphasis on learning and responding to stories in the Bible through reading\, conversation\, and play. Sunday School is offered for children ages Pre-K-6th grade. Classroom locations are posted throughout the building.
URL:https://faithatfirst.org/event/sunday-school-8/2024-10-27/
END:VEVENT
BEGIN:VEVENT
DTSTART;TZID=America/Chicago:20241027T091500
DTEND;TZID=America/Chicago:20241027T101500
DTSTAMP:20260423T214538
CREATED:20240828T200508Z
LAST-MODIFIED:20241218T190848Z
UID:10006385-1730020500-1730024100@faithatfirst.org
SUMMARY:Confirmation- 7th & 8th Grade
DESCRIPTION:7th and 8th graders— it’s time for Confirmation to begin! We will meet in Room M on Rally Day morning. See y’all soon!
URL:https://faithatfirst.org/event/confirmation-7th-8th-grade/2024-10-27/
LOCATION:Room M
ORGANIZER;CN="Sydney Harkrider":MAILTO:sydney@faithatfirst.com
END:VEVENT
BEGIN:VEVENT
DTSTART;TZID=America/Chicago:20241027T091500
DTEND;TZID=America/Chicago:20241027T101500
DTSTAMP:20260423T214538
CREATED:20240922T195752Z
LAST-MODIFIED:20241111T171551Z
UID:10006778-1730020500-1730024100@faithatfirst.org
SUMMARY:Adult Education- Methodism 101
DESCRIPTION:Methodism 101 looks at religion and religious practices and the unique contributions of John Wesley and of Methodism to the understanding and practice of Christianity as a whole. It does this from a historical perspective looking at the development of the Methodist church in England as well as America. \nSunday November 17…American Methodism…beginnings\nSunday November 24…Methodist Family Tree\nSunday Dec 1…TBD (“Come thou long-expected Jesus” Paul Chilcote’s)\nDec. 8\,15\,22…Advent and Christmas  with Charles Wesley…\nDec 29 and Jan 5…Holiday break
URL:https://faithatfirst.org/event/adult-education-2-2/2024-10-27/
LOCATION:Room 33
END:VEVENT
BEGIN:VEVENT
DTSTART;TZID=America/Chicago:20241027T091500
DTEND;TZID=America/Chicago:20241027T101500
DTSTAMP:20260423T214538
CREATED:20240924T181323Z
LAST-MODIFIED:20240924T181323Z
UID:10007320-1730020500-1730024100@faithatfirst.org
SUMMARY:Covenant Groups -- St. Francis Peace Prayer
DESCRIPTION:Long before there was a Campaign for Kindness\, there was a prayer known as the St. Francis peace prayer (Lord\, make me an instrument of your peace…) This well-known prayer has been in widespread ecumenical use since early in the twentieth century. In this five session covenant group members will practice applying the prayer in their daily lives and will engage in reflection and mutual support. Come join us as we work to become more effective instruments of peace in a world which deeply needs them.\nThere will be both a ZOOM version and an in-person version. The ZOOM version will be on Wednesday evenings from 7-8 beginning October 2 and ending October 30 and will be led by Kim Coffing.  The in-person version will be on Sunday mornings from 9:15-10:15 beginning September 29 and ending November 3 (no meeting on October 20) and will be led by Jim Johnson.\nQuestions? Contact Tom Scott at tom.scott.goblue@msn.com.
URL:https://faithatfirst.org/event/covenant-groups-st-francis-peace-prayer/2024-10-27/
END:VEVENT
BEGIN:VEVENT
DTSTART;TZID=America/Chicago:20241027T091500
DTEND;TZID=America/Chicago:20241027T101500
DTSTAMP:20260423T214538
CREATED:20241018T203229Z
LAST-MODIFIED:20241018T203229Z
UID:10007526-1730020500-1730024100@faithatfirst.org
SUMMARY:Presentation on Christian Zionism
DESCRIPTION:Dr.Bruce Rigdon\, pastor\, scholar and faith leader\, will give a presentation and discussion on ” Christian Zionism “. One definition of the topic is a political and religious ideology that supports the state of Israel and the return of the Jewish People to the Holy Land. An intended goal of the session is to link how this thinking is linked to us as a congregation and how it effects our understanding of the current situation in the Middle East.
URL:https://faithatfirst.org/event/presentation-on-christian-zionism/
LOCATION:Dining Room
END:VEVENT
BEGIN:VEVENT
DTSTART;TZID=America/Chicago:20241027T091500
DTEND;TZID=America/Chicago:20241027T103000
DTSTAMP:20260423T214538
CREATED:20240828T204245Z
LAST-MODIFIED:20241009T142434Z
UID:10006733-1730020500-1730025000@faithatfirst.org
SUMMARY:Adult Education Class- The Christian Experiment
DESCRIPTION:A weekly gathering that creates community and explores faith-based questions. More. Led by Matt Rader and Kristi Hubbard.
URL:https://faithatfirst.org/event/adult-education-class/2024-10-27/
LOCATION:Glenna Hall
END:VEVENT
BEGIN:VEVENT
DTSTART;TZID=America/Chicago:20241027T093000
DTEND;TZID=America/Chicago:20241027T101500
DTSTAMP:20260423T214538
CREATED:20240828T202603Z
LAST-MODIFIED:20250213T165312Z
UID:10006515-1730021400-1730024100@faithatfirst.org
SUMMARY:Chancel Choir Rehearsal
DESCRIPTION:Adults and high school youth rehearse music for worship in the Chancel at the front of the Sanctuary. No audition required. Email Dr. Brian Schoettler for more information.
URL:https://faithatfirst.org/event/chancel-choir-rehearsal-140/2024-10-27/
LOCATION:Sanctuary
ORGANIZER;CN="Brian Schoettler":MAILTO:brian@faithatfirst.com
END:VEVENT
BEGIN:VEVENT
DTSTART;TZID=America/Chicago:20241027T103000
DTEND;TZID=America/Chicago:20241027T120000
DTSTAMP:20260423T214538
CREATED:20240828T192519Z
LAST-MODIFIED:20250213T171151Z
UID:10006140-1730025000-1730030400@faithatfirst.org
SUMMARY:Worship in the Sanctuary
DESCRIPTION:Please find up to date information about this Sunday here.
URL:https://faithatfirst.org/event/worship-in-the-sanctuary/2024-10-27/
LOCATION:Sanctuary
ATTACH;FMTTYPE=image/jpeg:https://faithatfirst.org/wp-content/uploads/2023/04/224592613_4154736301268883_1457195983166946834_n-1.jpg
END:VEVENT
BEGIN:VEVENT
DTSTART;TZID=America/Chicago:20241027T104500
DTEND;TZID=America/Chicago:20241027T113000
DTSTAMP:20260423T214539
CREATED:20240829T163541Z
LAST-MODIFIED:20240829T163541Z
UID:10006899-1730025900-1730028600@faithatfirst.org
SUMMARY:Connect456
DESCRIPTION:Connect456 is designed to help children in grades 4-6 connect to the church community as older elementary and middle school students preparing to make their own way at First Church. Each week features a unique means of connecting\, including serving in leadership with younger children\, learning about our church history and United Methodist identity\, observing worship and more!
URL:https://faithatfirst.org/event/connect456-10/2024-10-27/
END:VEVENT
BEGIN:VEVENT
DTSTART;TZID=America/Chicago:20241027T104500
DTEND;TZID=America/Chicago:20241027T113000
DTSTAMP:20260423T214539
CREATED:20240829T163813Z
LAST-MODIFIED:20250130T181827Z
UID:10006926-1730025900-1730028600@faithatfirst.org
SUMMARY:Children's Chapel
DESCRIPTION:Children’s Chapel seeks to excite and build confidence in children’s experience of worship and sense of belonging at First Church. Children ages three through 3rd grade are invited to experience the wonder of worship and joy of service in a lively\, child-friendly setting. Throughout the program year\, children take part in the seasons of the Christian year\, exploring rituals\, sacraments\, and songs of our worship tradition as well as hands-on aspects of our church mission that children might shape and help share the story of our faith.
URL:https://faithatfirst.org/event/childrens-chapel-38/2024-10-27/
END:VEVENT
BEGIN:VEVENT
DTSTART;TZID=America/Chicago:20241027T113000
DTEND;TZID=America/Chicago:20241027T120000
DTSTAMP:20260423T214539
CREATED:20240828T194036Z
LAST-MODIFIED:20240828T194036Z
UID:10006272-1730028600-1730030400@faithatfirst.org
SUMMARY:Eucharist Service
DESCRIPTION:
URL:https://faithatfirst.org/event/eucharist-service/2024-10-27/
LOCATION:Tittle Chapel
END:VEVENT
BEGIN:VEVENT
DTSTART;TZID=America/Chicago:20241027T113000
DTEND;TZID=America/Chicago:20241027T133000
DTSTAMP:20260423T214539
CREATED:20240813T143025Z
LAST-MODIFIED:20240912T154143Z
UID:10006037-1730028600-1730035800@faithatfirst.org
SUMMARY:Methodist Youth Fellowship
DESCRIPTION:Methodist Youth Fellowship (aka MYF) is open to all youth (7th-12th Grade). We’ll gather twice each month on Sundays 11:30-1:30pm. This is a time to have lunch and engage in music\, games\, an activity\, service project\, lesson or anything in between. This is our time to hang out as a youth group and build connections. Hope you’ll join us! \nQuestions?  Contact Sydney Harkrider at sydney@faithatfirst.com.
URL:https://faithatfirst.org/event/methodist-youth-fellowship-4/2024-10-27/
ORGANIZER;CN="Sydney Harkrider":MAILTO:sydney@faithatfirst.com
END:VEVENT
BEGIN:VEVENT
DTSTART;TZID=America/Chicago:20241027T114500
DTEND;TZID=America/Chicago:20241027T124500
DTSTAMP:20260423T214539
CREATED:20240917T181520Z
LAST-MODIFIED:20240924T215633Z
UID:10007323-1730029500-1730033100@faithatfirst.org
SUMMARY:Invitation to the Labyrinth
DESCRIPTION:Have you ever wondered what the labyrinth in our memorial garden is for? Or have you walked a labyrinth before and would like to walk ours? Then join the Faith Formation Council in the memorial garden at 9:15 on October 6\, October 13\, or October 20 or at 11:45 on September 29\, October 27\, November 10\, November 17\, or November 24. A Council member will give a brief overview of the labyrinth for those who are interested\, and the labyrinth will be open to all to walk. Questions? Contact Tom Scott at tom.scott.goblue@msn.com.
URL:https://faithatfirst.org/event/invitation-to-the-labyrinth/2024-10-27/2/
END:VEVENT
BEGIN:VEVENT
DTSTART;TZID=America/Chicago:20241027T114500
DTEND;TZID=America/Chicago:20241027T124500
DTSTAMP:20260423T214539
CREATED:20241009T143832Z
LAST-MODIFIED:20241009T143832Z
UID:10007421-1730029500-1730033100@faithatfirst.org
SUMMARY:Invitation to the Labyrinth
DESCRIPTION:Have you ever wondered what the labyrinth in our memorial garden is for? Or have you walked a labyrinth before and would like to walk ours? Then join the Faith Formation Council in the memorial garden at 9:15 on October 6\, October 13\, or October 20 or at 11:45 on September 29\, October 27\, November 10\, November 17\, or November 24. A Council member will give a brief overview of the labyrinth for those who are interested\, and the labyrinth will be open to all to walk. Questions? Contact Tom Scott at tom.scott.goblue@msn.com.
URL:https://faithatfirst.org/event/invitation-to-the-labyrinth-2/2024-10-27/
END:VEVENT
BEGIN:VEVENT
DTSTART;TZID=America/Chicago:20241027T120000
DTEND;TZID=America/Chicago:20241027T133000
DTSTAMP:20260423T214539
CREATED:20241017T204031Z
LAST-MODIFIED:20241017T204031Z
UID:10007433-1730030400-1730035800@faithatfirst.org
SUMMARY:Children in Action!
DESCRIPTION:Children in grades 1-6 are invited to team up and jump into service for games\, fellowship\, and various mission and outreach projects\, with free lunch provided! In October\, we’ll help pack diapers for area families in need with First Church’s Bundled Blessings Diaper Pantry.
URL:https://faithatfirst.org/event/children-in-action/
LOCATION:Dining Room
ORGANIZER;CN="Colin McDonald":MAILTO:colin@faithatfirst.com
END:VEVENT
BEGIN:VEVENT
DTSTART;TZID=UTC:20241027T173000
DTEND;TZID=UTC:20241027T193000
DTSTAMP:20260423T214539
CREATED:20240717T192145Z
LAST-MODIFIED:20250520T184549Z
UID:10005943-1730050200-1730057400@faithatfirst.org
SUMMARY:Young Adult Potluck
DESCRIPTION:Calling all Young Adults!  Join us for our Potlucks every other week at 5:30pm. Feel free to bring your favorite side item or dessert! Contact Sydney Harkrider at sydney@faithatfirst.com for the location!
URL:https://faithatfirst.org/event/young-adult-potluck-2-2-2/2024-10-27/
ORGANIZER;CN="Sydney Harkrider":MAILTO:sydney@faithatfirst.com
END:VEVENT
BEGIN:VEVENT
DTSTART;TZID=America/Chicago:20241030T120000
DTEND;TZID=America/Chicago:20241030T133000
DTSTAMP:20260423T214539
CREATED:20240904T191115Z
LAST-MODIFIED:20240904T191115Z
UID:10007149-1730289600-1730295000@faithatfirst.org
SUMMARY:Collaborate\, Connect\, Care Staff Meeting
DESCRIPTION:
URL:https://faithatfirst.org/event/collaborate-connect-care-staff-meeting/2024-10-30/
LOCATION:Dining Room
ORGANIZER;CN="Pastor Britt Cox":MAILTO:britt@faithatfirst.com
END:VEVENT
BEGIN:VEVENT
DTSTART;TZID=America/Chicago:20241030T173000
DTEND;TZID=America/Chicago:20241030T190000
DTSTAMP:20260423T214539
CREATED:20241017T204642Z
LAST-MODIFIED:20241017T204642Z
UID:10007434-1730309400-1730314800@faithatfirst.org
SUMMARY:Spooky Story Night
DESCRIPTION:Come in costume for family-friendly\, faith-affirming spooky stories\, games\, and trick-or-treating with friends from Youth Ministry!
URL:https://faithatfirst.org/event/spooky-story-night/
LOCATION:Dining Room
ORGANIZER;CN="Colin McDonald":MAILTO:colin@faithatfirst.com
END:VEVENT
BEGIN:VEVENT
DTSTART;TZID=America/Chicago:20241030T183000
DTEND;TZID=America/Chicago:20241030T200000
DTSTAMP:20260423T214539
CREATED:20241024T184754Z
LAST-MODIFIED:20241024T184754Z
UID:10007541-1730313000-1730318400@faithatfirst.org
SUMMARY:Finance Committee
DESCRIPTION:
URL:https://faithatfirst.org/event/finance-committee-2/
LOCATION:Glenna Hall
END:VEVENT
BEGIN:VEVENT
DTSTART;TZID=America/Chicago:20241102T133000
DTEND;TZID=America/Chicago:20241102T150000
DTSTAMP:20260423T214539
CREATED:20241018T222153Z
LAST-MODIFIED:20241018T222153Z
UID:10007527-1730554200-1730559600@faithatfirst.org
SUMMARY:Restorative Justice Circle
DESCRIPTION:Restorative Justice Circle\, will be co-lead by Rev.Marcus Tabb\, pastor of South Shore UMC and Tom Butler\, of the Race and Ethnicity Committee. The circle is a group format of listening and prompts of questions for reflection. This format is being used in schools and other settings to redress conflicts for understanding and resolution. This will be a sign up for 12 participants\, until Friday November 1 rst. Information about format and content will be sent to those who register.
URL:https://faithatfirst.org/event/restorative-justice-circle/
LOCATION:3rd Floor Classrooms
END:VEVENT
BEGIN:VEVENT
DTSTART;TZID=America/Chicago:20241102T133000
DTEND;TZID=America/Chicago:20241102T170000
DTSTAMP:20260423T214539
CREATED:20241018T202105Z
LAST-MODIFIED:20241029T141900Z
UID:10007525-1730554200-1730566800@faithatfirst.org
SUMMARY:Memorial Service JoAnn Wilkin
DESCRIPTION:Reception for JoAnn Wilkin. Family will receive and greet friends. Cookies\, coffee and water will be served. Contact person: swprout@comcast.net
URL:https://faithatfirst.org/event/memorial-service-joann-wilkin/
LOCATION:Glenna\, Sanctuary\, Chapel
END:VEVENT
END:VCALENDAR