BEGIN:VCALENDAR
VERSION:2.0
PRODID:-//First United Methodist Church of Evanston, IL - ECPv6.15.20//NONSGML v1.0//EN
CALSCALE:GREGORIAN
METHOD:PUBLISH
X-WR-CALNAME:First United Methodist Church of Evanston, IL
X-ORIGINAL-URL:https://faithatfirst.org
X-WR-CALDESC:Events for First United Methodist Church of Evanston, IL
REFRESH-INTERVAL;VALUE=DURATION:PT1H
X-Robots-Tag:noindex
X-PUBLISHED-TTL:PT1H
BEGIN:VTIMEZONE
TZID:America/Chicago
BEGIN:DAYLIGHT
TZOFFSETFROM:-0600
TZOFFSETTO:-0500
TZNAME:CDT
DTSTART:20250309T080000
END:DAYLIGHT
BEGIN:STANDARD
TZOFFSETFROM:-0500
TZOFFSETTO:-0600
TZNAME:CST
DTSTART:20251102T070000
END:STANDARD
BEGIN:DAYLIGHT
TZOFFSETFROM:-0600
TZOFFSETTO:-0500
TZNAME:CDT
DTSTART:20260308T080000
END:DAYLIGHT
BEGIN:STANDARD
TZOFFSETFROM:-0500
TZOFFSETTO:-0600
TZNAME:CST
DTSTART:20261101T070000
END:STANDARD
BEGIN:DAYLIGHT
TZOFFSETFROM:-0600
TZOFFSETTO:-0500
TZNAME:CDT
DTSTART:20270314T080000
END:DAYLIGHT
BEGIN:STANDARD
TZOFFSETFROM:-0500
TZOFFSETTO:-0600
TZNAME:CST
DTSTART:20271107T070000
END:STANDARD
END:VTIMEZONE
BEGIN:VTIMEZONE
TZID:UTC
BEGIN:STANDARD
TZOFFSETFROM:+0000
TZOFFSETTO:+0000
TZNAME:UTC
DTSTART:20250101T000000
END:STANDARD
END:VTIMEZONE
BEGIN:VEVENT
DTSTART;TZID=America/Chicago:20260423T130000
DTEND;TZID=America/Chicago:20260423T140000
DTSTAMP:20260423T012331
CREATED:20250905T015759Z
LAST-MODIFIED:20250905T015759Z
UID:10009944-1776949200-1776952800@faithatfirst.org
SUMMARY:Progressive Christianity Reading Group- Online
DESCRIPTION:First Church’s Progressive Christians Reading Group invites new and former participants to participate as the group gathers each Thursday 1:00-2:00pm online to discuss and reflect on selected books\, typically one book per month. \nInterested? Email Christie at cecook.phd@gmail.com for the current/upcoming reading and the Zoom link. \nRealm Registration Event. 
URL:https://faithatfirst.org/event/progressive-christianity-reading-group-online/2026-04-23/
LOCATION:online
ORGANIZER;CN="Christie Cook":MAILTO:cecook.phd@gmail.com
END:VEVENT
BEGIN:VEVENT
DTSTART;TZID=UTC:20260423T173000
DTEND;TZID=UTC:20260423T190000
DTSTAMP:20260423T012331
CREATED:20230714T003533Z
LAST-MODIFIED:20230714T003711Z
UID:10004199-1776965400-1776970800@faithatfirst.org
SUMMARY:Soup Kitchen
DESCRIPTION:As part of Interfaith Action of Evanston\, First Church hosts a weekly soup kitchen each Thursday evening.  A host team of First Church volunteers is needed each week\, and 5-6 times a year we also need cooking teams.   Interested in helping?  Please contact Dave Koester (davekoester57@gmail.com) about current scheduling needs.
URL:https://faithatfirst.org/event/soup-kitchen/2026-04-23/
LOCATION:Dining Room
ORGANIZER;CN="Dave Koester":MAILTO:davekoester57@gmail.com
END:VEVENT
BEGIN:VEVENT
DTSTART;TZID=America/Chicago:20260423T190000
DTEND;TZID=America/Chicago:20260423T203000
DTSTAMP:20260423T012331
CREATED:20250905T022040Z
LAST-MODIFIED:20250905T022040Z
UID:10010033-1776970800-1776976200@faithatfirst.org
SUMMARY:God's Story\, Our Stories Bible Study- Online
DESCRIPTION:The Lectionary Bible Study Group meets online each Thursday evening. We are a band of curious explorers\, reflecting upon the lectionary passages for the coming Sunday. We ask many questions. We have “ah ha” moments in our discussions. We attempt to unearth how these ancient stories inform our current day stories. We deeply seek to live out our best understanding of the heart of these stories week by week in the midst of our common humanity. Several group members rotate the facilitation. \nCome and join us! You may be placed on the group distribution list by contacting Bill Brown at bbrown@wwbrown-inc.com. \nRealm Registration Event. 
URL:https://faithatfirst.org/event/gods-story-our-stories-bible-study-online/2026-04-23/
LOCATION:online
ORGANIZER;CN="Bill Brown":MAILTO:bbbrown@wwbrown-inc.com
END:VEVENT
BEGIN:VEVENT
DTSTART;TZID=America/Chicago:20260423T190000
DTEND;TZID=America/Chicago:20260423T203000
DTSTAMP:20260423T012331
CREATED:20260324T180608Z
LAST-MODIFIED:20260324T180608Z
UID:10011793-1776970800-1776976200@faithatfirst.org
SUMMARY:Spring Gathering - "Organizations Making a Difference" Beth Emet\, the Free Synagogue
DESCRIPTION:Thurs. April 23rd – Save the Date – Spring Gathering – “Organizations Making a Difference” Beth Emet\, the Free Synagogue\, 7:00 p.m. – 8:30 p.m.
URL:https://faithatfirst.org/event/spring-gathering-organizations-making-a-difference-beth-emet-the-free-synagogue/
END:VEVENT
BEGIN:VEVENT
DTSTART;TZID=America/Chicago:20260423T190000
DTEND;TZID=America/Chicago:20260423T203000
DTSTAMP:20260423T012331
CREATED:20260408T152849Z
LAST-MODIFIED:20260408T152849Z
UID:10011865-1776970800-1776976200@faithatfirst.org
SUMMARY:Interfaith Action: Spring Gathering
DESCRIPTION:Thurs. April 23rd – IAE Spring Gathering – “Organizations Making a Difference”\, We are fortunate to have many nonprofit organizations that are engaged in work that improves the community for all. We invited five of these organizations to share their program details with our member communities and the public. \nTheir purposes cover a wide range from food insecurity to interfaith dialogue/understanding to legal rights. Our format includes table talk opportunities. We welcome you as delegates to join us or forward this event information to others in your community! \nPlease register – so we can plan. Light refreshments will be served. Flyer attached. Thurs\, April 23rd – “Organizations Making a Difference” – 7:00 p.m. – 8:30 p.m. – Beth Emet\, the Free Synagogue\, 1224 Dempster Street\, Evanston\, IL 60202. \n  \nRegistration site: https://tinyurl.com/organdiffer
URL:https://faithatfirst.org/event/interfaith-action-spring-gathering/
END:VEVENT
END:VCALENDAR