BEGIN:VCALENDAR
VERSION:2.0
PRODID:-//First United Methodist Church of Evanston, IL - ECPv6.15.20//NONSGML v1.0//EN
CALSCALE:GREGORIAN
METHOD:PUBLISH
X-WR-CALNAME:First United Methodist Church of Evanston, IL
X-ORIGINAL-URL:https://faithatfirst.org
X-WR-CALDESC:Events for First United Methodist Church of Evanston, IL
REFRESH-INTERVAL;VALUE=DURATION:PT1H
X-Robots-Tag:noindex
X-PUBLISHED-TTL:PT1H
BEGIN:VTIMEZONE
TZID:UTC
BEGIN:STANDARD
TZOFFSETFROM:+0000
TZOFFSETTO:+0000
TZNAME:UTC
DTSTART:20220101T000000
END:STANDARD
END:VTIMEZONE
BEGIN:VEVENT
DTSTART;TZID=UTC:20230527T090000
DTEND;TZID=UTC:20230527T110000
DTSTAMP:20260420T162448
CREATED:20230516T200752Z
LAST-MODIFIED:20230516T200752Z
UID:17264-1685178000-1685185200@faithatfirst.org
SUMMARY:Young Adults Farmer's Market Gathering
DESCRIPTION:Young Adults are invited to gather at the Evanston Farmers’ Market on Saturday\, May 27 at 9 a.m. for breakfast and produce shopping! Email Kelsey@faithatfirst.com if you’re coming\, so we can look for you!
URL:https://faithatfirst.org/event/young-adults-farmers-market-gathering/
END:VEVENT
END:VCALENDAR