BEGIN:VCALENDAR
VERSION:2.0
PRODID:-//First United Methodist Church of Evanston, IL - ECPv6.15.20//NONSGML v1.0//EN
CALSCALE:GREGORIAN
METHOD:PUBLISH
X-WR-CALNAME:First United Methodist Church of Evanston, IL
X-ORIGINAL-URL:https://faithatfirst.org
X-WR-CALDESC:Events for First United Methodist Church of Evanston, IL
REFRESH-INTERVAL;VALUE=DURATION:PT1H
X-Robots-Tag:noindex
X-PUBLISHED-TTL:PT1H
BEGIN:VTIMEZONE
TZID:UTC
BEGIN:STANDARD
TZOFFSETFROM:+0000
TZOFFSETTO:+0000
TZNAME:UTC
DTSTART:20220101T000000
END:STANDARD
END:VTIMEZONE
BEGIN:VEVENT
DTSTART;TZID=UTC:20230521T173000
DTEND;TZID=UTC:20230521T190000
DTSTAMP:20260420T191453
CREATED:20230518T012857Z
LAST-MODIFIED:20230518T012857Z
UID:17302-1684690200-1684695600@faithatfirst.org
SUMMARY:Young Adult Potluck
DESCRIPTION:Young adults gather in Glenna Hall to share a meal! \nSign up to bring a dish.
URL:https://faithatfirst.org/event/young-adult-potluck/
LOCATION:Glenna Hall
END:VEVENT
END:VCALENDAR