BEGIN:VCALENDAR
VERSION:2.0
PRODID:-//First United Methodist Church of Evanston, IL - ECPv6.15.20//NONSGML v1.0//EN
CALSCALE:GREGORIAN
METHOD:PUBLISH
X-WR-CALNAME:First United Methodist Church of Evanston, IL
X-ORIGINAL-URL:https://faithatfirst.org
X-WR-CALDESC:Events for First United Methodist Church of Evanston, IL
REFRESH-INTERVAL;VALUE=DURATION:PT1H
X-Robots-Tag:noindex
X-PUBLISHED-TTL:PT1H
BEGIN:VTIMEZONE
TZID:UTC
BEGIN:STANDARD
TZOFFSETFROM:+0000
TZOFFSETTO:+0000
TZNAME:UTC
DTSTART:20220101T000000
END:STANDARD
END:VTIMEZONE
BEGIN:VEVENT
DTSTART;TZID=UTC:20231101T100000
DTEND;TZID=UTC:20231101T113000
DTSTAMP:20260424T205156
CREATED:20230929T062920Z
LAST-MODIFIED:20230929T062922Z
UID:10005384-1698832800-1698838200@faithatfirst.org
SUMMARY:Wednesday Bible Study
DESCRIPTION:The Wednesday Bible Study is a longstanding group that welcomes new members.  This group meets online every Wednesday 10-11:30am with the exception of a short break in the summer. The current study\, which runs through October 18 is The Gospel of Mark by Amy Jill Levine.   A new study (to be determined) will begin on October 25.    \nNew participants are always welcome. Please contact Janet Lutz at janetatl@aol.com if you are interested. 
URL:https://faithatfirst.org/event/wednesday-bible-study-20-2/2023-11-01/
LOCATION:online
ORGANIZER;CN="Janet Lutz":MAILTO:janetatl@aol.com
END:VEVENT
END:VCALENDAR