BEGIN:VCALENDAR
VERSION:2.0
PRODID:-//First United Methodist Church of Evanston, IL - ECPv6.15.20//NONSGML v1.0//EN
CALSCALE:GREGORIAN
METHOD:PUBLISH
X-WR-CALNAME:First United Methodist Church of Evanston, IL
X-ORIGINAL-URL:https://faithatfirst.org
X-WR-CALDESC:Events for First United Methodist Church of Evanston, IL
REFRESH-INTERVAL;VALUE=DURATION:PT1H
X-Robots-Tag:noindex
X-PUBLISHED-TTL:PT1H
BEGIN:VTIMEZONE
TZID:UTC
BEGIN:STANDARD
TZOFFSETFROM:+0000
TZOFFSETTO:+0000
TZNAME:UTC
DTSTART:20230101T000000
END:STANDARD
END:VTIMEZONE
BEGIN:VEVENT
DTSTART;TZID=UTC:20240529T100000
DTEND;TZID=UTC:20240529T113000
DTSTAMP:20260423T071104
CREATED:20231115T232852Z
LAST-MODIFIED:20240229T164923Z
UID:10005786-1716976800-1716982200@faithatfirst.org
SUMMARY:Wednesday Bible Study
DESCRIPTION:The Wednesday Bible Study is a longstanding group that meets online every Wednesday 10-11:30am with the exception of a short break in the summer.  \nQuestions?  Please contact Janet Lutz at janetatl@aol.com . 
URL:https://faithatfirst.org/event/wednesday-bible-study-20-2-2/2024-05-29/
LOCATION:online
ORGANIZER;CN="Janet Lutz":MAILTO:janetatl@aol.com
END:VEVENT
END:VCALENDAR