BEGIN:VCALENDAR
VERSION:2.0
PRODID:-//First United Methodist Church of Evanston, IL - ECPv6.15.20//NONSGML v1.0//EN
CALSCALE:GREGORIAN
METHOD:PUBLISH
X-WR-CALNAME:First United Methodist Church of Evanston, IL
X-ORIGINAL-URL:https://faithatfirst.org
X-WR-CALDESC:Events for First United Methodist Church of Evanston, IL
REFRESH-INTERVAL;VALUE=DURATION:PT1H
X-Robots-Tag:noindex
X-PUBLISHED-TTL:PT1H
BEGIN:VTIMEZONE
TZID:UTC
BEGIN:STANDARD
TZOFFSETFROM:+0000
TZOFFSETTO:+0000
TZNAME:UTC
DTSTART:20220101T000000
END:STANDARD
END:VTIMEZONE
BEGIN:VEVENT
DTSTART;TZID=UTC:20230604T103000
DTEND;TZID=UTC:20230604T113000
DTSTAMP:20260424T162317
CREATED:20220802T235025Z
LAST-MODIFIED:20220802T235025Z
UID:14309-1685874600-1685878200@faithatfirst.org
SUMMARY:Trinity Sunday
DESCRIPTION:
URL:https://faithatfirst.org/event/trinity-sunday/
LOCATION:Sanctuary
END:VEVENT
END:VCALENDAR