BEGIN:VCALENDAR
VERSION:2.0
PRODID:-//First United Methodist Church of Evanston, IL - ECPv6.15.20//NONSGML v1.0//EN
CALSCALE:GREGORIAN
METHOD:PUBLISH
X-WR-CALNAME:First United Methodist Church of Evanston, IL
X-ORIGINAL-URL:https://faithatfirst.org
X-WR-CALDESC:Events for First United Methodist Church of Evanston, IL
REFRESH-INTERVAL;VALUE=DURATION:PT1H
X-Robots-Tag:noindex
X-PUBLISHED-TTL:PT1H
BEGIN:VTIMEZONE
TZID:UTC
BEGIN:STANDARD
TZOFFSETFROM:+0000
TZOFFSETTO:+0000
TZNAME:UTC
DTSTART:20220101T000000
END:STANDARD
END:VTIMEZONE
BEGIN:VEVENT
DTSTART;TZID=UTC:20230611T090000
DTEND;TZID=UTC:20230611T113000
DTSTAMP:20260422T154129
CREATED:20230505T061201Z
LAST-MODIFIED:20230505T061951Z
UID:17199-1686474000-1686483000@faithatfirst.org
SUMMARY:Summer Worship Begins
DESCRIPTION:June 11 is the start of our summer worship schedule: \n9am Worship in the  Park:  A casual worship service in Lunt Park\, on the corner of Church Street and Sheridan Road.   Bring a chair or blanket and your family and friends\, and come worship God with under the Oak Trees with the Lake Michigan breeze. Children are invited to participate in “parachute time” led by our Children’s Ministry Director and volunteers in another part of the park. \n10:30am Worship in Tittle Chapel:  Our 10:30 worship service moves to air-conditioned Tittle Chapel during the summer months.
URL:https://faithatfirst.org/event/summer-worship-begins/
END:VEVENT
END:VCALENDAR