BEGIN:VCALENDAR
VERSION:2.0
PRODID:-//First United Methodist Church of Evanston, IL - ECPv6.15.20//NONSGML v1.0//EN
CALSCALE:GREGORIAN
METHOD:PUBLISH
X-WR-CALNAME:First United Methodist Church of Evanston, IL
X-ORIGINAL-URL:https://faithatfirst.org
X-WR-CALDESC:Events for First United Methodist Church of Evanston, IL
REFRESH-INTERVAL;VALUE=DURATION:PT1H
X-Robots-Tag:noindex
X-PUBLISHED-TTL:PT1H
BEGIN:VTIMEZONE
TZID:America/Chicago
BEGIN:DAYLIGHT
TZOFFSETFROM:-0600
TZOFFSETTO:-0500
TZNAME:CDT
DTSTART:20240310T080000
END:DAYLIGHT
BEGIN:STANDARD
TZOFFSETFROM:-0500
TZOFFSETTO:-0600
TZNAME:CST
DTSTART:20241103T070000
END:STANDARD
BEGIN:DAYLIGHT
TZOFFSETFROM:-0600
TZOFFSETTO:-0500
TZNAME:CDT
DTSTART:20250309T080000
END:DAYLIGHT
BEGIN:STANDARD
TZOFFSETFROM:-0500
TZOFFSETTO:-0600
TZNAME:CST
DTSTART:20251102T070000
END:STANDARD
BEGIN:DAYLIGHT
TZOFFSETFROM:-0600
TZOFFSETTO:-0500
TZNAME:CDT
DTSTART:20260308T080000
END:DAYLIGHT
BEGIN:STANDARD
TZOFFSETFROM:-0500
TZOFFSETTO:-0600
TZNAME:CST
DTSTART:20261101T070000
END:STANDARD
END:VTIMEZONE
BEGIN:VEVENT
DTSTART;TZID=America/Chicago:20250903T120000
DTEND;TZID=America/Chicago:20250903T131500
DTSTAMP:20260423T093414
CREATED:20250630T183430Z
LAST-MODIFIED:20250630T184019Z
UID:23558-1756900800-1756905300@faithatfirst.org
SUMMARY:Summer Lunch Bunch
DESCRIPTION:Summer Lunch Bunch is back by popular demand!  BYO lunch and gather with some staff members at Fountain Square on selected Wednesdays over the summer to enjoy togetherness and informal conversation. Whether you are new to First Church this summer or have been at the church for 50 years\, all are welcome!  (Rain location: Church dining room.) \nPlease sign up so we know how many tables we need for the group. \nSept. 3: Sign up here  https://onrealm.org/faithatfirst/PublicRegistrations/Event?linkString=NTU3OGYwNmUtZTczNS00Mzc1LTlkYTYtYjJmOTAxMzhhYTBk
URL:https://faithatfirst.org/event/summer-lunch-bunch-3-5/
LOCATION:Fountain Square
END:VEVENT
END:VCALENDAR