BEGIN:VCALENDAR
VERSION:2.0
PRODID:-//First United Methodist Church of Evanston, IL - ECPv6.15.20//NONSGML v1.0//EN
CALSCALE:GREGORIAN
METHOD:PUBLISH
X-WR-CALNAME:First United Methodist Church of Evanston, IL
X-ORIGINAL-URL:https://faithatfirst.org
X-WR-CALDESC:Events for First United Methodist Church of Evanston, IL
REFRESH-INTERVAL;VALUE=DURATION:PT1H
X-Robots-Tag:noindex
X-PUBLISHED-TTL:PT1H
BEGIN:VTIMEZONE
TZID:UTC
BEGIN:STANDARD
TZOFFSETFROM:+0000
TZOFFSETTO:+0000
TZNAME:UTC
DTSTART:20210101T000000
END:STANDARD
END:VTIMEZONE
BEGIN:VEVENT
DTSTART;TZID=UTC:20221211T090000
DTEND;TZID=UTC:20221211T130000
DTSTAMP:20260423T183328
CREATED:20221105T015751Z
LAST-MODIFIED:20221105T015751Z
UID:15457-1670749200-1670763600@faithatfirst.org
SUMMARY:Star Tree
DESCRIPTION:Star Tree gifts for Y.O.U. Sunday’s during advent. 9:00 am – 1:00 pm. \nContact Bev Otey 773-602-0319. Bevotey@ameritech.net
URL:https://faithatfirst.org/event/star-tree-6/
LOCATION:Fountain Foyer
END:VEVENT
END:VCALENDAR