BEGIN:VCALENDAR
VERSION:2.0
PRODID:-//First United Methodist Church of Evanston, IL - ECPv6.15.20//NONSGML v1.0//EN
CALSCALE:GREGORIAN
METHOD:PUBLISH
X-WR-CALNAME:First United Methodist Church of Evanston, IL
X-ORIGINAL-URL:https://faithatfirst.org
X-WR-CALDESC:Events for First United Methodist Church of Evanston, IL
REFRESH-INTERVAL;VALUE=DURATION:PT1H
X-Robots-Tag:noindex
X-PUBLISHED-TTL:PT1H
BEGIN:VTIMEZONE
TZID:America/Chicago
BEGIN:DAYLIGHT
TZOFFSETFROM:-0600
TZOFFSETTO:-0500
TZNAME:CDT
DTSTART:20230312T080000
END:DAYLIGHT
BEGIN:STANDARD
TZOFFSETFROM:-0500
TZOFFSETTO:-0600
TZNAME:CST
DTSTART:20231105T070000
END:STANDARD
BEGIN:DAYLIGHT
TZOFFSETFROM:-0600
TZOFFSETTO:-0500
TZNAME:CDT
DTSTART:20240310T080000
END:DAYLIGHT
BEGIN:STANDARD
TZOFFSETFROM:-0500
TZOFFSETTO:-0600
TZNAME:CST
DTSTART:20241103T070000
END:STANDARD
BEGIN:DAYLIGHT
TZOFFSETFROM:-0600
TZOFFSETTO:-0500
TZNAME:CDT
DTSTART:20250309T080000
END:DAYLIGHT
BEGIN:STANDARD
TZOFFSETFROM:-0500
TZOFFSETTO:-0600
TZNAME:CST
DTSTART:20251102T070000
END:STANDARD
END:VTIMEZONE
BEGIN:VEVENT
DTSTART;TZID=America/Chicago:20241222T091500
DTEND;TZID=America/Chicago:20241222T101500
DTSTAMP:20260422T090529
CREATED:20241115T161251Z
LAST-MODIFIED:20241220T194205Z
UID:10008100-1734858900-1734862500@faithatfirst.org
SUMMARY:Countering Christian Nationalism
DESCRIPTION:COUNTERING CHRISTIAN NATIONALISM\nThroughout December\, the Social Justice Intersections group is focusing on Countering Christian Nationalism. The Christian Nationalism movement endangers our right to freedom of religion established in the First Amendment. To educate ourselves about this movement in the context of our Christian faith\, the class has chosen to read and discuss Amanda Tyler’s book How to End Christian Nationalism (Broadleaf Books\, 2024). The book is divided into 8 steps for Christians to learn what we can about the movement\, its history\, and impact\, and take actions to counter it. Join us in the Dining Room at 9:15 a.m. to discuss the steps as follows\n· Dec 8 (our second session): Step 3—Denounce Violence and Step 4—Commit to the Separation of Church and State. Leader Tom Butler.\n· Dec. 15: Step 5—Take on Christian Nationalism Close to Home and Step 6—Organize for Change. Leader Rev Richard Mosley\n· Dec. 22: Step 7–Protect Religious Freedom in Public Schools and Step 8—Take Your Place in the Public Square. Leader Linda Boardman\n· Dec. 29: Join together to sing the social justice verses of our traditional carols\nThe book is available in several area libraries and can be purchased in various formats or ordered from your favorite local bookstore.
URL:https://faithatfirst.org/event/social-justice-intersections-countering-christian-nationalism/2024-12-22/
LOCATION:Dining Room
END:VEVENT
END:VCALENDAR