BEGIN:VCALENDAR
VERSION:2.0
PRODID:-//First United Methodist Church of Evanston, IL - ECPv6.15.20//NONSGML v1.0//EN
CALSCALE:GREGORIAN
METHOD:PUBLISH
X-WR-CALNAME:First United Methodist Church of Evanston, IL
X-ORIGINAL-URL:https://faithatfirst.org
X-WR-CALDESC:Events for First United Methodist Church of Evanston, IL
REFRESH-INTERVAL;VALUE=DURATION:PT1H
X-Robots-Tag:noindex
X-PUBLISHED-TTL:PT1H
BEGIN:VTIMEZONE
TZID:UTC
BEGIN:STANDARD
TZOFFSETFROM:+0000
TZOFFSETTO:+0000
TZNAME:UTC
DTSTART:20210101T000000
END:STANDARD
END:VTIMEZONE
BEGIN:VEVENT
DTSTART;TZID=UTC:20221222T130000
DTEND;TZID=UTC:20221222T140000
DTSTAMP:20260420T110416
CREATED:20220810T235740Z
LAST-MODIFIED:20220810T235740Z
UID:14391-1671714000-1671717600@faithatfirst.org
SUMMARY:Progressive Christianity Reading Group
DESCRIPTION:
URL:https://faithatfirst.org/event/progressive-christianity-reading-group-35/
END:VEVENT
END:VCALENDAR