BEGIN:VCALENDAR
VERSION:2.0
PRODID:-//First United Methodist Church of Evanston, IL - ECPv6.15.20//NONSGML v1.0//EN
CALSCALE:GREGORIAN
METHOD:PUBLISH
X-WR-CALNAME:First United Methodist Church of Evanston, IL
X-ORIGINAL-URL:https://faithatfirst.org
X-WR-CALDESC:Events for First United Methodist Church of Evanston, IL
REFRESH-INTERVAL;VALUE=DURATION:PT1H
X-Robots-Tag:noindex
X-PUBLISHED-TTL:PT1H
BEGIN:VTIMEZONE
TZID:UTC
BEGIN:STANDARD
TZOFFSETFROM:+0000
TZOFFSETTO:+0000
TZNAME:UTC
DTSTART:20220101T000000
END:STANDARD
END:VTIMEZONE
BEGIN:VEVENT
DTSTART;TZID=UTC:20231210T103000
DTEND;TZID=UTC:20231210T113000
DTSTAMP:20260423T125203
CREATED:20230616T001153Z
LAST-MODIFIED:20230616T001153Z
UID:17540-1702204200-1702207800@faithatfirst.org
SUMMARY:Pageant Sunday
DESCRIPTION:Children Pre-K through Grade 6 retell the Christmas story in scripture and song during the 10:30am worship service.
URL:https://faithatfirst.org/event/pageant-sunday/
LOCATION:Sanctuary
END:VEVENT
END:VCALENDAR