BEGIN:VCALENDAR
VERSION:2.0
PRODID:-//First United Methodist Church of Evanston, IL - ECPv6.15.20//NONSGML v1.0//EN
CALSCALE:GREGORIAN
METHOD:PUBLISH
X-WR-CALNAME:First United Methodist Church of Evanston, IL
X-ORIGINAL-URL:https://faithatfirst.org
X-WR-CALDESC:Events for First United Methodist Church of Evanston, IL
REFRESH-INTERVAL;VALUE=DURATION:PT1H
X-Robots-Tag:noindex
X-PUBLISHED-TTL:PT1H
BEGIN:VTIMEZONE
TZID:UTC
BEGIN:STANDARD
TZOFFSETFROM:+0000
TZOFFSETTO:+0000
TZNAME:UTC
DTSTART:20220101T000000
END:STANDARD
END:VTIMEZONE
BEGIN:VEVENT
DTSTART;TZID=UTC:20230109T190000
DTEND;TZID=UTC:20230109T201500
DTSTAMP:20260422T155759
CREATED:20230104T032104Z
LAST-MODIFIED:20230104T032104Z
UID:15969-1673290800-1673295300@faithatfirst.org
SUMMARY:Nominations & Leadership Development Committee Meeting
DESCRIPTION:The Nominations & Leadership Development Committee is charged with identifying and equipping church members to serve as leaders for the church’s ministry areas. Rev. Grace Imathiu\, Chair – grace@faithatfirst.com Lynelle Diener\, Vice Chair – lynellediener@gmail.com Cherie Asante Don Baker Carol Barnett\, Church Council Liaison Steve Betzner Jan Chapin Julia Jackson Nancy Pendergrass Mary Taylor-Johnson\, Staff Liaison – mary@faithatfirst.com \nMeets on Zoom.
URL:https://faithatfirst.org/event/nominations-leadership-development-committee-meeting-2/
END:VEVENT
END:VCALENDAR