BEGIN:VCALENDAR
VERSION:2.0
PRODID:-//First United Methodist Church of Evanston, IL - ECPv6.15.20//NONSGML v1.0//EN
CALSCALE:GREGORIAN
METHOD:PUBLISH
X-WR-CALNAME:First United Methodist Church of Evanston, IL
X-ORIGINAL-URL:https://faithatfirst.org
X-WR-CALDESC:Events for First United Methodist Church of Evanston, IL
REFRESH-INTERVAL;VALUE=DURATION:PT1H
X-Robots-Tag:noindex
X-PUBLISHED-TTL:PT1H
BEGIN:VTIMEZONE
TZID:America/Chicago
BEGIN:DAYLIGHT
TZOFFSETFROM:-0600
TZOFFSETTO:-0500
TZNAME:CDT
DTSTART:20230312T080000
END:DAYLIGHT
BEGIN:STANDARD
TZOFFSETFROM:-0500
TZOFFSETTO:-0600
TZNAME:CST
DTSTART:20231105T070000
END:STANDARD
BEGIN:DAYLIGHT
TZOFFSETFROM:-0600
TZOFFSETTO:-0500
TZNAME:CDT
DTSTART:20240310T080000
END:DAYLIGHT
BEGIN:STANDARD
TZOFFSETFROM:-0500
TZOFFSETTO:-0600
TZNAME:CST
DTSTART:20241103T070000
END:STANDARD
BEGIN:DAYLIGHT
TZOFFSETFROM:-0600
TZOFFSETTO:-0500
TZNAME:CDT
DTSTART:20250309T080000
END:DAYLIGHT
BEGIN:STANDARD
TZOFFSETFROM:-0500
TZOFFSETTO:-0600
TZNAME:CST
DTSTART:20251102T070000
END:STANDARD
END:VTIMEZONE
BEGIN:VEVENT
DTSTART;TZID=America/Chicago:20241201T093000
DTEND;TZID=America/Chicago:20241201T101500
DTSTAMP:20260425T075711
CREATED:20241104T191813Z
LAST-MODIFIED:20241104T191813Z
UID:20342-1733045400-1733048100@faithatfirst.org
SUMMARY:Messy Advent!
DESCRIPTION:Advent marks the beginning of the church year as we anticipate the coming of Christ! It is a season of hope\, peace\, joy\, and love\, beginning on the fourth Sunday before Christmas Day. It is also a season of preparation and togetherness. Join us in ringing in the Christian “New Year” on Sunday\, December 1 at “Messy Advent” from 9:30-10:15 a.m. in Great Hall. Featuring meaningful crafts\, festive treats\, and service activities for all ages\, this especially seasonal Messy Church hopes to help your family and our church community receive and rejoice in what is truly the most wonderful time of the year.
URL:https://faithatfirst.org/event/messy-advent/
LOCATION:Great Hall
END:VEVENT
END:VCALENDAR