BEGIN:VCALENDAR
VERSION:2.0
PRODID:-//First United Methodist Church of Evanston, IL - ECPv6.15.20//NONSGML v1.0//EN
CALSCALE:GREGORIAN
METHOD:PUBLISH
X-WR-CALNAME:First United Methodist Church of Evanston, IL
X-ORIGINAL-URL:https://faithatfirst.org
X-WR-CALDESC:Events for First United Methodist Church of Evanston, IL
REFRESH-INTERVAL;VALUE=DURATION:PT1H
X-Robots-Tag:noindex
X-PUBLISHED-TTL:PT1H
BEGIN:VTIMEZONE
TZID:America/Chicago
BEGIN:DAYLIGHT
TZOFFSETFROM:-0600
TZOFFSETTO:-0500
TZNAME:CDT
DTSTART:20230312T080000
END:DAYLIGHT
BEGIN:STANDARD
TZOFFSETFROM:-0500
TZOFFSETTO:-0600
TZNAME:CST
DTSTART:20231105T070000
END:STANDARD
BEGIN:DAYLIGHT
TZOFFSETFROM:-0600
TZOFFSETTO:-0500
TZNAME:CDT
DTSTART:20240310T080000
END:DAYLIGHT
BEGIN:STANDARD
TZOFFSETFROM:-0500
TZOFFSETTO:-0600
TZNAME:CST
DTSTART:20241103T070000
END:STANDARD
BEGIN:DAYLIGHT
TZOFFSETFROM:-0600
TZOFFSETTO:-0500
TZNAME:CDT
DTSTART:20250309T080000
END:DAYLIGHT
BEGIN:STANDARD
TZOFFSETFROM:-0500
TZOFFSETTO:-0600
TZNAME:CST
DTSTART:20251102T070000
END:STANDARD
END:VTIMEZONE
BEGIN:VEVENT
DTSTART;TZID=America/Chicago:20240608T090000
DTEND;TZID=America/Chicago:20240608T153000
DTSTAMP:20260421T174330
CREATED:20240528T200140Z
LAST-MODIFIED:20240528T200140Z
UID:19763-1717837200-1717860600@faithatfirst.org
SUMMARY:Men's Retreat on Bridging the Generational Divide
DESCRIPTION:Men of all ages and life stages are invited to the first men’s retreat in recent First Church history! Our Retreat Leader Rodric Smith will facilitate reflection and conversation around the topic “Bridging the Generational Divide.” Our time together is an opportunity to grow in our relationships with those that we know and don’t yet know. We also expect to explore what separates us and how we can join together\, and to enjoy each other’s company. \n$20 registration fee covers lunch and expenses. Register now. Questions? Please contact Tom Butler at theo1033@comcast.net. \nRetreat Leader Rodric Smith\, PhD studies the role of love in leadership development systems. He retired from the US Air Force as a Lieutenant Colonel after 24 years. During his time in service\, he led undergraduate and graduate leadership development efforts in classroom\, mentoring\, coaching\, facilitation\, consulting\, seminar\, and conference settings at the United States Air Force Academy.
URL:https://faithatfirst.org/event/mens-retreat-on-bridging-the-generational-divide/
END:VEVENT
END:VCALENDAR