BEGIN:VCALENDAR
VERSION:2.0
PRODID:-//First United Methodist Church of Evanston, IL - ECPv6.15.20//NONSGML v1.0//EN
CALSCALE:GREGORIAN
METHOD:PUBLISH
X-WR-CALNAME:First United Methodist Church of Evanston, IL
X-ORIGINAL-URL:https://faithatfirst.org
X-WR-CALDESC:Events for First United Methodist Church of Evanston, IL
REFRESH-INTERVAL;VALUE=DURATION:PT1H
X-Robots-Tag:noindex
X-PUBLISHED-TTL:PT1H
BEGIN:VTIMEZONE
TZID:UTC
BEGIN:STANDARD
TZOFFSETFROM:+0000
TZOFFSETTO:+0000
TZNAME:UTC
DTSTART:20220101T000000
END:STANDARD
END:VTIMEZONE
BEGIN:VEVENT
DTSTART;TZID=UTC:20230504T080000
DTEND;TZID=UTC:20230504T090000
DTSTAMP:20260419T101837
CREATED:20230427T015403Z
LAST-MODIFIED:20230427T015403Z
UID:17135-1683187200-1683190800@faithatfirst.org
SUMMARY:Men's Fellowship
DESCRIPTION:This group meets via Zoom at 8:00 am on the first and\nthird Thursday of each month except in the summer\n(June\, July\, August)\, when meetings occur on the first\nThursday only. When there is a fifth Sunday in the\nmonth\, the group will now meet for breakfast at the\nMerion\, replacing the first Thursday of the next\nmonth
URL:https://faithatfirst.org/event/mens-fellowship-4/
END:VEVENT
END:VCALENDAR