BEGIN:VCALENDAR
VERSION:2.0
PRODID:-//First United Methodist Church of Evanston, IL - ECPv6.15.20//NONSGML v1.0//EN
CALSCALE:GREGORIAN
METHOD:PUBLISH
X-WR-CALNAME:First United Methodist Church of Evanston, IL
X-ORIGINAL-URL:https://faithatfirst.org
X-WR-CALDESC:Events for First United Methodist Church of Evanston, IL
REFRESH-INTERVAL;VALUE=DURATION:PT1H
X-Robots-Tag:noindex
X-PUBLISHED-TTL:PT1H
BEGIN:VTIMEZONE
TZID:UTC
BEGIN:STANDARD
TZOFFSETFROM:+0000
TZOFFSETTO:+0000
TZNAME:UTC
DTSTART:20220101T000000
END:STANDARD
END:VTIMEZONE
BEGIN:VEVENT
DTSTART;TZID=UTC:20230212T120000
DTEND;TZID=UTC:20230212T130000
DTSTAMP:20260420T005957
CREATED:20230212T205243Z
LAST-MODIFIED:20230212T205243Z
UID:16438-1676203200-1676206800@faithatfirst.org
SUMMARY:Lay Visitors
DESCRIPTION:Pastor Grace’s meeting with Lay Visitors
URL:https://faithatfirst.org/event/lay-visitors/
LOCATION:Glenna Hall
END:VEVENT
END:VCALENDAR