BEGIN:VCALENDAR
VERSION:2.0
PRODID:-//First United Methodist Church of Evanston, IL - ECPv6.15.20//NONSGML v1.0//EN
CALSCALE:GREGORIAN
METHOD:PUBLISH
X-WR-CALNAME:First United Methodist Church of Evanston, IL
X-ORIGINAL-URL:https://faithatfirst.org
X-WR-CALDESC:Events for First United Methodist Church of Evanston, IL
REFRESH-INTERVAL;VALUE=DURATION:PT1H
X-Robots-Tag:noindex
X-PUBLISHED-TTL:PT1H
BEGIN:VTIMEZONE
TZID:UTC
BEGIN:STANDARD
TZOFFSETFROM:+0000
TZOFFSETTO:+0000
TZNAME:UTC
DTSTART:20220101T000000
END:STANDARD
END:VTIMEZONE
BEGIN:VEVENT
DTSTART;TZID=UTC:20230217T150000
DTEND;TZID=UTC:20230217T173000
DTSTAMP:20260419T190806
CREATED:20230120T021340Z
LAST-MODIFIED:20230120T021456Z
UID:16294-1676646000-1676655000@faithatfirst.org
SUMMARY:Friends at First Outing to the Baha'i Temple
DESCRIPTION:Friends at First is a group of active adults who are retired or semi-retired\,.  This group gathers 4-5 times a year for various outings and cultural events\, often extending the fun with shared meals and conversation. \nThe next Friends at First outing will be a guided tour of the Baha’i House of Worship in Wilmette on Friday\, February 17 at 3:00 PM. The tour will include an informative video\, insight into the Baha’i faith\, and the architecture of the building. \n\nThe visit is expected to require 2 to 2.5 hours. After the visit at the House of Worship\, you are invited to reconvene for a group dinner at a nearby restaurant.\n\nIf you plan to join us for the tour\, please respond to me at davekoester57@gmail.com. If you plan to also join us for dinner\, also please let me know. A more detailed itinerary will be sent to attendees about one week before the tour.
URL:https://faithatfirst.org/event/friends-at-first-outing-to-the-bahai-temple/
ORGANIZER;CN="Dave Koester":MAILTO:davekoester57@gmail.com
END:VEVENT
END:VCALENDAR