BEGIN:VCALENDAR
VERSION:2.0
PRODID:-//First United Methodist Church of Evanston, IL - ECPv6.15.20//NONSGML v1.0//EN
CALSCALE:GREGORIAN
METHOD:PUBLISH
X-WR-CALNAME:First United Methodist Church of Evanston, IL
X-ORIGINAL-URL:https://faithatfirst.org
X-WR-CALDESC:Events for First United Methodist Church of Evanston, IL
REFRESH-INTERVAL;VALUE=DURATION:PT1H
X-Robots-Tag:noindex
X-PUBLISHED-TTL:PT1H
BEGIN:VTIMEZONE
TZID:America/Chicago
BEGIN:DAYLIGHT
TZOFFSETFROM:-0600
TZOFFSETTO:-0500
TZNAME:CDT
DTSTART:20230312T080000
END:DAYLIGHT
BEGIN:STANDARD
TZOFFSETFROM:-0500
TZOFFSETTO:-0600
TZNAME:CST
DTSTART:20231105T070000
END:STANDARD
BEGIN:DAYLIGHT
TZOFFSETFROM:-0600
TZOFFSETTO:-0500
TZNAME:CDT
DTSTART:20240310T080000
END:DAYLIGHT
BEGIN:STANDARD
TZOFFSETFROM:-0500
TZOFFSETTO:-0600
TZNAME:CST
DTSTART:20241103T070000
END:STANDARD
BEGIN:DAYLIGHT
TZOFFSETFROM:-0600
TZOFFSETTO:-0500
TZNAME:CDT
DTSTART:20250309T080000
END:DAYLIGHT
BEGIN:STANDARD
TZOFFSETFROM:-0500
TZOFFSETTO:-0600
TZNAME:CST
DTSTART:20251102T070000
END:STANDARD
END:VTIMEZONE
BEGIN:VEVENT
DTSTART;TZID=America/Chicago:20240403T180000
DTEND;TZID=America/Chicago:20240403T190000
DTSTAMP:20260420T010602
CREATED:20240319T191639Z
LAST-MODIFIED:20240319T191639Z
UID:19566-1712167200-1712170800@faithatfirst.org
SUMMARY:First Wednesday Potluck
DESCRIPTION:Bring a side or dessert to share and join your church family for good food and fellowship on the first Wednesday of every month! \nPlease register to gain building entry aid in preparations\, noting any dietary restrictions or food allergies in the memo field. Register here: https://onrealm.org/faithatfirst/PublicRegistrations/Event?linkString=YWNkNmY2ODQtMDIyNS00ZjgzLTkzZWQtYjEzMTAxMzEyOGRm
URL:https://faithatfirst.org/event/first-wednesday-potluck-4/
LOCATION:Dining Room
END:VEVENT
END:VCALENDAR