BEGIN:VCALENDAR
VERSION:2.0
PRODID:-//First United Methodist Church of Evanston, IL - ECPv6.15.20//NONSGML v1.0//EN
CALSCALE:GREGORIAN
METHOD:PUBLISH
X-WR-CALNAME:First United Methodist Church of Evanston, IL
X-ORIGINAL-URL:https://faithatfirst.org
X-WR-CALDESC:Events for First United Methodist Church of Evanston, IL
REFRESH-INTERVAL;VALUE=DURATION:PT1H
X-Robots-Tag:noindex
X-PUBLISHED-TTL:PT1H
BEGIN:VTIMEZONE
TZID:UTC
BEGIN:STANDARD
TZOFFSETFROM:+0000
TZOFFSETTO:+0000
TZNAME:UTC
DTSTART:20220101T000000
END:STANDARD
END:VTIMEZONE
BEGIN:VEVENT
DTSTART;TZID=UTC:20230401T090000
DTEND;TZID=UTC:20230401T103000
DTSTAMP:20260419T154109
CREATED:20230119T043303Z
LAST-MODIFIED:20230330T014421Z
UID:16278-1680339600-1680345000@faithatfirst.org
SUMMARY:First Feet Walking Group
DESCRIPTION:This walking group of all paces meets every Saturday\nmorning at 9:00 am at the corner of Church and\nHinman for an hour walk on the lakefront followed by\ncoffee at Peet’s for those interested. No registration\nnecessary\, just come walk with us
URL:https://faithatfirst.org/event/first-feet-walking-group-61/
END:VEVENT
END:VCALENDAR