BEGIN:VCALENDAR
VERSION:2.0
PRODID:-//First United Methodist Church of Evanston, IL - ECPv6.15.20//NONSGML v1.0//EN
CALSCALE:GREGORIAN
METHOD:PUBLISH
X-WR-CALNAME:First United Methodist Church of Evanston, IL
X-ORIGINAL-URL:https://faithatfirst.org
X-WR-CALDESC:Events for First United Methodist Church of Evanston, IL
REFRESH-INTERVAL;VALUE=DURATION:PT1H
X-Robots-Tag:noindex
X-PUBLISHED-TTL:PT1H
BEGIN:VTIMEZONE
TZID:UTC
BEGIN:STANDARD
TZOFFSETFROM:+0000
TZOFFSETTO:+0000
TZNAME:UTC
DTSTART:20220101T000000
END:STANDARD
END:VTIMEZONE
BEGIN:VEVENT
DTSTART;TZID=UTC:20231025T193000
DTEND;TZID=UTC:20231025T201000
DTSTAMP:20260425T234004
CREATED:20230616T002310Z
LAST-MODIFIED:20230616T002310Z
UID:10004028-1698262200-1698264600@faithatfirst.org
SUMMARY:Festival Choir Rehearsal
DESCRIPTION:Adults and high school youth from the congregation and the community rehearse in preparation for the Festival Choir Concert on Nov. 17\, 2023. No audition is require and music is provided at rehearsal.
URL:https://faithatfirst.org/event/festival-choir-rehearsal-14/2023-10-25/
END:VEVENT
END:VCALENDAR