BEGIN:VCALENDAR
VERSION:2.0
PRODID:-//First United Methodist Church of Evanston, IL - ECPv6.15.20//NONSGML v1.0//EN
CALSCALE:GREGORIAN
METHOD:PUBLISH
X-WR-CALNAME:First United Methodist Church of Evanston, IL
X-ORIGINAL-URL:https://faithatfirst.org
X-WR-CALDESC:Events for First United Methodist Church of Evanston, IL
REFRESH-INTERVAL;VALUE=DURATION:PT1H
X-Robots-Tag:noindex
X-PUBLISHED-TTL:PT1H
BEGIN:VTIMEZONE
TZID:UTC
BEGIN:STANDARD
TZOFFSETFROM:+0000
TZOFFSETTO:+0000
TZNAME:UTC
DTSTART:20230101T000000
END:STANDARD
END:VTIMEZONE
BEGIN:VEVENT
DTSTART;TZID=UTC:20240519T091500
DTEND;TZID=UTC:20240519T101500
DTSTAMP:20260423T182408
CREATED:20230907T003158Z
LAST-MODIFIED:20231222T024345Z
UID:10005328-1716110100-1716113700@faithatfirst.org
SUMMARY:Faith & Parenting
DESCRIPTION:Faith & Parenting offers a weekly space for parents of children at all stages to share and reflect on how their personal and familial faith journeys are nurtured and challenged through the vocation of parenting. Brief guided reflections based on scriptures shared in Children’s Sunday school will accompany each session.
URL:https://faithatfirst.org/event/faith-parenting/2024-05-19/
LOCATION:Room 24
END:VEVENT
END:VCALENDAR