BEGIN:VCALENDAR
VERSION:2.0
PRODID:-//First United Methodist Church of Evanston, IL - ECPv6.15.20//NONSGML v1.0//EN
CALSCALE:GREGORIAN
METHOD:PUBLISH
X-WR-CALNAME:First United Methodist Church of Evanston, IL
X-ORIGINAL-URL:https://faithatfirst.org
X-WR-CALDESC:Events for First United Methodist Church of Evanston, IL
REFRESH-INTERVAL;VALUE=DURATION:PT1H
X-Robots-Tag:noindex
X-PUBLISHED-TTL:PT1H
BEGIN:VTIMEZONE
TZID:America/Chicago
BEGIN:DAYLIGHT
TZOFFSETFROM:-0600
TZOFFSETTO:-0500
TZNAME:CDT
DTSTART:20250309T080000
END:DAYLIGHT
BEGIN:STANDARD
TZOFFSETFROM:-0500
TZOFFSETTO:-0600
TZNAME:CST
DTSTART:20251102T070000
END:STANDARD
BEGIN:DAYLIGHT
TZOFFSETFROM:-0600
TZOFFSETTO:-0500
TZNAME:CDT
DTSTART:20260308T080000
END:DAYLIGHT
BEGIN:STANDARD
TZOFFSETFROM:-0500
TZOFFSETTO:-0600
TZNAME:CST
DTSTART:20261101T070000
END:STANDARD
BEGIN:DAYLIGHT
TZOFFSETFROM:-0600
TZOFFSETTO:-0500
TZNAME:CDT
DTSTART:20270314T080000
END:DAYLIGHT
BEGIN:STANDARD
TZOFFSETFROM:-0500
TZOFFSETTO:-0600
TZNAME:CST
DTSTART:20271107T070000
END:STANDARD
END:VTIMEZONE
BEGIN:VEVENT
DTSTART;TZID=America/Chicago:20260810T090000
DTEND;TZID=America/Chicago:20260813T130000
DTSTAMP:20260421T211859
CREATED:20260421T183744Z
LAST-MODIFIED:20260421T183744Z
UID:25149-1786352400-1786626000@faithatfirst.org
SUMMARY:Faith in the Wild VBS
DESCRIPTION:“Faith in the Wild” is an original\, environmentally-focused Vacation Bible School program that aims to inspire lifelong connections to the natural world and each other as agents of change in God’s unending story of creation. In partnership with local community organizations\, campers engage in daily acts of stewardship\, play\, and prayerful reflection while exploring creation inside and out.\n\nLearn more and register by July 1 for “early bird” discount!\nhttps://onrealm.org/faithatfirst/PublicRegistrations/Event?linkString=OGMwMTg5NjktYWEzMS00N2JiLWEzN2ItYjQxZTAxMmM1Mjlm
URL:https://faithatfirst.org/event/faith-in-the-wild-vbs/
LOCATION:Kitchen ;Memorial Garden ;Hinman Lawn
END:VEVENT
END:VCALENDAR