BEGIN:VCALENDAR
VERSION:2.0
PRODID:-//First United Methodist Church of Evanston, IL - ECPv6.15.20//NONSGML v1.0//EN
CALSCALE:GREGORIAN
METHOD:PUBLISH
X-WR-CALNAME:First United Methodist Church of Evanston, IL
X-ORIGINAL-URL:https://faithatfirst.org
X-WR-CALDESC:Events for First United Methodist Church of Evanston, IL
REFRESH-INTERVAL;VALUE=DURATION:PT1H
X-Robots-Tag:noindex
X-PUBLISHED-TTL:PT1H
BEGIN:VTIMEZONE
TZID:America/Chicago
BEGIN:DAYLIGHT
TZOFFSETFROM:-0600
TZOFFSETTO:-0500
TZNAME:CDT
DTSTART:20230312T080000
END:DAYLIGHT
BEGIN:STANDARD
TZOFFSETFROM:-0500
TZOFFSETTO:-0600
TZNAME:CST
DTSTART:20231105T070000
END:STANDARD
BEGIN:DAYLIGHT
TZOFFSETFROM:-0600
TZOFFSETTO:-0500
TZNAME:CDT
DTSTART:20240310T080000
END:DAYLIGHT
BEGIN:STANDARD
TZOFFSETFROM:-0500
TZOFFSETTO:-0600
TZNAME:CST
DTSTART:20241103T070000
END:STANDARD
BEGIN:DAYLIGHT
TZOFFSETFROM:-0600
TZOFFSETTO:-0500
TZNAME:CDT
DTSTART:20250309T080000
END:DAYLIGHT
BEGIN:STANDARD
TZOFFSETFROM:-0500
TZOFFSETTO:-0600
TZNAME:CST
DTSTART:20251102T070000
END:STANDARD
END:VTIMEZONE
BEGIN:VEVENT
DTSTART;TZID=America/Chicago:20241208T091500
DTEND;TZID=America/Chicago:20241208T101500
DTSTAMP:20260423T014101
CREATED:20240922T201952Z
LAST-MODIFIED:20240930T164109Z
UID:10007335-1733649300-1733652900@faithatfirst.org
SUMMARY:Faith in Action Virtual Adult Education Class
DESCRIPTION:Meets monthly on the second Sunday\, September-December. \nUsing Compass podcasts produced by the UMC\, the class will walk through spiritual practices and meditations and explore conversations with special guests about who they are encountering spirituality in surprising ways. The goal is to transform ourselves through listening\, learning and asking the questions\, “How is it with your soul?” \nParticipants are asked to listen to an assigned podcast (approximately 40 mins) prior to each class. For further information and the Zoom link\, contact facilitators Mary Cauble\, mcauble50@gmail.com\, and Bonny Roth\, bsrcom@yahoo.com.
URL:https://faithatfirst.org/event/faith-in-action-virtual-adult-education-class/2024-12-08/
END:VEVENT
END:VCALENDAR