BEGIN:VCALENDAR
VERSION:2.0
PRODID:-//First United Methodist Church of Evanston, IL - ECPv6.15.20//NONSGML v1.0//EN
CALSCALE:GREGORIAN
METHOD:PUBLISH
X-WR-CALNAME:First United Methodist Church of Evanston, IL
X-ORIGINAL-URL:https://faithatfirst.org
X-WR-CALDESC:Events for First United Methodist Church of Evanston, IL
REFRESH-INTERVAL;VALUE=DURATION:PT1H
X-Robots-Tag:noindex
X-PUBLISHED-TTL:PT1H
BEGIN:VTIMEZONE
TZID:UTC
BEGIN:STANDARD
TZOFFSETFROM:+0000
TZOFFSETTO:+0000
TZNAME:UTC
DTSTART:20220101T000000
END:STANDARD
END:VTIMEZONE
BEGIN:VEVENT
DTSTART;TZID=UTC:20230512T093000
DTEND;TZID=UTC:20230512T103000
DTSTAMP:20260419T174018
CREATED:20230426T201602Z
LAST-MODIFIED:20230426T201602Z
UID:17109-1683883800-1683887400@faithatfirst.org
SUMMARY:Council Member Outreach
DESCRIPTION:
URL:https://faithatfirst.org/event/council-member-outreach/
LOCATION:Dining Room
END:VEVENT
END:VCALENDAR