BEGIN:VCALENDAR
VERSION:2.0
PRODID:-//First United Methodist Church of Evanston, IL - ECPv6.15.20//NONSGML v1.0//EN
CALSCALE:GREGORIAN
METHOD:PUBLISH
X-WR-CALNAME:First United Methodist Church of Evanston, IL
X-ORIGINAL-URL:https://faithatfirst.org
X-WR-CALDESC:Events for First United Methodist Church of Evanston, IL
REFRESH-INTERVAL;VALUE=DURATION:PT1H
X-Robots-Tag:noindex
X-PUBLISHED-TTL:PT1H
BEGIN:VTIMEZONE
TZID:America/Chicago
BEGIN:DAYLIGHT
TZOFFSETFROM:-0600
TZOFFSETTO:-0500
TZNAME:CDT
DTSTART:20240310T080000
END:DAYLIGHT
BEGIN:STANDARD
TZOFFSETFROM:-0500
TZOFFSETTO:-0600
TZNAME:CST
DTSTART:20241103T070000
END:STANDARD
BEGIN:DAYLIGHT
TZOFFSETFROM:-0600
TZOFFSETTO:-0500
TZNAME:CDT
DTSTART:20250309T080000
END:DAYLIGHT
BEGIN:STANDARD
TZOFFSETFROM:-0500
TZOFFSETTO:-0600
TZNAME:CST
DTSTART:20251102T070000
END:STANDARD
BEGIN:DAYLIGHT
TZOFFSETFROM:-0600
TZOFFSETTO:-0500
TZNAME:CDT
DTSTART:20260308T080000
END:DAYLIGHT
BEGIN:STANDARD
TZOFFSETFROM:-0500
TZOFFSETTO:-0600
TZNAME:CST
DTSTART:20261101T070000
END:STANDARD
END:VTIMEZONE
BEGIN:VEVENT
DTSTART;TZID=America/Chicago:20251208T103000
DTEND;TZID=America/Chicago:20251208T113000
DTSTAMP:20260421T002024
CREATED:20251102T155428Z
LAST-MODIFIED:20251102T155428Z
UID:10011096-1765189800-1765193400@faithatfirst.org
SUMMARY:Contemplative Practices Group
DESCRIPTION:Advent Contemplative Practices Group on Zoom: \nIn the 1960s\, the well-known Trappist monk\, Thomas Merton\, brought contemplative practice out of the cloister into the realm of ordinary people. \nIn the 1970s\, Father Thomas Keating developed a form of contemplative practice called centering prayer; and John Main\, a Benedictine monk\, advocated a practice of contemplative meditation. We will be utilizing the small group format for contemplative practice outlined in the book “Where Two or Three Are Gathered” by Rev. Daniel Prechtel with an emphasis on lectio (reading)\, meditatio (meditation)\, oratio (prayer)\, and contemplatio (contemplation). \nThe contemplative practice group will meet on Mondays\, December 1st – December 22nd during Advent from 10:30am-11:30am on Zoom and will be facilitated by Glynis Doyle. \nIf you have any questions\, would like to receive an outline of the format of the class\, or would like to register\, you can contact Glynis at dleedoyle@gmail.com.
URL:https://faithatfirst.org/event/contemplative-practices-group-2/2025-12-08/
END:VEVENT
END:VCALENDAR