BEGIN:VCALENDAR
VERSION:2.0
PRODID:-//First United Methodist Church of Evanston, IL - ECPv6.15.20//NONSGML v1.0//EN
CALSCALE:GREGORIAN
METHOD:PUBLISH
X-WR-CALNAME:First United Methodist Church of Evanston, IL
X-ORIGINAL-URL:https://faithatfirst.org
X-WR-CALDESC:Events for First United Methodist Church of Evanston, IL
REFRESH-INTERVAL;VALUE=DURATION:PT1H
X-Robots-Tag:noindex
X-PUBLISHED-TTL:PT1H
BEGIN:VTIMEZONE
TZID:UTC
BEGIN:STANDARD
TZOFFSETFROM:+0000
TZOFFSETTO:+0000
TZNAME:UTC
DTSTART:20220101T000000
END:STANDARD
END:VTIMEZONE
BEGIN:VEVENT
DTSTART;TZID=UTC:20230328T203000
DTEND;TZID=UTC:20230328T210000
DTSTAMP:20260420T141626
CREATED:20230322T200944Z
LAST-MODIFIED:20230322T200944Z
UID:16825-1680035400-1680037200@faithatfirst.org
SUMMARY:Compline Prayer Service
DESCRIPTION:The Faith Formation Committee is extending its Tuesday evening ZOOM Compline services through March 28. The 30-minute ZOOM service starts at 8:30 p.m. and is a time of peacefulness and reflection in anticipation of the end of the day. The extension offers another opportunity for prayer and spiritual renewal during Lent. The service is open to all\, members and visitors alike.
URL:https://faithatfirst.org/event/compline-prayer-service/
END:VEVENT
END:VCALENDAR